| Back to Multiple platform build/check report for BioC 3.12 |
|
This page was generated on 2021-05-06 12:32:17 -0400 (Thu, 06 May 2021).
|
To the developers/maintainers of the MiRaGE package: Please make sure to use the following settings in order to reproduce any error or warning you see on this page. |
| Package 1107/1974 | Hostname | OS / Arch | INSTALL | BUILD | CHECK | BUILD BIN | ||||||||
| MiRaGE 1.32.0 (landing page) Y-h. Taguchi
| malbec1 | Linux (Ubuntu 18.04.5 LTS) / x86_64 | OK | OK | OK | |||||||||
| tokay1 | Windows Server 2012 R2 Standard / x64 | OK | OK | OK | OK | |||||||||
| merida1 | macOS 10.14.6 Mojave / x86_64 | OK | OK | OK | OK | |||||||||
| Package: MiRaGE |
| Version: 1.32.0 |
| Command: rm -rf MiRaGE.buildbin-libdir && mkdir MiRaGE.buildbin-libdir && C:\Users\biocbuild\bbs-3.12-bioc\R\bin\R.exe CMD INSTALL --merge-multiarch --build --library=MiRaGE.buildbin-libdir MiRaGE_1.32.0.tar.gz |
| StartedAt: 2021-05-06 09:32:22 -0400 (Thu, 06 May 2021) |
| EndedAt: 2021-05-06 09:32:57 -0400 (Thu, 06 May 2021) |
| EllapsedTime: 34.9 seconds |
| RetCode: 0 |
| Status: OK |
| PackageFile: MiRaGE_1.32.0.zip |
| PackageFileSize: 1.223 MiB |
##############################################################################
##############################################################################
###
### Running command:
###
### rm -rf MiRaGE.buildbin-libdir && mkdir MiRaGE.buildbin-libdir && C:\Users\biocbuild\bbs-3.12-bioc\R\bin\R.exe CMD INSTALL --merge-multiarch --build --library=MiRaGE.buildbin-libdir MiRaGE_1.32.0.tar.gz
###
##############################################################################
##############################################################################
install for i386
* installing *source* package 'MiRaGE' ...
** using staged installation
** R
** data
** inst
** byte-compile and prepare package for lazy loading
** help
*** installing help indices
converting help for package 'MiRaGE'
finding HTML links ... done
HS_conv_id html
MM_conv_id html
MiRaGE html
TBL2_HS_gen html
TBL2_MM_gen html
gene_exp html
getMiRaGEData html
id_conv_gen html
** building package indices
** installing vignettes
** testing if installed package can be loaded from temporary location
** testing if installed package can be loaded from final location
** testing if installed package keeps a record of temporary installation path
install for x64
* installing *source* package 'MiRaGE' ...
** testing if installed package can be loaded
* MD5 sums
packaged installation of 'MiRaGE' as MiRaGE_1.32.0.zip
* DONE (MiRaGE)