| Back to Multiple platform build/check report for BioC 3.12 |
|
This page was generated on 2021-05-06 12:32:14 -0400 (Thu, 06 May 2021).
|
To the developers/maintainers of the MetID package: Please make sure to use the following settings in order to reproduce any error or warning you see on this page. |
| Package 1085/1974 | Hostname | OS / Arch | INSTALL | BUILD | CHECK | BUILD BIN | ||||||||
| MetID 1.8.0 (landing page) Zhenzhi Li
| malbec1 | Linux (Ubuntu 18.04.5 LTS) / x86_64 | OK | OK | OK | |||||||||
| tokay1 | Windows Server 2012 R2 Standard / x64 | OK | OK | OK | OK | |||||||||
| merida1 | macOS 10.14.6 Mojave / x86_64 | OK | OK | OK | OK | |||||||||
| Package: MetID |
| Version: 1.8.0 |
| Command: rm -rf MetID.buildbin-libdir && mkdir MetID.buildbin-libdir && C:\Users\biocbuild\bbs-3.12-bioc\R\bin\R.exe CMD INSTALL --merge-multiarch --build --library=MetID.buildbin-libdir MetID_1.8.0.tar.gz |
| StartedAt: 2021-05-06 09:31:03 -0400 (Thu, 06 May 2021) |
| EndedAt: 2021-05-06 09:31:26 -0400 (Thu, 06 May 2021) |
| EllapsedTime: 22.8 seconds |
| RetCode: 0 |
| Status: OK |
| PackageFile: MetID_1.8.0.zip |
| PackageFileSize: 1.869 MiB |
##############################################################################
##############################################################################
###
### Running command:
###
### rm -rf MetID.buildbin-libdir && mkdir MetID.buildbin-libdir && C:\Users\biocbuild\bbs-3.12-bioc\R\bin\R.exe CMD INSTALL --merge-multiarch --build --library=MetID.buildbin-libdir MetID_1.8.0.tar.gz
###
##############################################################################
##############################################################################
install for i386
* installing *source* package 'MetID' ...
** using staged installation
** R
** data
*** moving datasets to lazyload DB
** inst
** byte-compile and prepare package for lazy loading
** help
*** installing help indices
converting help for package 'MetID'
finding HTML links ... done
InchiKey html
MetID html
demo1 html
demo2 html
get_cleaned html
get_kegg_network html
get_scores_for_LC_MS html
get_tani_network html
kegg_network html
** building package indices
** installing vignettes
** testing if installed package can be loaded from temporary location
** testing if installed package can be loaded from final location
** testing if installed package keeps a record of temporary installation path
install for x64
* installing *source* package 'MetID' ...
** testing if installed package can be loaded
* MD5 sums
packaged installation of 'MetID' as MetID_1.8.0.zip
* DONE (MetID)