| Back to Multiple platform build/check report for BioC 3.12 |
|
This page was generated on 2021-05-06 12:28:20 -0400 (Thu, 06 May 2021).
|
To the developers/maintainers of the MSstatsTMT package: Please make sure to use the following settings in order to reproduce any error or warning you see on this page. |
| Package 1171/1974 | Hostname | OS / Arch | INSTALL | BUILD | CHECK | BUILD BIN | ||||||||
| MSstatsTMT 1.8.2 (landing page) Ting Huang
| malbec1 | Linux (Ubuntu 18.04.5 LTS) / x86_64 | OK | OK | OK | |||||||||
| tokay1 | Windows Server 2012 R2 Standard / x64 | OK | OK | OK | OK | |||||||||
| merida1 | macOS 10.14.6 Mojave / x86_64 | OK | OK | OK | OK | |||||||||
| Package: MSstatsTMT |
| Version: 1.8.2 |
| Command: /home/biocbuild/bbs-3.12-bioc/R/bin/R CMD check --install=check:MSstatsTMT.install-out.txt --library=/home/biocbuild/bbs-3.12-bioc/R/library --no-vignettes --timings MSstatsTMT_1.8.2.tar.gz |
| StartedAt: 2021-05-06 03:48:28 -0400 (Thu, 06 May 2021) |
| EndedAt: 2021-05-06 03:51:28 -0400 (Thu, 06 May 2021) |
| EllapsedTime: 179.3 seconds |
| RetCode: 0 |
| Status: OK |
| CheckDir: MSstatsTMT.Rcheck |
| Warnings: 0 |
##############################################################################
##############################################################################
###
### Running command:
###
### /home/biocbuild/bbs-3.12-bioc/R/bin/R CMD check --install=check:MSstatsTMT.install-out.txt --library=/home/biocbuild/bbs-3.12-bioc/R/library --no-vignettes --timings MSstatsTMT_1.8.2.tar.gz
###
##############################################################################
##############################################################################
* using log directory ‘/home/biocbuild/bbs-3.12-bioc/meat/MSstatsTMT.Rcheck’
* using R version 4.0.5 (2021-03-31)
* using platform: x86_64-pc-linux-gnu (64-bit)
* using session charset: UTF-8
* using option ‘--no-vignettes’
* checking for file ‘MSstatsTMT/DESCRIPTION’ ... OK
* this is package ‘MSstatsTMT’ version ‘1.8.2’
* package encoding: UTF-8
* checking package namespace information ... OK
* checking package dependencies ... OK
* checking if this is a source package ... OK
* checking if there is a namespace ... OK
* checking for hidden files and directories ... OK
* checking for portable file names ... OK
* checking for sufficient/correct file permissions ... OK
* checking whether package ‘MSstatsTMT’ can be installed ... OK
* checking installed package size ... OK
* checking package directory ... OK
* checking ‘build’ directory ... OK
* checking DESCRIPTION meta-information ... OK
* checking top-level files ... OK
* checking for left-over files ... OK
* checking index information ... OK
* checking package subdirectories ... OK
* checking R files for non-ASCII characters ... OK
* checking R files for syntax errors ... OK
* checking whether the package can be loaded ... OK
* checking whether the package can be loaded with stated dependencies ... OK
* checking whether the package can be unloaded cleanly ... OK
* checking whether the namespace can be loaded with stated dependencies ... OK
* checking whether the namespace can be unloaded cleanly ... OK
* checking dependencies in R code ... OK
* checking S3 generic/method consistency ... OK
* checking replacement functions ... OK
* checking foreign function calls ... OK
* checking R code for possible problems ... OK
* checking Rd files ... OK
* checking Rd metadata ... OK
* checking Rd cross-references ... OK
* checking for missing documentation entries ... OK
* checking for code/documentation mismatches ... OK
* checking Rd \usage sections ... OK
* checking Rd contents ... OK
* checking for unstated dependencies in examples ... OK
* checking contents of ‘data’ directory ... OK
* checking data for non-ASCII characters ... OK
* checking data for ASCII and uncompressed saves ... OK
* checking files in ‘vignettes’ ... OK
* checking examples ... OK
Examples with CPU (user + system) or elapsed time > 5s
user system elapsed
dataProcessPlotsTMT 45.516 0.128 45.742
groupComparisonTMT 13.016 0.088 13.095
proteinSummarization 7.276 0.084 7.365
* checking for unstated dependencies in ‘tests’ ... OK
* checking tests ...
Running ‘testthat.R’
OK
* checking for unstated dependencies in vignettes ... OK
* checking package vignettes in ‘inst/doc’ ... OK
* checking running R code from vignettes ... SKIPPED
* checking re-building of vignette outputs ... SKIPPED
* checking PDF version of manual ... OK
* DONE
Status: OK
MSstatsTMT.Rcheck/00install.out
############################################################################## ############################################################################## ### ### Running command: ### ### /home/biocbuild/bbs-3.12-bioc/R/bin/R CMD INSTALL MSstatsTMT ### ############################################################################## ############################################################################## * installing to library ‘/home/biocbuild/bbs-3.12-bioc/R/library’ * installing *source* package ‘MSstatsTMT’ ... ** using staged installation ** R ** data *** moving datasets to lazyload DB ** inst ** byte-compile and prepare package for lazy loading ** help *** installing help indices ** building package indices ** installing vignettes ** testing if installed package can be loaded from temporary location ** testing if installed package can be loaded from final location ** testing if installed package keeps a record of temporary installation path * DONE (MSstatsTMT)
MSstatsTMT.Rcheck/tests/testthat.Rout
R version 4.0.5 (2021-03-31) -- "Shake and Throw"
Copyright (C) 2021 The R Foundation for Statistical Computing
Platform: x86_64-pc-linux-gnu (64-bit)
R is free software and comes with ABSOLUTELY NO WARRANTY.
You are welcome to redistribute it under certain conditions.
Type 'license()' or 'licence()' for distribution details.
R is a collaborative project with many contributors.
Type 'contributors()' for more information and
'citation()' on how to cite R or R packages in publications.
Type 'demo()' for some demos, 'help()' for on-line help, or
'help.start()' for an HTML browser interface to help.
Type 'q()' to quit R.
> library(testthat)
> library(MSstatsTMT)
>
> test_check("MSstatsTMT")
|
| | 0%
|
|======= | 10%
|
|============== | 20%
|
|===================== | 30%
|
|============================ | 40%
|
|=================================== | 50%
|
|========================================== | 60%
|
|================================================= | 70%
|
|======================================================== | 80%
|
|=============================================================== | 90%
|
|======================================================================| 100%
|
| | 0%
|
|======= | 10%
|
|============== | 20%
|
|===================== | 30%
|
|============================ | 40%
|
|=================================== | 50%
|
|========================================== | 60%
|
|================================================= | 70%
|
|======================================================== | 80%
|
|=============================================================== | 90%
|
|======================================================================| 100%
|
| | 0%
|
|======= | 10%
|
|============== | 20%
|
|===================== | 30%
|
|============================ | 40%
|
|=================================== | 50%
|
|========================================== | 60%
|
|================================================= | 70%
|
|======================================================== | 80%
|
|=============================================================== | 90%
|
|======================================================================| 100%
|
| | 0%
|
| | 0%
|
|======= | 10%
|
|============== | 20%
|
|===================== | 30%
|
|============================ | 40%
|
|=================================== | 50%
|
|========================================== | 60%
|
|================================================= | 70%
|
|======================================================== | 80%
|
|=============================================================== | 90%
|
|======================================================================| 100%
Summary of Features :
count
# of Protein 10
# of Peptides/Protein 4-29
# of Transitions/Peptide 1-1
Summary of Samples :
0.125 0.5 0.667 1 Norm
# of MS runs 2 2 2 2 2
# of Biological Replicates 1 1 1 1 1
# of Technical Replicates 2 2 2 2 2
|
| | 0%
|
|======= | 10%
|
|============== | 20%
|
|===================== | 30%
|
|============================ | 40%
|
|=================================== | 50%
|
|========================================== | 60%
|
|================================================= | 70%
|
|======================================================== | 80%
|
|=============================================================== | 90%
|
|======================================================================| 100%
Summary of Features :
count
# of Protein 10
# of Peptides/Protein 3-33
# of Transitions/Peptide 1-1
Summary of Samples :
0.125 0.5 0.667 1 Norm
# of MS runs 2 2 2 2 2
# of Biological Replicates 1 1 1 1 1
# of Technical Replicates 2 2 2 2 2
|
| | 0%
|
|======= | 10%
|
|============== | 20%
|
|===================== | 30%
|
|============================ | 40%
|
|=================================== | 50%
|
|========================================== | 60%
|
|================================================= | 70%
|
|======================================================== | 80%
|
|=============================================================== | 90%
|
|======================================================================| 100%
Summary of Features :
count
# of Protein 10
# of Peptides/Protein 3-29
# of Transitions/Peptide 1-1
Summary of Samples :
0.125 0.5 0.667 1 Norm
# of MS runs 2 2 2 2 2
# of Biological Replicates 1 1 1 1 1
# of Technical Replicates 2 2 2 2 2
|
| | 0%
|
|======= | 10%
|
|============== | 20%
|
|===================== | 30%
|
|============================ | 40%
|
|=================================== | 50%
|
|========================================== | 60%
|
|================================================= | 70%
|
|======================================================== | 80%
|
|=============================================================== | 90%
|
|======================================================================| 100%
Summary of Features :
count
# of Protein 10
# of Peptides/Protein 1-28
# of Transitions/Peptide 1-1
Summary of Samples :
0.125 0.5 0.667 1 Norm
# of MS runs 2 2 2 2 2
# of Biological Replicates 1 1 1 1 1
# of Technical Replicates 2 2 2 2 2
|
| | 0%
|
|======= | 10%
|
|============== | 20%
|
|===================== | 30%
|
|============================ | 40%
|
|=================================== | 50%
|
|========================================== | 60%
|
|================================================= | 70%
|
|======================================================== | 80%
|
|=============================================================== | 90%
|
|======================================================================| 100%
Summary of Features :
count
# of Protein 10
# of Peptides/Protein 1-30
# of Transitions/Peptide 1-1
Summary of Samples :
0.125 0.5 0.667 1 Norm
# of MS runs 2 2 2 2 2
# of Biological Replicates 1 1 1 1 1
# of Technical Replicates 2 2 2 2 2
|
| | 0%
|
|======= | 10%
|
|============== | 20%
|
|===================== | 30%
|
|============================ | 40%
|
|=================================== | 50%
|
|========================================== | 60%
|
|================================================= | 70%
|
|======================================================== | 80%
|
|=============================================================== | 90%
|
|======================================================================| 100%
Summary of Features :
count
# of Protein 10
# of Peptides/Protein 2-30
# of Transitions/Peptide 1-1
Summary of Samples :
0.125 0.5 0.667 1 Norm
# of MS runs 2 2 2 2 2
# of Biological Replicates 1 1 1 1 1
# of Technical Replicates 2 2 2 2 2
|
| | 0%
|
|======= | 10%
|
|============== | 20%
|
|===================== | 30%
|
|============================ | 40%
|
|=================================== | 50%
|
|========================================== | 60%
|
|================================================= | 70%
|
|======================================================== | 80%
|
|=============================================================== | 90%
|
|======================================================================| 100%
Summary of Features :
count
# of Protein 10
# of Peptides/Protein 4-31
# of Transitions/Peptide 1-1
Summary of Samples :
0.125 0.5 0.667 1 Norm
# of MS runs 2 2 2 2 2
# of Biological Replicates 1 1 1 1 1
# of Technical Replicates 2 2 2 2 2
|
| | 0%
|
|======= | 10%
|
|============== | 20%
|
|===================== | 30%
|
|============================ | 40%
|
|=================================== | 50%
|
|========================================== | 60%
|
|================================================= | 70%
|
|======================================================== | 80%
|
|=============================================================== | 90%
|
|======================================================================| 100%
Summary of Features :
count
# of Protein 10
# of Peptides/Protein 3-30
# of Transitions/Peptide 1-1
Summary of Samples :
0.125 0.5 0.667 1 Norm
# of MS runs 2 2 2 2 2
# of Biological Replicates 1 1 1 1 1
# of Technical Replicates 2 2 2 2 2
|
| | 0%
|
|======= | 10%
|
|============== | 20%
|
|===================== | 30%
|
|============================ | 40%
|
|=================================== | 50%
|
|========================================== | 60%
|
|================================================= | 70%
|
|======================================================== | 80%
|
|=============================================================== | 90%
|
|======================================================================| 100%
Summary of Features :
count
# of Protein 10
# of Peptides/Protein 5-30
# of Transitions/Peptide 1-1
Summary of Samples :
0.125 0.5 0.667 1 Norm
# of MS runs 2 2 2 2 2
# of Biological Replicates 1 1 1 1 1
# of Technical Replicates 2 2 2 2 2
|
| | 0%
|
|======= | 10%
|
|============== | 20%
|
|===================== | 30%
|
|============================ | 40%
|
|=================================== | 50%
|
|========================================== | 60%
|
|================================================= | 70%
|
|======================================================== | 80%
|
|=============================================================== | 90%
|
|======================================================================| 100%
Summary of Features :
count
# of Protein 10
# of Peptides/Protein 3-31
# of Transitions/Peptide 1-1
Summary of Samples :
0.125 0.5 0.667 1 Norm
# of MS runs 2 2 2 2 2
# of Biological Replicates 1 1 1 1 1
# of Technical Replicates 2 2 2 2 2
|
| | 0%
|
|======= | 10%
|
|============== | 20%
|
|===================== | 30%
|
|============================ | 40%
|
|=================================== | 50%
|
|========================================== | 60%
|
|================================================= | 70%
|
|======================================================== | 80%
|
|=============================================================== | 90%
|
|======================================================================| 100%
Summary of Features :
count
# of Protein 10
# of Peptides/Protein 3-31
# of Transitions/Peptide 1-1
Summary of Samples :
0.125 0.5 0.667 1 Norm
# of MS runs 2 2 2 2 2
# of Biological Replicates 1 1 1 1 1
# of Technical Replicates 2 2 2 2 2
|
| | 0%
|
|======= | 10%
|
|============== | 20%
|
|===================== | 30%
|
|============================ | 40%
|
|=================================== | 50%
|
|========================================== | 60%
|
|================================================= | 70%
|
|======================================================== | 80%
|
|=============================================================== | 90%
|
|======================================================================| 100%
Summary of Features :
count
# of Protein 10
# of Peptides/Protein 1-31
# of Transitions/Peptide 1-1
Summary of Samples :
0.125 0.5 0.667 1 Norm
# of MS runs 2 2 2 2 2
# of Biological Replicates 1 1 1 1 1
# of Technical Replicates 2 2 2 2 2
|
| | 0%
|
|======= | 10%
|
|============== | 20%
|
|===================== | 30%
|
|============================ | 40%
|
|=================================== | 50%
|
|========================================== | 60%
|
|================================================= | 70%
|
|======================================================== | 80%
|
|=============================================================== | 90%
|
|======================================================================| 100%
Summary of Features :
count
# of Protein 10
# of Peptides/Protein 3-34
# of Transitions/Peptide 1-1
Summary of Samples :
0.125 0.5 0.667 1 Norm
# of MS runs 2 2 2 2 2
# of Biological Replicates 1 1 1 1 1
# of Technical Replicates 2 2 2 2 2
|
| | 0%
|
|======= | 10%
|
|============== | 20%
|
|===================== | 30%
|
|============================ | 40%
|
|=================================== | 50%
|
|========================================== | 60%
|
|================================================= | 70%
|
|======================================================== | 80%
|
|=============================================================== | 90%
|
|======================================================================| 100%
Summary of Features :
count
# of Protein 10
# of Peptides/Protein 2-30
# of Transitions/Peptide 1-1
Summary of Samples :
0.125 0.5 0.667 1 Norm
# of MS runs 2 2 2 2 2
# of Biological Replicates 1 1 1 1 1
# of Technical Replicates 2 2 2 2 2
|
| | 0%
|
|======= | 10%
|
|============== | 20%
|
|===================== | 30%
|
|============================ | 40%
|
|=================================== | 50%
|
|========================================== | 60%
|
|================================================= | 70%
|
|======================================================== | 80%
|
|=============================================================== | 90%
|
|======================================================================| 100%
Summary of Features :
count
# of Protein 10
# of Peptides/Protein 5-32
# of Transitions/Peptide 1-1
Summary of Samples :
0.125 0.5 0.667 1 Norm
# of MS runs 2 2 2 2 2
# of Biological Replicates 1 1 1 1 1
# of Technical Replicates 2 2 2 2 2
|
| | 0%
|
|======= | 10%
|
|============== | 20%
|
|===================== | 30%
|
|============================ | 40%
|
|=================================== | 50%
|
|========================================== | 60%
|
|================================================= | 70%
|
|======================================================== | 80%
|
|=============================================================== | 90%
|
|======================================================================| 100%
[ FAIL 0 | WARN 0 | SKIP 0 | PASS 33 ]
>
> proc.time()
user system elapsed
18.932 0.284 19.237
MSstatsTMT.Rcheck/MSstatsTMT-Ex.timings
| name | user | system | elapsed | |
| MaxQtoMSstatsTMTFormat | 0.412 | 0.012 | 0.424 | |
| OpenMStoMSstatsTMTFormat | 0.428 | 0.004 | 0.433 | |
| PDtoMSstatsTMTFormat | 1.688 | 0.008 | 1.695 | |
| SpectroMinetoMSstatsTMTFormat | 0.564 | 0.008 | 0.574 | |
| annotation.mine | 0.004 | 0.000 | 0.002 | |
| annotation.mq | 0.000 | 0.000 | 0.002 | |
| annotation.pd | 0.000 | 0.000 | 0.002 | |
| dataProcessPlotsTMT | 45.516 | 0.128 | 45.742 | |
| evidence | 0.012 | 0.004 | 0.016 | |
| groupComparisonTMT | 13.016 | 0.088 | 13.095 | |
| input.pd | 0.012 | 0.000 | 0.012 | |
| proteinGroups | 0.124 | 0.012 | 0.133 | |
| proteinSummarization | 7.276 | 0.084 | 7.365 | |
| quant.pd.msstats | 0.004 | 0.000 | 0.005 | |
| raw.mine | 0.012 | 0.000 | 0.010 | |
| raw.om | 0.004 | 0.000 | 0.006 | |
| raw.pd | 0.008 | 0.000 | 0.010 | |
| test.pairwise | 0.004 | 0.000 | 0.004 | |