| Back to Multiple platform build/check report for BioC 3.12 |
|
This page was generated on 2021-05-06 12:32:19 -0400 (Thu, 06 May 2021).
|
To the developers/maintainers of the MMUPHin package: Please make sure to use the following settings in order to reproduce any error or warning you see on this page. |
| Package 1129/1974 | Hostname | OS / Arch | INSTALL | BUILD | CHECK | BUILD BIN | ||||||||
| MMUPHin 1.4.2 (landing page) Siyuan MA
| malbec1 | Linux (Ubuntu 18.04.5 LTS) / x86_64 | OK | OK | OK | |||||||||
| tokay1 | Windows Server 2012 R2 Standard / x64 | OK | OK | OK | OK | |||||||||
| merida1 | macOS 10.14.6 Mojave / x86_64 | OK | ERROR | skipped | skipped | |||||||||
| Package: MMUPHin |
| Version: 1.4.2 |
| Command: rm -rf MMUPHin.buildbin-libdir && mkdir MMUPHin.buildbin-libdir && C:\Users\biocbuild\bbs-3.12-bioc\R\bin\R.exe CMD INSTALL --merge-multiarch --build --library=MMUPHin.buildbin-libdir MMUPHin_1.4.2.tar.gz |
| StartedAt: 2021-05-06 09:33:31 -0400 (Thu, 06 May 2021) |
| EndedAt: 2021-05-06 09:34:12 -0400 (Thu, 06 May 2021) |
| EllapsedTime: 40.9 seconds |
| RetCode: 0 |
| Status: OK |
| PackageFile: MMUPHin_1.4.2.zip |
| PackageFileSize: 1.155 MiB |
##############################################################################
##############################################################################
###
### Running command:
###
### rm -rf MMUPHin.buildbin-libdir && mkdir MMUPHin.buildbin-libdir && C:\Users\biocbuild\bbs-3.12-bioc\R\bin\R.exe CMD INSTALL --merge-multiarch --build --library=MMUPHin.buildbin-libdir MMUPHin_1.4.2.tar.gz
###
##############################################################################
##############################################################################
install for i386
* installing *source* package 'MMUPHin' ...
** using staged installation
** R
** data
** inst
** byte-compile and prepare package for lazy loading
** help
*** installing help indices
converting help for package 'MMUPHin'
finding HTML links ... done
AST html
CRC_abd html
CRC_meta html
LOG html
Maaslin2_wrapper html
add_back_covariates html
adjust_EB html
adjust_batch html
aprior html
back_transform_abd html
bprior html
catchToList html
check_D html
check_batch html
check_covariates html
check_covariates_random html
check_exposure html
check_feature_abd html
check_metadata html
check_options html
check_options_continuous html
check_pseudo_count html
check_rank html
check_samples html
check_samples_D html
construct_design html
construct_ind html
continuous_discover html
create_table_maaslin html
diagnostic_adjust_batch html
diagnostic_continuous_discover html
diagnostic_discrete_discover html
discrete_discover html
fill_dimnames html
fit_EB html
fit_shrink html
fit_stand_feature html
it_sol html
lm_meta html
match_control html
normalize_features html
relocate_scale html
rename_maaslin html
rma_wrapper html
set_pseudo html
shorten_name html
standardize_feature html
transform_features html
tss html
vaginal_abd html
vaginal_meta html
visualize_continuous_discover html
** building package indices
** installing vignettes
** testing if installed package can be loaded from temporary location
** testing if installed package can be loaded from final location
** testing if installed package keeps a record of temporary installation path
install for x64
* installing *source* package 'MMUPHin' ...
** testing if installed package can be loaded
* MD5 sums
packaged installation of 'MMUPHin' as MMUPHin_1.4.2.zip
* DONE (MMUPHin)