| Back to Multiple platform build/check report for BioC 3.12 |
|
This page was generated on 2021-05-06 12:28:10 -0400 (Thu, 06 May 2021).
|
To the developers/maintainers of the MEDME package: Please make sure to use the following settings in order to reproduce any error or warning you see on this page. |
| Package 1033/1974 | Hostname | OS / Arch | INSTALL | BUILD | CHECK | BUILD BIN | ||||||||
| MEDME 1.50.0 (landing page) Mattia Pelizzola
| malbec1 | Linux (Ubuntu 18.04.5 LTS) / x86_64 | OK | OK | WARNINGS | |||||||||
| tokay1 | Windows Server 2012 R2 Standard / x64 | OK | OK | WARNINGS | OK | |||||||||
| merida1 | macOS 10.14.6 Mojave / x86_64 | OK | OK | WARNINGS | OK | |||||||||
| Package: MEDME |
| Version: 1.50.0 |
| Command: /home/biocbuild/bbs-3.12-bioc/R/bin/R CMD INSTALL MEDME |
| StartedAt: 2021-05-05 17:15:32 -0400 (Wed, 05 May 2021) |
| EndedAt: 2021-05-05 17:15:49 -0400 (Wed, 05 May 2021) |
| EllapsedTime: 16.2 seconds |
| RetCode: 0 |
| Status: OK |
##############################################################################
##############################################################################
###
### Running command:
###
### /home/biocbuild/bbs-3.12-bioc/R/bin/R CMD INSTALL MEDME
###
##############################################################################
##############################################################################
* installing to library ‘/home/biocbuild/bbs-3.12-bioc/R/library’
* installing *source* package ‘MEDME’ ...
** using staged installation
** libs
gcc -I"/home/biocbuild/bbs-3.12-bioc/R/include" -DNDEBUG -I/usr/local/include -fpic -g -O2 -Wall -c MEDMEweight.c -o MEDMEweight.o
MEDMEweight.c: In function ‘MEDMEweight’:
MEDMEweight.c:78:12: warning: ‘weight’ may be used uninitialized in this function [-Wmaybe-uninitialized]
weightSum = weightSum + weight;
~~~~~~~~~~^~~~~~~~~~~~~~~~~~~~
MEDMEweight.c:91:42: warning: ‘Max’ may be used uninitialized in this function [-Wmaybe-uninitialized]
if(AMSfinal[i] > Max) {AMSfinal[i] = Max;}
~~~~~~~~~~~~^~~~~
MEDMEweight.c:92:42: warning: ‘Min’ may be used uninitialized in this function [-Wmaybe-uninitialized]
if(AMSfinal[i] < Min) {AMSfinal[i] = Min;}
~~~~~~~~~~~~^~~~~
MEDMEweight.c:90:33: warning: ‘E’ may be used uninitialized in this function [-Wmaybe-uninitialized]
AMSfinal[i] = pow(2, pow( pow(E,B) * (D - Mlim) / (Mlim - C), 1/B));
^~~~~~~~
MEDMEweight.c:90:47: warning: ‘D’ may be used uninitialized in this function [-Wmaybe-uninitialized]
AMSfinal[i] = pow(2, pow( pow(E,B) * (D - Mlim) / (Mlim - C), 1/B));
~~~^~~~~~~
MEDMEweight.c:90:63: warning: ‘C’ may be used uninitialized in this function [-Wmaybe-uninitialized]
AMSfinal[i] = pow(2, pow( pow(E,B) * (D - Mlim) / (Mlim - C), 1/B));
~~~~~~^~~~
MEDMEweight.c:90:33: warning: ‘B’ may be used uninitialized in this function [-Wmaybe-uninitialized]
AMSfinal[i] = pow(2, pow( pow(E,B) * (D - Mlim) / (Mlim - C), 1/B));
^~~~~~~~
gcc -shared -L/home/biocbuild/bbs-3.12-bioc/R/lib -L/usr/local/lib -o MEDME.so MEDMEweight.o -L/home/biocbuild/bbs-3.12-bioc/R/lib -lR
installing to /home/biocbuild/bbs-3.12-bioc/R/library/00LOCK-MEDME/00new/MEDME/libs
** R
** data
** inst
** byte-compile and prepare package for lazy loading
** help
*** installing help indices
** building package indices
** installing vignettes
** testing if installed package can be loaded from temporary location
** checking absolute paths in shared objects and dynamic libraries
** testing if installed package can be loaded from final location
** testing if installed package keeps a record of temporary installation path
* DONE (MEDME)