| Back to Multiple platform build/check report for BioC 3.12 |
|
This page was generated on 2021-05-06 12:32:09 -0400 (Thu, 06 May 2021).
|
To the developers/maintainers of the MCbiclust package: Please make sure to use the following settings in order to reproduce any error or warning you see on this page. |
| Package 1022/1974 | Hostname | OS / Arch | INSTALL | BUILD | CHECK | BUILD BIN | ||||||||
| MCbiclust 1.14.0 (landing page) Robert Bentham
| malbec1 | Linux (Ubuntu 18.04.5 LTS) / x86_64 | OK | OK | OK | |||||||||
| tokay1 | Windows Server 2012 R2 Standard / x64 | OK | OK | OK | OK | |||||||||
| merida1 | macOS 10.14.6 Mojave / x86_64 | OK | OK | OK | OK | |||||||||
| Package: MCbiclust |
| Version: 1.14.0 |
| Command: C:\cygwin\bin\curl.exe -O http://172.29.0.3/BBS/3.12/bioc/src/contrib/MCbiclust_1.14.0.tar.gz && rm -rf MCbiclust.buildbin-libdir && mkdir MCbiclust.buildbin-libdir && C:\Users\biocbuild\bbs-3.12-bioc\R\bin\R.exe CMD INSTALL --merge-multiarch --build --library=MCbiclust.buildbin-libdir MCbiclust_1.14.0.tar.gz && C:\Users\biocbuild\bbs-3.12-bioc\R\bin\R.exe CMD INSTALL MCbiclust_1.14.0.zip && rm MCbiclust_1.14.0.tar.gz MCbiclust_1.14.0.zip |
| StartedAt: 2021-05-05 18:46:31 -0400 (Wed, 05 May 2021) |
| EndedAt: 2021-05-05 18:47:19 -0400 (Wed, 05 May 2021) |
| EllapsedTime: 48.8 seconds |
| RetCode: 0 |
| Status: OK |
##############################################################################
##############################################################################
###
### Running command:
###
### C:\cygwin\bin\curl.exe -O http://172.29.0.3/BBS/3.12/bioc/src/contrib/MCbiclust_1.14.0.tar.gz && rm -rf MCbiclust.buildbin-libdir && mkdir MCbiclust.buildbin-libdir && C:\Users\biocbuild\bbs-3.12-bioc\R\bin\R.exe CMD INSTALL --merge-multiarch --build --library=MCbiclust.buildbin-libdir MCbiclust_1.14.0.tar.gz && C:\Users\biocbuild\bbs-3.12-bioc\R\bin\R.exe CMD INSTALL MCbiclust_1.14.0.zip && rm MCbiclust_1.14.0.tar.gz MCbiclust_1.14.0.zip
###
##############################################################################
##############################################################################
% Total % Received % Xferd Average Speed Time Time Time Current
Dload Upload Total Spent Left Speed
0 0 0 0 0 0 0 0 --:--:-- --:--:-- --:--:-- 0
0 2540k 0 12895 0 0 98837 0 0:00:26 --:--:-- 0:00:26 99192
100 2540k 100 2540k 0 0 8298k 0 --:--:-- --:--:-- --:--:-- 8302k
install for i386
* installing *source* package 'MCbiclust' ...
** using staged installation
** R
** data
*** moving datasets to lazyload DB
** byte-compile and prepare package for lazy loading
** help
*** installing help indices
converting help for package 'MCbiclust'
finding HTML links ... done
CCLE_samples html
CCLE_small html
CVEval html
CVPlot html
CorScoreCalc html
FindSeed html
GOEnrichmentAnalysis html
HclustGenesHiCor html
MCbiclust html
Mitochondrial_genes html
PC1VecFun html
PointScoreCalc html
SampleSort html
SilhouetteClustGroups html
ThresholdBic html
** building package indices
** installing vignettes
** testing if installed package can be loaded from temporary location
** testing if installed package can be loaded from final location
** testing if installed package keeps a record of temporary installation path
install for x64
* installing *source* package 'MCbiclust' ...
** testing if installed package can be loaded
* MD5 sums
packaged installation of 'MCbiclust' as MCbiclust_1.14.0.zip
* DONE (MCbiclust)
* installing to library 'C:/Users/biocbuild/bbs-3.12-bioc/R/library'
package 'MCbiclust' successfully unpacked and MD5 sums checked