| Back to Multiple platform build/check report for BioC 3.12 |
|
This page was generated on 2021-05-06 12:35:31 -0400 (Thu, 06 May 2021).
|
To the developers/maintainers of the LowMACA package: Please make sure to use the following settings in order to reproduce any error or warning you see on this page. |
| Package 972/1974 | Hostname | OS / Arch | INSTALL | BUILD | CHECK | BUILD BIN | ||||||||
| LowMACA 1.20.0 (landing page) Stefano de Pretis
| malbec1 | Linux (Ubuntu 18.04.5 LTS) / x86_64 | OK | OK | OK | |||||||||
| tokay1 | Windows Server 2012 R2 Standard / x64 | OK | OK | OK | OK | |||||||||
| merida1 | macOS 10.14.6 Mojave / x86_64 | OK | OK | OK | OK | |||||||||
| Package: LowMACA |
| Version: 1.20.0 |
| Command: /Library/Frameworks/R.framework/Versions/Current/Resources/bin/R CMD check --install=check:LowMACA.install-out.txt --library=/Library/Frameworks/R.framework/Versions/Current/Resources/library --no-vignettes --timings LowMACA_1.20.0.tar.gz |
| StartedAt: 2021-05-06 03:12:18 -0400 (Thu, 06 May 2021) |
| EndedAt: 2021-05-06 03:20:39 -0400 (Thu, 06 May 2021) |
| EllapsedTime: 501.0 seconds |
| RetCode: 0 |
| Status: OK |
| CheckDir: LowMACA.Rcheck |
| Warnings: 0 |
##############################################################################
##############################################################################
###
### Running command:
###
### /Library/Frameworks/R.framework/Versions/Current/Resources/bin/R CMD check --install=check:LowMACA.install-out.txt --library=/Library/Frameworks/R.framework/Versions/Current/Resources/library --no-vignettes --timings LowMACA_1.20.0.tar.gz
###
##############################################################################
##############################################################################
* using log directory ‘/Users/biocbuild/bbs-3.12-bioc/meat/LowMACA.Rcheck’
* using R version 4.0.5 (2021-03-31)
* using platform: x86_64-apple-darwin17.0 (64-bit)
* using session charset: UTF-8
* using option ‘--no-vignettes’
* checking for file ‘LowMACA/DESCRIPTION’ ... OK
* checking extension type ... Package
* this is package ‘LowMACA’ version ‘1.20.0’
* checking package namespace information ... OK
* checking package dependencies ... OK
* checking if this is a source package ... OK
* checking if there is a namespace ... OK
* checking for hidden files and directories ... OK
* checking for portable file names ... OK
* checking for sufficient/correct file permissions ... OK
* checking whether package ‘LowMACA’ can be installed ... OK
* checking installed package size ... OK
* checking package directory ... OK
* checking ‘build’ directory ... OK
* checking DESCRIPTION meta-information ... OK
* checking top-level files ... OK
* checking for left-over files ... OK
* checking index information ... OK
* checking package subdirectories ... OK
* checking R files for non-ASCII characters ... OK
* checking R files for syntax errors ... OK
* checking whether the package can be loaded ... OK
* checking whether the package can be loaded with stated dependencies ... OK
* checking whether the package can be unloaded cleanly ... OK
* checking whether the namespace can be loaded with stated dependencies ... OK
* checking whether the namespace can be unloaded cleanly ... OK
* checking dependencies in R code ... OK
* checking S3 generic/method consistency ... OK
* checking replacement functions ... OK
* checking foreign function calls ... OK
* checking R code for possible problems ... OK
* checking Rd files ... OK
* checking Rd metadata ... OK
* checking Rd cross-references ... OK
* checking for missing documentation entries ... OK
* checking for code/documentation mismatches ... OK
* checking Rd \usage sections ... OK
* checking Rd contents ... OK
* checking for unstated dependencies in examples ... OK
* checking contents of ‘data’ directory ... OK
* checking data for non-ASCII characters ... OK
* checking data for ASCII and uncompressed saves ... OK
* checking files in ‘vignettes’ ... OK
* checking examples ... OK
Examples with CPU (user + system) or elapsed time > 5s
user system elapsed
allPfamAnalysis 157.826 2.592 160.851
lfmSingleSequence 88.228 1.396 89.891
setup 18.982 2.539 39.959
LowMACA-class 11.092 0.284 19.175
LowMACA-package 8.549 0.213 13.379
alignSequences 6.245 2.058 27.070
* checking for unstated dependencies in vignettes ... OK
* checking package vignettes in ‘inst/doc’ ... OK
* checking running R code from vignettes ... SKIPPED
* checking re-building of vignette outputs ... SKIPPED
* checking PDF version of manual ... OK
* DONE
Status: OK
LowMACA.Rcheck/00install.out
############################################################################## ############################################################################## ### ### Running command: ### ### /Library/Frameworks/R.framework/Versions/Current/Resources/bin/R CMD INSTALL LowMACA ### ############################################################################## ############################################################################## * installing to library ‘/Library/Frameworks/R.framework/Versions/4.0/Resources/library’ * installing *source* package ‘LowMACA’ ... ** using staged installation ** R ** data ** inst ** byte-compile and prepare package for lazy loading ** help *** installing help indices ** building package indices ** installing vignettes ** testing if installed package can be loaded from temporary location Checking if clustalo is in the PATH... Checking clustalo Version... Checking perl installation... Checking perl modules XML::Simple and LWP... ** testing if installed package can be loaded from final location Checking if clustalo is in the PATH... Checking clustalo Version... Checking perl installation... Checking perl modules XML::Simple and LWP... ** testing if installed package keeps a record of temporary installation path * DONE (LowMACA)
LowMACA.Rcheck/LowMACA-Ex.timings
| name | user | system | elapsed | |
| BLOSUM62 | 0.009 | 0.001 | 0.011 | |
| LowMACA-class | 11.092 | 0.284 | 19.175 | |
| LowMACA-package | 8.549 | 0.213 | 13.379 | |
| LowMACA_AML | 0.032 | 0.002 | 0.035 | |
| alignSequences | 6.245 | 2.058 | 27.070 | |
| allPfamAnalysis | 157.826 | 2.592 | 160.851 | |
| bpAll | 1.208 | 0.025 | 1.234 | |
| entropy | 1.290 | 0.022 | 1.314 | |
| getMutations | 1.994 | 0.036 | 3.640 | |
| lfm | 2.078 | 0.030 | 2.112 | |
| lfmSingleSequence | 88.228 | 1.396 | 89.891 | |
| lmAlignment | 0.067 | 0.007 | 0.074 | |
| lmEntropy | 1.111 | 0.030 | 1.141 | |
| lmMutations | 0.049 | 0.005 | 0.053 | |
| lmObj | 0.120 | 0.008 | 0.128 | |
| lmParams | 0.569 | 0.021 | 0.596 | |
| lmPlot | 3.680 | 0.032 | 3.718 | |
| lmPlotSingleSequence | 3.729 | 0.056 | 3.798 | |
| mapMutations | 0.514 | 0.005 | 0.520 | |
| newLowMACA | 3.084 | 0.042 | 3.139 | |
| nullProfile | 1.110 | 0.018 | 1.130 | |
| parallelize | 0.570 | 0.007 | 0.578 | |
| protter | 1.205 | 0.018 | 3.103 | |
| setup | 18.982 | 2.539 | 39.959 | |
| showTumorType | 0.079 | 0.011 | 0.137 | |