| Back to Multiple platform build/check report for BioC 3.12 |
|
This page was generated on 2021-05-06 12:31:55 -0400 (Thu, 06 May 2021).
|
To the developers/maintainers of the KEGGlincs package: Please make sure to use the following settings in order to reproduce any error or warning you see on this page. |
| Package 938/1974 | Hostname | OS / Arch | INSTALL | BUILD | CHECK | BUILD BIN | ||||||||
| KEGGlincs 1.16.0 (landing page) Shana White
| malbec1 | Linux (Ubuntu 18.04.5 LTS) / x86_64 | OK | OK | OK | |||||||||
| tokay1 | Windows Server 2012 R2 Standard / x64 | OK | OK | OK | OK | |||||||||
| merida1 | macOS 10.14.6 Mojave / x86_64 | OK | OK | OK | OK | |||||||||
| Package: KEGGlincs |
| Version: 1.16.0 |
| Command: C:\cygwin\bin\curl.exe -O http://172.29.0.3/BBS/3.12/bioc/src/contrib/KEGGlincs_1.16.0.tar.gz && rm -rf KEGGlincs.buildbin-libdir && mkdir KEGGlincs.buildbin-libdir && C:\Users\biocbuild\bbs-3.12-bioc\R\bin\R.exe CMD INSTALL --merge-multiarch --build --library=KEGGlincs.buildbin-libdir KEGGlincs_1.16.0.tar.gz && C:\Users\biocbuild\bbs-3.12-bioc\R\bin\R.exe CMD INSTALL KEGGlincs_1.16.0.zip && rm KEGGlincs_1.16.0.tar.gz KEGGlincs_1.16.0.zip |
| StartedAt: 2021-05-05 17:15:53 -0400 (Wed, 05 May 2021) |
| EndedAt: 2021-05-05 17:16:32 -0400 (Wed, 05 May 2021) |
| EllapsedTime: 39.8 seconds |
| RetCode: 0 |
| Status: OK |
##############################################################################
##############################################################################
###
### Running command:
###
### C:\cygwin\bin\curl.exe -O http://172.29.0.3/BBS/3.12/bioc/src/contrib/KEGGlincs_1.16.0.tar.gz && rm -rf KEGGlincs.buildbin-libdir && mkdir KEGGlincs.buildbin-libdir && C:\Users\biocbuild\bbs-3.12-bioc\R\bin\R.exe CMD INSTALL --merge-multiarch --build --library=KEGGlincs.buildbin-libdir KEGGlincs_1.16.0.tar.gz && C:\Users\biocbuild\bbs-3.12-bioc\R\bin\R.exe CMD INSTALL KEGGlincs_1.16.0.zip && rm KEGGlincs_1.16.0.tar.gz KEGGlincs_1.16.0.zip
###
##############################################################################
##############################################################################
% Total % Received % Xferd Average Speed Time Time Time Current
Dload Upload Total Spent Left Speed
0 0 0 0 0 0 0 0 --:--:-- --:--:-- --:--:-- 0
42 2148k 42 923k 0 0 7566k 0 --:--:-- --:--:-- --:--:-- 7571k
100 2148k 100 2148k 0 0 15.1M 0 --:--:-- --:--:-- --:--:-- 15.2M
install for i386
* installing *source* package 'KEGGlincs' ...
** using staged installation
** R
** inst
** byte-compile and prepare package for lazy loading
** help
*** installing help indices
converting help for package 'KEGGlincs'
finding HTML links ... done
KEGG_lincs html
KEGGlincs html
KL_compare html
add_edge_data html
cyto_vis html
edge_mapping_info html
expand_KEGG_edges html
expand_KEGG_mappings html
generate_mappings html
get_KGML html
get_fisher_info html
get_graph_object html
keggerize_edges html
node_mapping_info html
overlap_info html
path_genes_by_cell_type html
refine_mappings html
tidy_edge html
toCytoscape html
** building package indices
** installing vignettes
** testing if installed package can be loaded from temporary location
** testing if installed package can be loaded from final location
** testing if installed package keeps a record of temporary installation path
install for x64
* installing *source* package 'KEGGlincs' ...
** testing if installed package can be loaded
* MD5 sums
packaged installation of 'KEGGlincs' as KEGGlincs_1.16.0.zip
* DONE (KEGGlincs)
* installing to library 'C:/Users/biocbuild/bbs-3.12-bioc/R/library'
package 'KEGGlincs' successfully unpacked and MD5 sums checked