| Back to Multiple platform build/check report for BioC 3.12 |
|
This page was generated on 2021-05-06 12:31:49 -0400 (Thu, 06 May 2021).
|
To the developers/maintainers of the IMAS package: Please make sure to use the following settings in order to reproduce any error or warning you see on this page. |
| Package 883/1974 | Hostname | OS / Arch | INSTALL | BUILD | CHECK | BUILD BIN | ||||||||
| IMAS 1.14.0 (landing page) Seonggyun Han
| malbec1 | Linux (Ubuntu 18.04.5 LTS) / x86_64 | OK | OK | OK | |||||||||
| tokay1 | Windows Server 2012 R2 Standard / x64 | OK | OK | OK | OK | |||||||||
| merida1 | macOS 10.14.6 Mojave / x86_64 | OK | OK | OK | OK | |||||||||
| Package: IMAS |
| Version: 1.14.0 |
| Command: C:\cygwin\bin\curl.exe -O http://172.29.0.3/BBS/3.12/bioc/src/contrib/IMAS_1.14.0.tar.gz && rm -rf IMAS.buildbin-libdir && mkdir IMAS.buildbin-libdir && C:\Users\biocbuild\bbs-3.12-bioc\R\bin\R.exe CMD INSTALL --merge-multiarch --build --library=IMAS.buildbin-libdir IMAS_1.14.0.tar.gz && C:\Users\biocbuild\bbs-3.12-bioc\R\bin\R.exe CMD INSTALL IMAS_1.14.0.zip && rm IMAS_1.14.0.tar.gz IMAS_1.14.0.zip |
| StartedAt: 2021-05-05 18:57:35 -0400 (Wed, 05 May 2021) |
| EndedAt: 2021-05-05 19:00:11 -0400 (Wed, 05 May 2021) |
| EllapsedTime: 156.2 seconds |
| RetCode: 0 |
| Status: OK |
##############################################################################
##############################################################################
###
### Running command:
###
### C:\cygwin\bin\curl.exe -O http://172.29.0.3/BBS/3.12/bioc/src/contrib/IMAS_1.14.0.tar.gz && rm -rf IMAS.buildbin-libdir && mkdir IMAS.buildbin-libdir && C:\Users\biocbuild\bbs-3.12-bioc\R\bin\R.exe CMD INSTALL --merge-multiarch --build --library=IMAS.buildbin-libdir IMAS_1.14.0.tar.gz && C:\Users\biocbuild\bbs-3.12-bioc\R\bin\R.exe CMD INSTALL IMAS_1.14.0.zip && rm IMAS_1.14.0.tar.gz IMAS_1.14.0.zip
###
##############################################################################
##############################################################################
% Total % Received % Xferd Average Speed Time Time Time Current
Dload Upload Total Spent Left Speed
0 0 0 0 0 0 0 0 --:--:-- --:--:-- --:--:-- 0
100 392k 100 392k 0 0 5586k 0 --:--:-- --:--:-- --:--:-- 5692k
install for i386
* installing *source* package 'IMAS' ...
** using staged installation
** R
** data
** inst
** byte-compile and prepare package for lazy loading
** help
*** installing help indices
converting help for package 'IMAS'
finding HTML links ... done
ASvisualization html
finding level-2 HTML links ... done
ClinicAnalysis html
Clinical.data html
CompGroupAlt html
ExonsCluster html
GroupSam html
IMAS-package html
MEsQTLFinder html
RatioFromReads html
SplicingReads html
sampleMedata html
sampleMelocus html
samplebamfiles html
samplesnp html
samplesnplocus html
** building package indices
** installing vignettes
** testing if installed package can be loaded from temporary location
** testing if installed package can be loaded from final location
** testing if installed package keeps a record of temporary installation path
install for x64
* installing *source* package 'IMAS' ...
** testing if installed package can be loaded
* MD5 sums
packaged installation of 'IMAS' as IMAS_1.14.0.zip
* DONE (IMAS)
* installing to library 'C:/Users/biocbuild/bbs-3.12-bioc/R/library'
package 'IMAS' successfully unpacked and MD5 sums checked