| Back to Multiple platform build/check report for BioC 3.12 |
|
This page was generated on 2021-05-06 12:35:17 -0400 (Thu, 06 May 2021).
|
To the developers/maintainers of the HilbertVis package: Please make sure to use the following settings in order to reproduce any error or warning you see on this page. |
| Package 835/1974 | Hostname | OS / Arch | INSTALL | BUILD | CHECK | BUILD BIN | ||||||||
| HilbertVis 1.48.0 (landing page) Simon Anders
| malbec1 | Linux (Ubuntu 18.04.5 LTS) / x86_64 | OK | OK | OK | |||||||||
| tokay1 | Windows Server 2012 R2 Standard / x64 | OK | OK | OK | OK | |||||||||
| merida1 | macOS 10.14.6 Mojave / x86_64 | OK | OK | WARNINGS | OK | |||||||||
| Package: HilbertVis |
| Version: 1.48.0 |
| Command: /Library/Frameworks/R.framework/Versions/Current/Resources/bin/R CMD INSTALL HilbertVis |
| StartedAt: 2021-05-05 16:07:50 -0400 (Wed, 05 May 2021) |
| EndedAt: 2021-05-05 16:08:31 -0400 (Wed, 05 May 2021) |
| EllapsedTime: 41.7 seconds |
| RetCode: 0 |
| Status: OK |
##############################################################################
##############################################################################
###
### Running command:
###
### /Library/Frameworks/R.framework/Versions/Current/Resources/bin/R CMD INSTALL HilbertVis
###
##############################################################################
##############################################################################
* installing to library ‘/Library/Frameworks/R.framework/Versions/4.0/Resources/library’
* installing *source* package ‘HilbertVis’ ...
** using staged installation
** libs
clang -mmacosx-version-min=10.13 -I"/Library/Frameworks/R.framework/Resources/include" -DNDEBUG -I/usr/local/include -fPIC -Wall -g -O2 -c hilbert.c -o hilbert.o
clang -mmacosx-version-min=10.13 -I"/Library/Frameworks/R.framework/Resources/include" -DNDEBUG -I/usr/local/include -fPIC -Wall -g -O2 -c make_wiggle_vector.c -o make_wiggle_vector.o
clang -mmacosx-version-min=10.13 -I"/Library/Frameworks/R.framework/Resources/include" -DNDEBUG -I/usr/local/include -fPIC -Wall -g -O2 -c shrink_vector.c -o shrink_vector.o
shrink_vector.c:76:20: warning: using integer absolute value function 'abs' when argument is of floating point type [-Wabsolute-value]
if( abs( REAL( vector )[ j ] ) > abs( val ) )
^
shrink_vector.c:76:20: note: use function 'fabs' instead
if( abs( REAL( vector )[ j ] ) > abs( val ) )
^~~
fabs
shrink_vector.c:76:49: warning: using integer absolute value function 'abs' when argument is of floating point type [-Wabsolute-value]
if( abs( REAL( vector )[ j ] ) > abs( val ) )
^
shrink_vector.c:76:49: note: use function 'fabs' instead
if( abs( REAL( vector )[ j ] ) > abs( val ) )
^~~
fabs
2 warnings generated.
clang -mmacosx-version-min=10.13 -dynamiclib -Wl,-headerpad_max_install_names -undefined dynamic_lookup -single_module -multiply_defined suppress -L/Library/Frameworks/R.framework/Resources/lib -L/usr/local/lib -o HilbertVis.so hilbert.o make_wiggle_vector.o shrink_vector.o -F/Library/Frameworks/R.framework/.. -framework R -Wl,-framework -Wl,CoreFoundation
installing to /Library/Frameworks/R.framework/Versions/4.0/Resources/library/00LOCK-HilbertVis/00new/HilbertVis/libs
** R
** inst
** byte-compile and prepare package for lazy loading
** help
*** installing help indices
** building package indices
** installing vignettes
** testing if installed package can be loaded from temporary location
** checking absolute paths in shared objects and dynamic libraries
** testing if installed package can be loaded from final location
** testing if installed package keeps a record of temporary installation path
* DONE (HilbertVis)