| Back to Multiple platform build/check report for BioC 3.12 |
|
This page was generated on 2021-05-06 12:31:43 -0400 (Thu, 06 May 2021).
|
To the developers/maintainers of the Guitar package: Please make sure to use the following settings in order to reproduce any error or warning you see on this page. |
| Package 805/1974 | Hostname | OS / Arch | INSTALL | BUILD | CHECK | BUILD BIN | ||||||||
| Guitar 2.6.0 (landing page) Jia Meng
| malbec1 | Linux (Ubuntu 18.04.5 LTS) / x86_64 | OK | OK | OK | |||||||||
| tokay1 | Windows Server 2012 R2 Standard / x64 | OK | OK | OK | OK | |||||||||
| merida1 | macOS 10.14.6 Mojave / x86_64 | OK | OK | OK | OK | |||||||||
| Package: Guitar |
| Version: 2.6.0 |
| Command: C:\Users\biocbuild\bbs-3.12-bioc\R\bin\R.exe CMD check --force-multiarch --install=check:Guitar.install-out.txt --library=C:\Users\biocbuild\bbs-3.12-bioc\R\library --no-vignettes --timings Guitar_2.6.0.tar.gz |
| StartedAt: 2021-05-06 03:29:55 -0400 (Thu, 06 May 2021) |
| EndedAt: 2021-05-06 03:43:10 -0400 (Thu, 06 May 2021) |
| EllapsedTime: 794.7 seconds |
| RetCode: 0 |
| Status: OK |
| CheckDir: Guitar.Rcheck |
| Warnings: 0 |
##############################################################################
##############################################################################
###
### Running command:
###
### C:\Users\biocbuild\bbs-3.12-bioc\R\bin\R.exe CMD check --force-multiarch --install=check:Guitar.install-out.txt --library=C:\Users\biocbuild\bbs-3.12-bioc\R\library --no-vignettes --timings Guitar_2.6.0.tar.gz
###
##############################################################################
##############################################################################
* using log directory 'C:/Users/biocbuild/bbs-3.12-bioc/meat/Guitar.Rcheck'
* using R version 4.0.5 (2021-03-31)
* using platform: x86_64-w64-mingw32 (64-bit)
* using session charset: ISO8859-1
* using option '--no-vignettes'
* checking for file 'Guitar/DESCRIPTION' ... OK
* checking extension type ... Package
* this is package 'Guitar' version '2.6.0'
* package encoding: UTF-8
* checking package namespace information ... OK
* checking package dependencies ... NOTE
Depends: includes the non-default packages:
'GenomicFeatures', 'rtracklayer', 'AnnotationDbi', 'GenomicRanges',
'magrittr', 'ggplot2', 'knitr', 'dplyr'
Adding so many packages to the search path is excessive and importing
selectively is preferable.
* checking if this is a source package ... OK
* checking if there is a namespace ... OK
* checking for hidden files and directories ... OK
* checking for portable file names ... OK
* checking whether package 'Guitar' can be installed ... OK
* checking installed package size ... NOTE
installed size is 15.8Mb
sub-directories of 1Mb or more:
extdata 15.7Mb
* checking package directory ... OK
* checking 'build' directory ... OK
* checking DESCRIPTION meta-information ... OK
* checking top-level files ... OK
* checking for left-over files ... OK
* checking index information ... OK
* checking package subdirectories ... OK
* checking R files for non-ASCII characters ... OK
* checking R files for syntax errors ... OK
* loading checks for arch 'i386'
** checking whether the package can be loaded ... OK
** checking whether the package can be loaded with stated dependencies ... OK
** checking whether the package can be unloaded cleanly ... OK
** checking whether the namespace can be loaded with stated dependencies ... OK
** checking whether the namespace can be unloaded cleanly ... OK
* loading checks for arch 'x64'
** checking whether the package can be loaded ... OK
** checking whether the package can be loaded with stated dependencies ... OK
** checking whether the package can be unloaded cleanly ... OK
** checking whether the namespace can be loaded with stated dependencies ... OK
** checking whether the namespace can be unloaded cleanly ... OK
* checking dependencies in R code ... NOTE
Package in Depends field not imported from: 'knitr'
These packages need to be imported from (in the NAMESPACE file)
for when this namespace is loaded but not attached.
Unexported object imported by a ':::' call: 'GenomicRanges:::get_out_of_bound_index'
See the note in ?`:::` about the use of this operator.
* checking S3 generic/method consistency ... OK
* checking replacement functions ... OK
* checking foreign function calls ... OK
* checking R code for possible problems ... NOTE
.extractComponent: no visible binding for global variable 'gene_id'
.generate_guitar_coordinates: no visible global function definition for
'makeGuitarCoordsFromTxDb'
.generate_guitar_coordinates: no visible binding for global variable
'noBins'
Undefined global functions or variables:
gene_id makeGuitarCoordsFromTxDb noBins
* checking Rd files ... OK
* checking Rd metadata ... OK
* checking Rd cross-references ... OK
* checking for missing documentation entries ... OK
* checking for code/documentation mismatches ... OK
* checking Rd \usage sections ... OK
* checking Rd contents ... OK
* checking for unstated dependencies in examples ... OK
* checking files in 'vignettes' ... OK
* checking examples ...
** running examples for arch 'i386' ... OK
Examples with CPU (user + system) or elapsed time > 5s
user system elapsed
GuitarPlot 43.01 0.21 43.23
GRangesListmapToTranscripts 19.32 0.73 31.88
normalize 19.92 0.00 19.92
samplePoints 17.48 0.03 17.52
makeGuitarTxdb 16.72 0.03 16.75
** running examples for arch 'x64' ... OK
Examples with CPU (user + system) or elapsed time > 5s
user system elapsed
GuitarPlot 51.30 0.08 51.37
samplePoints 24.02 0.10 24.11
normalize 21.09 0.01 21.13
GRangesListmapToTranscripts 19.39 0.06 19.45
makeGuitarTxdb 18.81 0.02 18.83
* checking for unstated dependencies in vignettes ... OK
* checking package vignettes in 'inst/doc' ... OK
* checking running R code from vignettes ... SKIPPED
* checking re-building of vignette outputs ... SKIPPED
* checking PDF version of manual ... OK
* DONE
Status: 4 NOTEs
See
'C:/Users/biocbuild/bbs-3.12-bioc/meat/Guitar.Rcheck/00check.log'
for details.
Guitar.Rcheck/00install.out
##############################################################################
##############################################################################
###
### Running command:
###
### C:\cygwin\bin\curl.exe -O http://172.29.0.3/BBS/3.12/bioc/src/contrib/Guitar_2.6.0.tar.gz && rm -rf Guitar.buildbin-libdir && mkdir Guitar.buildbin-libdir && C:\Users\biocbuild\bbs-3.12-bioc\R\bin\R.exe CMD INSTALL --merge-multiarch --build --library=Guitar.buildbin-libdir Guitar_2.6.0.tar.gz && C:\Users\biocbuild\bbs-3.12-bioc\R\bin\R.exe CMD INSTALL Guitar_2.6.0.zip && rm Guitar_2.6.0.tar.gz Guitar_2.6.0.zip
###
##############################################################################
##############################################################################
% Total % Received % Xferd Average Speed Time Time Time Current
Dload Upload Total Spent Left Speed
0 0 0 0 0 0 0 0 --:--:-- --:--:-- --:--:-- 0
36 3626k 36 1330k 0 0 24.2M 0 --:--:-- --:--:-- --:--:-- 24.5M
100 3626k 100 3626k 0 0 48.0M 0 --:--:-- --:--:-- --:--:-- 48.5M
install for i386
* installing *source* package 'Guitar' ...
** using staged installation
** R
** inst
** byte-compile and prepare package for lazy loading
** help
*** installing help indices
converting help for package 'Guitar'
finding HTML links ... done
GRangesListmapToTranscripts html
GuitarPlot html
makeGuitarTxdb html
normalize html
samplePoints html
** building package indices
** installing vignettes
** testing if installed package can be loaded from temporary location
** testing if installed package can be loaded from final location
** testing if installed package keeps a record of temporary installation path
install for x64
* installing *source* package 'Guitar' ...
** testing if installed package can be loaded
* MD5 sums
packaged installation of 'Guitar' as Guitar_2.6.0.zip
* DONE (Guitar)
* installing to library 'C:/Users/biocbuild/bbs-3.12-bioc/R/library'
package 'Guitar' successfully unpacked and MD5 sums checked
|
Guitar.Rcheck/examples_i386/Guitar-Ex.timings
|
Guitar.Rcheck/examples_x64/Guitar-Ex.timings
|