| Back to Multiple platform build/check report for BioC 3.12 |
|
This page was generated on 2021-05-06 12:27:46 -0400 (Thu, 06 May 2021).
|
To the developers/maintainers of the GlobalAncova package: Please make sure to use the following settings in order to reproduce any error or warning you see on this page. |
| Package 750/1974 | Hostname | OS / Arch | INSTALL | BUILD | CHECK | BUILD BIN | ||||||||
| GlobalAncova 4.8.0 (landing page) Manuela Hummel
| malbec1 | Linux (Ubuntu 18.04.5 LTS) / x86_64 | OK | OK | OK | |||||||||
| tokay1 | Windows Server 2012 R2 Standard / x64 | OK | OK | OK | OK | |||||||||
| merida1 | macOS 10.14.6 Mojave / x86_64 | OK | OK | OK | OK | |||||||||
| Package: GlobalAncova |
| Version: 4.8.0 |
| Command: /home/biocbuild/bbs-3.12-bioc/R/bin/R CMD INSTALL GlobalAncova |
| StartedAt: 2021-05-05 16:59:02 -0400 (Wed, 05 May 2021) |
| EndedAt: 2021-05-05 16:59:26 -0400 (Wed, 05 May 2021) |
| EllapsedTime: 24.3 seconds |
| RetCode: 0 |
| Status: OK |
##############################################################################
##############################################################################
###
### Running command:
###
### /home/biocbuild/bbs-3.12-bioc/R/bin/R CMD INSTALL GlobalAncova
###
##############################################################################
##############################################################################
* installing to library ‘/home/biocbuild/bbs-3.12-bioc/R/library’
* installing *source* package ‘GlobalAncova’ ...
** using staged installation
** libs
gcc -I"/home/biocbuild/bbs-3.12-bioc/R/include" -DNDEBUG -I/usr/local/include -fpic -g -O2 -Wall -c GlobalAncova.c -o GlobalAncova.o
GlobalAncova.c: In function ‘permut_withFperm’:
GlobalAncova.c:186:16: warning: ‘ord_perm’ may be used uninitialized in this function [-Wmaybe-uninitialized]
n1 = ord_perm[j] ;
~~~^~~~~~~~~~~~~~
GlobalAncova.c: In function ‘permut’:
GlobalAncova.c:289:16: warning: ‘ord_perm’ may be used uninitialized in this function [-Wmaybe-uninitialized]
n1 = ord_perm[j] ;
~~~^~~~~~~~~~~~~~
gcc -I"/home/biocbuild/bbs-3.12-bioc/R/include" -DNDEBUG -I/usr/local/include -fpic -g -O2 -Wall -c ludcmp.c -o ludcmp.o
gcc -I"/home/biocbuild/bbs-3.12-bioc/R/include" -DNDEBUG -I/usr/local/include -fpic -g -O2 -Wall -c matrix.c -o matrix.o
gcc -shared -L/home/biocbuild/bbs-3.12-bioc/R/lib -L/usr/local/lib -o GlobalAncova.so GlobalAncova.o ludcmp.o matrix.o -L/home/biocbuild/bbs-3.12-bioc/R/lib -lR
installing to /home/biocbuild/bbs-3.12-bioc/R/library/00LOCK-GlobalAncova/00new/GlobalAncova/libs
** R
** data
** inst
** byte-compile and prepare package for lazy loading
** help
*** installing help indices
** building package indices
** installing vignettes
** testing if installed package can be loaded from temporary location
** checking absolute paths in shared objects and dynamic libraries
** testing if installed package can be loaded from final location
** testing if installed package keeps a record of temporary installation path
* DONE (GlobalAncova)