| Back to Multiple platform build/check report for BioC 3.12 |
|
This page was generated on 2021-05-06 12:35:03 -0400 (Thu, 06 May 2021).
|
To the developers/maintainers of the GeneBreak package: Please make sure to use the following settings in order to reproduce any error or warning you see on this page. |
| Package 684/1974 | Hostname | OS / Arch | INSTALL | BUILD | CHECK | BUILD BIN | ||||||||
| GeneBreak 1.20.0 (landing page) Evert van den Broek
| malbec1 | Linux (Ubuntu 18.04.5 LTS) / x86_64 | OK | OK | OK | |||||||||
| tokay1 | Windows Server 2012 R2 Standard / x64 | OK | OK | OK | OK | |||||||||
| merida1 | macOS 10.14.6 Mojave / x86_64 | OK | OK | OK | OK | |||||||||
| Package: GeneBreak |
| Version: 1.20.0 |
| Command: /Library/Frameworks/R.framework/Versions/Current/Resources/bin/R CMD check --install=check:GeneBreak.install-out.txt --library=/Library/Frameworks/R.framework/Versions/Current/Resources/library --no-vignettes --timings GeneBreak_1.20.0.tar.gz |
| StartedAt: 2021-05-06 02:00:13 -0400 (Thu, 06 May 2021) |
| EndedAt: 2021-05-06 02:03:47 -0400 (Thu, 06 May 2021) |
| EllapsedTime: 213.6 seconds |
| RetCode: 0 |
| Status: OK |
| CheckDir: GeneBreak.Rcheck |
| Warnings: 0 |
##############################################################################
##############################################################################
###
### Running command:
###
### /Library/Frameworks/R.framework/Versions/Current/Resources/bin/R CMD check --install=check:GeneBreak.install-out.txt --library=/Library/Frameworks/R.framework/Versions/Current/Resources/library --no-vignettes --timings GeneBreak_1.20.0.tar.gz
###
##############################################################################
##############################################################################
* using log directory ‘/Users/biocbuild/bbs-3.12-bioc/meat/GeneBreak.Rcheck’
* using R version 4.0.5 (2021-03-31)
* using platform: x86_64-apple-darwin17.0 (64-bit)
* using session charset: UTF-8
* using option ‘--no-vignettes’
* checking for file ‘GeneBreak/DESCRIPTION’ ... OK
* checking extension type ... Package
* this is package ‘GeneBreak’ version ‘1.20.0’
* checking package namespace information ... OK
* checking package dependencies ... OK
* checking if this is a source package ... OK
* checking if there is a namespace ... OK
* checking for hidden files and directories ... OK
* checking for portable file names ... OK
* checking for sufficient/correct file permissions ... OK
* checking whether package ‘GeneBreak’ can be installed ... OK
* checking installed package size ... OK
* checking package directory ... OK
* checking ‘build’ directory ... OK
* checking DESCRIPTION meta-information ... OK
* checking top-level files ... OK
* checking for left-over files ... OK
* checking index information ... OK
* checking package subdirectories ... OK
* checking R files for non-ASCII characters ... OK
* checking R files for syntax errors ... OK
* checking whether the package can be loaded ... OK
* checking whether the package can be loaded with stated dependencies ... OK
* checking whether the package can be unloaded cleanly ... OK
* checking whether the namespace can be loaded with stated dependencies ... OK
* checking whether the namespace can be unloaded cleanly ... OK
* checking dependencies in R code ... OK
* checking S3 generic/method consistency ... OK
* checking replacement functions ... OK
* checking foreign function calls ... OK
* checking R code for possible problems ... NOTE
.glmbreak: no visible global function definition for ‘glm’
.glmbreak: no visible global function definition for ‘predict’
addGeneAnnotation,CopyNumberBreakPoints: no visible global function
definition for ‘head’
bpStats,CopyNumberBreakPoints: no visible global function definition
for ‘sd’
bpStats,CopyNumberBreakPoints: no visible global function definition
for ‘p.adjust’
Undefined global functions or variables:
glm head p.adjust predict sd
Consider adding
importFrom("stats", "glm", "p.adjust", "predict", "sd")
importFrom("utils", "head")
to your NAMESPACE file.
* checking Rd files ... OK
* checking Rd metadata ... OK
* checking Rd cross-references ... OK
* checking for missing documentation entries ... OK
* checking for code/documentation mismatches ... OK
* checking Rd \usage sections ... OK
* checking Rd contents ... OK
* checking for unstated dependencies in examples ... OK
* checking contents of ‘data’ directory ... OK
* checking data for non-ASCII characters ... OK
* checking data for ASCII and uncompressed saves ... OK
* checking sizes of PDF files under ‘inst/doc’ ... OK
* checking files in ‘vignettes’ ... OK
* checking examples ... OK
Examples with CPU (user + system) or elapsed time > 5s
user system elapsed
CopyNumberBreakPointGenes-class 7.773 0.614 8.398
bpStats-CopyNumberBreakPoints-method 6.304 0.510 6.825
recurrentGenes-CopyNumberBreakPointGenes-method 6.100 0.535 6.650
bpPlot-CopyNumberBreakPoints-method 5.237 0.471 5.716
* checking for unstated dependencies in vignettes ... OK
* checking package vignettes in ‘inst/doc’ ... OK
* checking running R code from vignettes ... SKIPPED
* checking re-building of vignette outputs ... SKIPPED
* checking PDF version of manual ... OK
* DONE
Status: 1 NOTE
See
‘/Users/biocbuild/bbs-3.12-bioc/meat/GeneBreak.Rcheck/00check.log’
for details.
GeneBreak.Rcheck/00install.out
############################################################################## ############################################################################## ### ### Running command: ### ### /Library/Frameworks/R.framework/Versions/Current/Resources/bin/R CMD INSTALL GeneBreak ### ############################################################################## ############################################################################## * installing to library ‘/Library/Frameworks/R.framework/Versions/4.0/Resources/library’ * installing *source* package ‘GeneBreak’ ... ** using staged installation ** R ** data ** byte-compile and prepare package for lazy loading Creating a new generic function for ‘segmentData’ in package ‘GeneBreak’ ** help *** installing help indices ** building package indices ** installing vignettes ** testing if installed package can be loaded from temporary location ** testing if installed package can be loaded from final location ** testing if installed package keeps a record of temporary installation path * DONE (GeneBreak)
GeneBreak.Rcheck/GeneBreak-Ex.timings
| name | user | system | elapsed | |
| CopyNumberBreakPointGenes-class | 7.773 | 0.614 | 8.398 | |
| CopyNumberBreakPoints-class | 2.022 | 0.134 | 2.159 | |
| accessOptions-CopyNumberBreakPoints-method | 1.189 | 0.080 | 1.271 | |
| addGeneAnnotation-CopyNumberBreakPoints-method | 2.212 | 0.109 | 2.325 | |
| bpFilter-CopyNumberBreakPoints-method | 1.311 | 0.110 | 1.438 | |
| bpGenes-CopyNumberBreakPointGenes-method | 2.359 | 0.164 | 2.526 | |
| bpPlot-CopyNumberBreakPoints-method | 5.237 | 0.471 | 5.716 | |
| bpStats-CopyNumberBreakPoints-method | 6.304 | 0.510 | 6.825 | |
| breakpointData-CopyNumberBreakPoints-method | 1.557 | 0.787 | 2.391 | |
| breakpointsPerGene-CopyNumberBreakPointGenes-method | 2.344 | 0.790 | 3.178 | |
| callData-CopyNumberBreakPoints-method | 1.621 | 0.857 | 2.551 | |
| featureChromosomes-CopyNumberBreakPoints-method | 0.698 | 0.056 | 0.755 | |
| featureInfo-CopyNumberBreakPoints-method | 2.207 | 0.283 | 2.496 | |
| featuresPerGene-CopyNumberBreakPointGenes-method | 1.901 | 0.120 | 2.025 | |
| geneChromosomes-CopyNumberBreakPointGenes-method | 1.806 | 0.122 | 1.928 | |
| geneInfo-CopyNumberBreakPointGenes-method | 1.877 | 0.209 | 2.181 | |
| getBreakpoints | 1.746 | 0.108 | 1.860 | |
| namesFeatures-CopyNumberBreakPoints-method | 0.776 | 0.063 | 0.839 | |
| recurrentGenes-CopyNumberBreakPointGenes-method | 6.100 | 0.535 | 6.650 | |
| sampleNames-CopyNumberBreakPoints-method | 0.716 | 0.027 | 0.743 | |
| segmentData-CopyNumberBreakPoints-method | 1.277 | 0.835 | 2.152 | |