| Back to Multiple platform build/check report for BioC 3.12 |
|
This page was generated on 2021-05-06 12:35:12 -0400 (Thu, 06 May 2021).
|
To the developers/maintainers of the GSgalgoR package: Please make sure to use the following settings in order to reproduce any error or warning you see on this page. |
| Package 799/1974 | Hostname | OS / Arch | INSTALL | BUILD | CHECK | BUILD BIN | ||||||||
| GSgalgoR 1.0.0 (landing page) Carlos Catania
| malbec1 | Linux (Ubuntu 18.04.5 LTS) / x86_64 | OK | OK | OK | |||||||||
| tokay1 | Windows Server 2012 R2 Standard / x64 | OK | OK | OK | OK | |||||||||
| merida1 | macOS 10.14.6 Mojave / x86_64 | OK | OK | OK | OK | |||||||||
| Package: GSgalgoR |
| Version: 1.0.0 |
| Command: /Library/Frameworks/R.framework/Versions/Current/Resources/bin/R CMD check --install=check:GSgalgoR.install-out.txt --library=/Library/Frameworks/R.framework/Versions/Current/Resources/library --no-vignettes --timings GSgalgoR_1.0.0.tar.gz |
| StartedAt: 2021-05-06 02:29:16 -0400 (Thu, 06 May 2021) |
| EndedAt: 2021-05-06 02:32:48 -0400 (Thu, 06 May 2021) |
| EllapsedTime: 211.7 seconds |
| RetCode: 0 |
| Status: OK |
| CheckDir: GSgalgoR.Rcheck |
| Warnings: 0 |
##############################################################################
##############################################################################
###
### Running command:
###
### /Library/Frameworks/R.framework/Versions/Current/Resources/bin/R CMD check --install=check:GSgalgoR.install-out.txt --library=/Library/Frameworks/R.framework/Versions/Current/Resources/library --no-vignettes --timings GSgalgoR_1.0.0.tar.gz
###
##############################################################################
##############################################################################
* using log directory ‘/Users/biocbuild/bbs-3.12-bioc/meat/GSgalgoR.Rcheck’
* using R version 4.0.5 (2021-03-31)
* using platform: x86_64-apple-darwin17.0 (64-bit)
* using session charset: UTF-8
* using option ‘--no-vignettes’
* checking for file ‘GSgalgoR/DESCRIPTION’ ... OK
* checking extension type ... Package
* this is package ‘GSgalgoR’ version ‘1.0.0’
* package encoding: UTF-8
* checking package namespace information ... OK
* checking package dependencies ... OK
* checking if this is a source package ... OK
* checking if there is a namespace ... OK
* checking for hidden files and directories ... OK
* checking for portable file names ... OK
* checking for sufficient/correct file permissions ... OK
* checking whether package ‘GSgalgoR’ can be installed ... OK
* checking installed package size ... OK
* checking package directory ... OK
* checking ‘build’ directory ... OK
* checking DESCRIPTION meta-information ... OK
* checking top-level files ... OK
* checking for left-over files ... OK
* checking index information ... OK
* checking package subdirectories ... OK
* checking R files for non-ASCII characters ... OK
* checking R files for syntax errors ... OK
* checking whether the package can be loaded ... OK
* checking whether the package can be loaded with stated dependencies ... OK
* checking whether the package can be unloaded cleanly ... OK
* checking whether the namespace can be loaded with stated dependencies ... OK
* checking whether the namespace can be unloaded cleanly ... OK
* checking dependencies in R code ... OK
* checking S3 generic/method consistency ... OK
* checking replacement functions ... OK
* checking foreign function calls ... OK
* checking R code for possible problems ... OK
* checking Rd files ... OK
* checking Rd metadata ... OK
* checking Rd cross-references ... OK
* checking for missing documentation entries ... OK
* checking for code/documentation mismatches ... OK
* checking Rd \usage sections ... OK
* checking Rd contents ... OK
* checking for unstated dependencies in examples ... OK
* checking files in ‘vignettes’ ... OK
* checking examples ... OK
Examples with CPU (user + system) or elapsed time > 5s
user system elapsed
plot_pareto 3.073 0.144 8.387
callback_base_report 2.605 0.195 8.028
classify_multiple 2.446 0.137 7.913
create_centroids 2.370 0.118 7.976
non_dominated_summary 2.215 0.096 7.673
to_dataframe 2.112 0.084 7.539
to_list 1.989 0.094 7.362
galgo 1.919 0.084 7.533
callback_base_return_pop 1.811 0.109 7.437
callback_default 1.795 0.098 7.405
callback_no_report 1.677 0.110 7.280
* checking for unstated dependencies in ‘tests’ ... OK
* checking tests ...
Running ‘testthat.R’
OK
* checking for unstated dependencies in vignettes ... OK
* checking package vignettes in ‘inst/doc’ ... OK
* checking running R code from vignettes ... SKIPPED
* checking re-building of vignette outputs ... SKIPPED
* checking PDF version of manual ... OK
* DONE
Status: OK
GSgalgoR.Rcheck/00install.out
############################################################################## ############################################################################## ### ### Running command: ### ### /Library/Frameworks/R.framework/Versions/Current/Resources/bin/R CMD INSTALL GSgalgoR ### ############################################################################## ############################################################################## * installing to library ‘/Library/Frameworks/R.framework/Versions/4.0/Resources/library’ * installing *source* package ‘GSgalgoR’ ... ** using staged installation ** R ** inst ** byte-compile and prepare package for lazy loading ** help *** installing help indices ** building package indices ** installing vignettes ** testing if installed package can be loaded from temporary location ** testing if installed package can be loaded from final location ** testing if installed package keeps a record of temporary installation path * DONE (GSgalgoR)
GSgalgoR.Rcheck/tests/testthat.Rout
R version 4.0.5 (2021-03-31) -- "Shake and Throw"
Copyright (C) 2021 The R Foundation for Statistical Computing
Platform: x86_64-apple-darwin17.0 (64-bit)
R is free software and comes with ABSOLUTELY NO WARRANTY.
You are welcome to redistribute it under certain conditions.
Type 'license()' or 'licence()' for distribution details.
R is a collaborative project with many contributors.
Type 'contributors()' for more information and
'citation()' on how to cite R or R packages in publications.
Type 'demo()' for some demos, 'help()' for on-line help, or
'help.start()' for an HTML browser interface to help.
Type 'q()' to quit R.
> library(testthat)
> library(GSgalgoR)
>
> test_check("GSgalgoR")
.......... k rnkIndex CrowD
result.1 8 0.02212350 201.10126 1 Inf
result.3 9 0.02402496 160.41638 1 1.37352
result.4 8 0.03651880 48.37265 1 Inf
k rnkIndex CrowD
result.1 8 0.02212350 201.10126 1 Inf
result.3 2 0.11803624 30.01863 1 Inf
result.4 4 0.04509859 173.43985 1 1.798893
......[ FAIL 0 | WARN 0 | SKIP 0 | PASS 13 ]
>
> proc.time()
user system elapsed
20.924 1.242 85.530
GSgalgoR.Rcheck/GSgalgoR-Ex.timings
| name | user | system | elapsed | |
| calculate_distance | 2.743 | 0.125 | 2.872 | |
| callback_base_report | 2.605 | 0.195 | 8.028 | |
| callback_base_return_pop | 1.811 | 0.109 | 7.437 | |
| callback_default | 1.795 | 0.098 | 7.405 | |
| callback_no_report | 1.677 | 0.110 | 7.280 | |
| classify_multiple | 2.446 | 0.137 | 7.913 | |
| cluster_algorithm | 1.170 | 0.043 | 1.215 | |
| cluster_classify | 0.915 | 0.108 | 1.026 | |
| cosine_similarity | 0.000 | 0.000 | 0.001 | |
| create_centroids | 2.370 | 0.118 | 7.976 | |
| galgo | 1.919 | 0.084 | 7.533 | |
| k_centroids | 1.155 | 0.042 | 1.320 | |
| non_dominated_summary | 2.215 | 0.096 | 7.673 | |
| plot_pareto | 3.073 | 0.144 | 8.387 | |
| surv_fitness | 0.783 | 0.019 | 0.804 | |
| to_dataframe | 2.112 | 0.084 | 7.539 | |
| to_list | 1.989 | 0.094 | 7.362 | |