| Back to Multiple platform build/check report for BioC 3.12 |
|
This page was generated on 2021-05-06 12:35:11 -0400 (Thu, 06 May 2021).
|
To the developers/maintainers of the GRENITS package: Please make sure to use the following settings in order to reproduce any error or warning you see on this page. |
| Package 785/1974 | Hostname | OS / Arch | INSTALL | BUILD | CHECK | BUILD BIN | ||||||||
| GRENITS 1.42.0 (landing page) Edward Morrissey
| malbec1 | Linux (Ubuntu 18.04.5 LTS) / x86_64 | OK | OK | OK | |||||||||
| tokay1 | Windows Server 2012 R2 Standard / x64 | OK | OK | OK | OK | |||||||||
| merida1 | macOS 10.14.6 Mojave / x86_64 | OK | OK | OK | OK | |||||||||
| Package: GRENITS |
| Version: 1.42.0 |
| Command: /Library/Frameworks/R.framework/Versions/Current/Resources/bin/R CMD check --install=check:GRENITS.install-out.txt --library=/Library/Frameworks/R.framework/Versions/Current/Resources/library --no-vignettes --timings GRENITS_1.42.0.tar.gz |
| StartedAt: 2021-05-06 02:26:37 -0400 (Thu, 06 May 2021) |
| EndedAt: 2021-05-06 02:31:19 -0400 (Thu, 06 May 2021) |
| EllapsedTime: 281.9 seconds |
| RetCode: 0 |
| Status: OK |
| CheckDir: GRENITS.Rcheck |
| Warnings: 0 |
##############################################################################
##############################################################################
###
### Running command:
###
### /Library/Frameworks/R.framework/Versions/Current/Resources/bin/R CMD check --install=check:GRENITS.install-out.txt --library=/Library/Frameworks/R.framework/Versions/Current/Resources/library --no-vignettes --timings GRENITS_1.42.0.tar.gz
###
##############################################################################
##############################################################################
* using log directory ‘/Users/biocbuild/bbs-3.12-bioc/meat/GRENITS.Rcheck’
* using R version 4.0.5 (2021-03-31)
* using platform: x86_64-apple-darwin17.0 (64-bit)
* using session charset: UTF-8
* using option ‘--no-vignettes’
* checking for file ‘GRENITS/DESCRIPTION’ ... OK
* checking extension type ... Package
* this is package ‘GRENITS’ version ‘1.42.0’
* checking package namespace information ... OK
* checking package dependencies ... OK
* checking if this is a source package ... OK
* checking if there is a namespace ... OK
* checking for hidden files and directories ... OK
* checking for portable file names ... OK
* checking for sufficient/correct file permissions ... OK
* checking whether package ‘GRENITS’ can be installed ... OK
* checking installed package size ... OK
* checking package directory ... OK
* checking ‘build’ directory ... OK
* checking DESCRIPTION meta-information ... OK
* checking top-level files ... OK
* checking for left-over files ... OK
* checking index information ... OK
* checking package subdirectories ... OK
* checking R files for non-ASCII characters ... OK
* checking R files for syntax errors ... OK
* checking whether the package can be loaded ... OK
* checking whether the package can be loaded with stated dependencies ... OK
* checking whether the package can be unloaded cleanly ... OK
* checking whether the namespace can be loaded with stated dependencies ... OK
* checking whether the namespace can be unloaded cleanly ... OK
* checking dependencies in R code ... NOTE
Packages in Depends field not imported from:
‘Rcpp’ ‘RcppArmadillo’ ‘ggplot2’
These packages need to be imported from (in the NAMESPACE file)
for when this namespace is loaded but not attached.
* checking S3 generic/method consistency ... OK
* checking replacement functions ... OK
* checking foreign function calls ... OK
* checking R code for possible problems ... NOTE
.heatMap.ggplot: no visible global function definition for ‘ggplot’
.heatMap.ggplot: no visible global function definition for ‘aes’
.heatMap.ggplot: no visible binding for global variable ‘Var2’
.heatMap.ggplot: no visible binding for global variable ‘Var1’
.heatMap.ggplot: no visible global function definition for ‘geom_tile’
.heatMap.ggplot: no visible binding for global variable ‘value’
.heatMap.ggplot: no visible global function definition for
‘scale_fill_gradient’
.heatMap.ggplot: no visible global function definition for ‘theme’
.heatMap.ggplot: no visible global function definition for
‘element_blank’
.heatMap.ggplot: no visible global function definition for
‘element_text’
.heatMap.ggplot: no visible global function definition for ‘ggtitle’
.heatMap.ggplot: no visible global function definition for ‘labs’
.heatMap.ggplot: no visible global function definition for
‘scale_x_discrete’
.heatMap.ggplot: no visible global function definition for
‘scale_y_discrete’
.plotDistribParents.LargeMat: no visible global function definition for
‘ggplot’
.plotDistribParents.LargeMat: no visible global function definition for
‘aes’
.plotDistribParents.LargeMat: no visible binding for global variable
‘variable’
.plotDistribParents.LargeMat: no visible binding for global variable
‘GeneNames’
.plotDistribParents.LargeMat: no visible global function definition for
‘geom_tile’
.plotDistribParents.LargeMat: no visible binding for global variable
‘value’
.plotDistribParents.LargeMat: no visible global function definition for
‘scale_fill_gradient’
.plotDistribParents.LargeMat: no visible global function definition for
‘theme’
.plotDistribParents.LargeMat: no visible global function definition for
‘element_blank’
.plotDistribParents.LargeMat: no visible global function definition for
‘element_text’
.plotDistribParents.LargeMat: no visible global function definition for
‘ggtitle’
.plotDistribParents.LargeMat: no visible global function definition for
‘labs’
.plotDistribParents.LargeMat: no visible global function definition for
‘scale_x_discrete’
.plotDistribParents.LargeMat: no visible global function definition for
‘scale_y_discrete’
.plotDistribParents.LargeMat: no visible global function definition for
‘facet_wrap’
Undefined global functions or variables:
GeneNames Var1 Var2 aes element_blank element_text facet_wrap
geom_tile ggplot ggtitle labs scale_fill_gradient scale_x_discrete
scale_y_discrete theme value variable
* checking Rd files ... OK
* checking Rd metadata ... OK
* checking Rd cross-references ... OK
* checking for missing documentation entries ... OK
* checking for code/documentation mismatches ... OK
* checking Rd \usage sections ... OK
* checking Rd contents ... OK
* checking for unstated dependencies in examples ... OK
* checking contents of ‘data’ directory ... OK
* checking data for non-ASCII characters ... OK
* checking data for ASCII and uncompressed saves ... OK
* checking line endings in C/C++/Fortran sources/headers ... OK
* checking line endings in Makefiles ... OK
* checking compilation flags in Makevars ... OK
* checking for GNU extensions in Makefiles ... OK
* checking for portable use of $(BLAS_LIBS) and $(LAPACK_LIBS) ... OK
* checking use of PKG_*FLAGS in Makefiles ... OK
* checking compiled code ... NOTE
Note: information on .o files is not available
* checking sizes of PDF files under ‘inst/doc’ ... OK
* checking files in ‘vignettes’ ... OK
* checking examples ... OK
Examples with CPU (user + system) or elapsed time > 5s
user system elapsed
function_NonLinearNet 86.736 0.303 87.259
function_ReplicatesNet_student 49.061 0.391 67.082
function_ReplicatesNet_gauss 31.357 0.241 32.984
analyse.output 17.017 0.142 17.250
function_LinearNet 16.824 0.130 16.976
readChains 10.248 0.101 13.809
* checking for unstated dependencies in vignettes ... OK
* checking package vignettes in ‘inst/doc’ ... OK
* checking running R code from vignettes ... SKIPPED
* checking re-building of vignette outputs ... SKIPPED
* checking PDF version of manual ... OK
* DONE
Status: 3 NOTEs
See
‘/Users/biocbuild/bbs-3.12-bioc/meat/GRENITS.Rcheck/00check.log’
for details.
GRENITS.Rcheck/00install.out
##############################################################################
##############################################################################
###
### Running command:
###
### /Library/Frameworks/R.framework/Versions/Current/Resources/bin/R CMD INSTALL GRENITS
###
##############################################################################
##############################################################################
* installing to library ‘/Library/Frameworks/R.framework/Versions/4.0/Resources/library’
* installing *source* package ‘GRENITS’ ...
** using staged installation
** libs
clang++ -mmacosx-version-min=10.13 -std=gnu++11 -I"/Library/Frameworks/R.framework/Resources/include" -DNDEBUG -I'/Library/Frameworks/R.framework/Versions/4.0/Resources/library/Rcpp/include' -I'/Library/Frameworks/R.framework/Versions/4.0/Resources/library/RcppArmadillo/include' -I/usr/local/include -fPIC -Wall -g -O2 -c AR1_Gauss_biocond.cc -o AR1_Gauss_biocond.o
In file included from AR1_Gauss_biocond.cc:3:
In file included from /Library/Frameworks/R.framework/Versions/4.0/Resources/library/RcppArmadillo/include/RcppArmadillo.h:34:
In file included from /Library/Frameworks/R.framework/Versions/4.0/Resources/library/Rcpp/include/Rcpp.h:57:
/Library/Frameworks/R.framework/Versions/4.0/Resources/library/Rcpp/include/Rcpp/DataFrame.h:136:18: warning: unused variable 'data' [-Wunused-variable]
SEXP data = Parent::get__();
^
AR1_Gauss_biocond.cc:49:30: warning: unused variable 'numDiag' [-Wunused-variable]
int num_fixedON, numDiag, p_sqr, free_gammas;
^
2 warnings generated.
clang++ -mmacosx-version-min=10.13 -std=gnu++11 -I"/Library/Frameworks/R.framework/Resources/include" -DNDEBUG -I'/Library/Frameworks/R.framework/Versions/4.0/Resources/library/Rcpp/include' -I'/Library/Frameworks/R.framework/Versions/4.0/Resources/library/RcppArmadillo/include' -I/usr/local/include -fPIC -Wall -g -O2 -c AR1_Student_biocond.cc -o AR1_Student_biocond.o
In file included from AR1_Student_biocond.cc:3:
In file included from /Library/Frameworks/R.framework/Versions/4.0/Resources/library/RcppArmadillo/include/RcppArmadillo.h:34:
In file included from /Library/Frameworks/R.framework/Versions/4.0/Resources/library/Rcpp/include/Rcpp.h:57:
/Library/Frameworks/R.framework/Versions/4.0/Resources/library/Rcpp/include/Rcpp/DataFrame.h:136:18: warning: unused variable 'data' [-Wunused-variable]
SEXP data = Parent::get__();
^
AR1_Student_biocond.cc:49:30: warning: unused variable 'numDiag' [-Wunused-variable]
int num_fixedON, numDiag, p_sqr, free_gammas;
^
2 warnings generated.
clang++ -mmacosx-version-min=10.13 -std=gnu++11 -I"/Library/Frameworks/R.framework/Resources/include" -DNDEBUG -I'/Library/Frameworks/R.framework/Versions/4.0/Resources/library/Rcpp/include' -I'/Library/Frameworks/R.framework/Versions/4.0/Resources/library/RcppArmadillo/include' -I/usr/local/include -fPIC -Wall -g -O2 -c AR1_biocond.cc -o AR1_biocond.o
In file included from AR1_biocond.cc:3:
In file included from /Library/Frameworks/R.framework/Versions/4.0/Resources/library/RcppArmadillo/include/RcppArmadillo.h:34:
In file included from /Library/Frameworks/R.framework/Versions/4.0/Resources/library/Rcpp/include/Rcpp.h:57:
/Library/Frameworks/R.framework/Versions/4.0/Resources/library/Rcpp/include/Rcpp/DataFrame.h:136:18: warning: unused variable 'data' [-Wunused-variable]
SEXP data = Parent::get__();
^
AR1_biocond.cc:48:30: warning: unused variable 'numDiag' [-Wunused-variable]
int num_fixedON, numDiag, p_sqr, free_gammas;
^
2 warnings generated.
clang++ -mmacosx-version-min=10.13 -std=gnu++11 -I"/Library/Frameworks/R.framework/Resources/include" -DNDEBUG -I'/Library/Frameworks/R.framework/Versions/4.0/Resources/library/Rcpp/include' -I'/Library/Frameworks/R.framework/Versions/4.0/Resources/library/RcppArmadillo/include' -I/usr/local/include -fPIC -Wall -g -O2 -c PSplines_biocond.cc -o PSplines_biocond.o
In file included from PSplines_biocond.cc:3:
In file included from /Library/Frameworks/R.framework/Versions/4.0/Resources/library/RcppArmadillo/include/RcppArmadillo.h:34:
In file included from /Library/Frameworks/R.framework/Versions/4.0/Resources/library/Rcpp/include/Rcpp.h:57:
/Library/Frameworks/R.framework/Versions/4.0/Resources/library/Rcpp/include/Rcpp/DataFrame.h:136:18: warning: unused variable 'data' [-Wunused-variable]
SEXP data = Parent::get__();
^
PSplines_biocond.cc:45:63: warning: unused variable 'numDiag' [-Wunused-variable]
int num_fixedON, nodesSpline, degreeSpline, numDiag, free_gammas;
^
2 warnings generated.
clang++ -mmacosx-version-min=10.13 -std=gnu++11 -I"/Library/Frameworks/R.framework/Resources/include" -DNDEBUG -I'/Library/Frameworks/R.framework/Versions/4.0/Resources/library/Rcpp/include' -I'/Library/Frameworks/R.framework/Versions/4.0/Resources/library/RcppArmadillo/include' -I/usr/local/include -fPIC -Wall -g -O2 -c R_C_interface.cpp -o R_C_interface.o
In file included from R_C_interface.cpp:22:
In file included from /Library/Frameworks/R.framework/Versions/4.0/Resources/library/RcppArmadillo/include/RcppArmadillo.h:34:
In file included from /Library/Frameworks/R.framework/Versions/4.0/Resources/library/Rcpp/include/Rcpp.h:57:
/Library/Frameworks/R.framework/Versions/4.0/Resources/library/Rcpp/include/Rcpp/DataFrame.h:136:18: warning: unused variable 'data' [-Wunused-variable]
SEXP data = Parent::get__();
^
1 warning generated.
clang++ -mmacosx-version-min=10.13 -std=gnu++11 -I"/Library/Frameworks/R.framework/Resources/include" -DNDEBUG -I'/Library/Frameworks/R.framework/Versions/4.0/Resources/library/Rcpp/include' -I'/Library/Frameworks/R.framework/Versions/4.0/Resources/library/RcppArmadillo/include' -I/usr/local/include -fPIC -Wall -g -O2 -c ReadMCMCFiles.cpp -o ReadMCMCFiles.o
In file included from ReadMCMCFiles.cpp:6:
In file included from /Library/Frameworks/R.framework/Versions/4.0/Resources/library/RcppArmadillo/include/RcppArmadillo.h:34:
In file included from /Library/Frameworks/R.framework/Versions/4.0/Resources/library/Rcpp/include/Rcpp.h:57:
/Library/Frameworks/R.framework/Versions/4.0/Resources/library/Rcpp/include/Rcpp/DataFrame.h:136:18: warning: unused variable 'data' [-Wunused-variable]
SEXP data = Parent::get__();
^
1 warning generated.
clang++ -mmacosx-version-min=10.13 -std=gnu++11 -I"/Library/Frameworks/R.framework/Resources/include" -DNDEBUG -I'/Library/Frameworks/R.framework/Versions/4.0/Resources/library/Rcpp/include' -I'/Library/Frameworks/R.framework/Versions/4.0/Resources/library/RcppArmadillo/include' -I/usr/local/include -fPIC -Wall -g -O2 -c commonFunctions.cc -o commonFunctions.o
In file included from commonFunctions.cc:5:
In file included from /Library/Frameworks/R.framework/Versions/4.0/Resources/library/RcppArmadillo/include/RcppArmadillo.h:34:
In file included from /Library/Frameworks/R.framework/Versions/4.0/Resources/library/Rcpp/include/Rcpp.h:57:
/Library/Frameworks/R.framework/Versions/4.0/Resources/library/Rcpp/include/Rcpp/DataFrame.h:136:18: warning: unused variable 'data' [-Wunused-variable]
SEXP data = Parent::get__();
^
commonFunctions.cc:438:59: warning: unused variable 'num_on' [-Wunused-variable]
unsigned int num_on;
^
commonFunctions.cc:480:59: warning: unused variable 'num_on' [-Wunused-variable]
unsigned int num_on;
^
3 warnings generated.
clang++ -mmacosx-version-min=10.13 -std=gnu++11 -I"/Library/Frameworks/R.framework/Resources/include" -DNDEBUG -I'/Library/Frameworks/R.framework/Versions/4.0/Resources/library/Rcpp/include' -I'/Library/Frameworks/R.framework/Versions/4.0/Resources/library/RcppArmadillo/include' -I/usr/local/include -fPIC -Wall -g -O2 -c functionsErrorModel.cc -o functionsErrorModel.o
In file included from functionsErrorModel.cc:5:
In file included from /Library/Frameworks/R.framework/Versions/4.0/Resources/library/RcppArmadillo/include/RcppArmadillo.h:34:
In file included from /Library/Frameworks/R.framework/Versions/4.0/Resources/library/Rcpp/include/Rcpp.h:57:
/Library/Frameworks/R.framework/Versions/4.0/Resources/library/Rcpp/include/Rcpp/DataFrame.h:136:18: warning: unused variable 'data' [-Wunused-variable]
SEXP data = Parent::get__();
^
1 warning generated.
clang++ -mmacosx-version-min=10.13 -std=gnu++11 -I"/Library/Frameworks/R.framework/Resources/include" -DNDEBUG -I'/Library/Frameworks/R.framework/Versions/4.0/Resources/library/Rcpp/include' -I'/Library/Frameworks/R.framework/Versions/4.0/Resources/library/RcppArmadillo/include' -I/usr/local/include -fPIC -Wall -g -O2 -c matrixManipulationFunctions.cc -o matrixManipulationFunctions.o
In file included from matrixManipulationFunctions.cc:3:
In file included from /Library/Frameworks/R.framework/Versions/4.0/Resources/library/RcppArmadillo/include/RcppArmadillo.h:34:
In file included from /Library/Frameworks/R.framework/Versions/4.0/Resources/library/Rcpp/include/Rcpp.h:57:
/Library/Frameworks/R.framework/Versions/4.0/Resources/library/Rcpp/include/Rcpp/DataFrame.h:136:18: warning: unused variable 'data' [-Wunused-variable]
SEXP data = Parent::get__();
^
1 warning generated.
clang++ -mmacosx-version-min=10.13 -std=gnu++11 -I"/Library/Frameworks/R.framework/Resources/include" -DNDEBUG -I'/Library/Frameworks/R.framework/Versions/4.0/Resources/library/Rcpp/include' -I'/Library/Frameworks/R.framework/Versions/4.0/Resources/library/RcppArmadillo/include' -I/usr/local/include -fPIC -Wall -g -O2 -c updateFunctions_AR1.cc -o updateFunctions_AR1.o
In file included from updateFunctions_AR1.cc:5:
In file included from /Library/Frameworks/R.framework/Versions/4.0/Resources/library/RcppArmadillo/include/RcppArmadillo.h:34:
In file included from /Library/Frameworks/R.framework/Versions/4.0/Resources/library/Rcpp/include/Rcpp.h:57:
/Library/Frameworks/R.framework/Versions/4.0/Resources/library/Rcpp/include/Rcpp/DataFrame.h:136:18: warning: unused variable 'data' [-Wunused-variable]
SEXP data = Parent::get__();
^
updateFunctions_AR1.cc:264:59: warning: unused variable 'num_on' [-Wunused-variable]
unsigned int num_on;
^
2 warnings generated.
clang++ -mmacosx-version-min=10.13 -std=gnu++11 -I"/Library/Frameworks/R.framework/Resources/include" -DNDEBUG -I'/Library/Frameworks/R.framework/Versions/4.0/Resources/library/Rcpp/include' -I'/Library/Frameworks/R.framework/Versions/4.0/Resources/library/RcppArmadillo/include' -I/usr/local/include -fPIC -Wall -g -O2 -c updateFunctions_Splines.cc -o updateFunctions_Splines.o
In file included from updateFunctions_Splines.cc:5:
In file included from /Library/Frameworks/R.framework/Versions/4.0/Resources/library/RcppArmadillo/include/RcppArmadillo.h:34:
In file included from /Library/Frameworks/R.framework/Versions/4.0/Resources/library/Rcpp/include/Rcpp.h:57:
/Library/Frameworks/R.framework/Versions/4.0/Resources/library/Rcpp/include/Rcpp/DataFrame.h:136:18: warning: unused variable 'data' [-Wunused-variable]
SEXP data = Parent::get__();
^
1 warning generated.
clang++ -mmacosx-version-min=10.13 -std=gnu++11 -dynamiclib -Wl,-headerpad_max_install_names -undefined dynamic_lookup -single_module -multiply_defined suppress -L/Library/Frameworks/R.framework/Resources/lib -L/usr/local/lib -o GRENITS.so AR1_Gauss_biocond.o AR1_Student_biocond.o AR1_biocond.o PSplines_biocond.o R_C_interface.o ReadMCMCFiles.o commonFunctions.o functionsErrorModel.o matrixManipulationFunctions.o updateFunctions_AR1.o updateFunctions_Splines.o -L/Library/Frameworks/R.framework/Resources/lib -lRlapack -L/Library/Frameworks/R.framework/Resources/lib -lRblas -L/usr/local/gfortran/lib/gcc/x86_64-apple-darwin18/8.2.0 -L/usr/local/gfortran/lib -lgfortran -lquadmath -lm -F/Library/Frameworks/R.framework/.. -framework R -Wl,-framework -Wl,CoreFoundation
installing to /Library/Frameworks/R.framework/Versions/4.0/Resources/library/00LOCK-GRENITS/00new/GRENITS/libs
** R
** data
** inst
** byte-compile and prepare package for lazy loading
** help
*** installing help indices
** building package indices
** installing vignettes
** testing if installed package can be loaded from temporary location
** checking absolute paths in shared objects and dynamic libraries
** testing if installed package can be loaded from final location
** testing if installed package keeps a record of temporary installation path
* DONE (GRENITS)
GRENITS.Rcheck/GRENITS-Ex.timings
| name | user | system | elapsed | |
| analyse.output | 17.017 | 0.142 | 17.250 | |
| defaultParams_gauss | 0.011 | 0.001 | 0.013 | |
| defaultParams_linear | 0.020 | 0.002 | 0.021 | |
| defaultParams_nonLinear | 0.131 | 0.005 | 0.137 | |
| defaultParams_student | 0.038 | 0.002 | 0.040 | |
| function_LinearNet | 16.824 | 0.130 | 16.976 | |
| function_NonLinearNet | 86.736 | 0.303 | 87.259 | |
| function_ReplicatesNet_gauss | 31.357 | 0.241 | 32.984 | |
| function_ReplicatesNet_student | 49.061 | 0.391 | 67.082 | |
| plotPriors | 0.115 | 0.003 | 0.119 | |
| readChains | 10.248 | 0.101 | 13.809 | |