| Back to Multiple platform build/check report for BioC 3.12 |
|
This page was generated on 2021-05-06 12:27:45 -0400 (Thu, 06 May 2021).
|
To the developers/maintainers of the GGPA package: Please make sure to use the following settings in order to reproduce any error or warning you see on this page. |
| Package 738/1974 | Hostname | OS / Arch | INSTALL | BUILD | CHECK | BUILD BIN | ||||||||
| GGPA 1.2.0 (landing page) Dongjun Chung
| malbec1 | Linux (Ubuntu 18.04.5 LTS) / x86_64 | OK | OK | OK | |||||||||
| tokay1 | Windows Server 2012 R2 Standard / x64 | OK | OK | OK | OK | |||||||||
| merida1 | macOS 10.14.6 Mojave / x86_64 | OK | OK | OK | OK | |||||||||
| Package: GGPA |
| Version: 1.2.0 |
| Command: /home/biocbuild/bbs-3.12-bioc/R/bin/R CMD INSTALL GGPA |
| StartedAt: 2021-05-05 17:02:39 -0400 (Wed, 05 May 2021) |
| EndedAt: 2021-05-05 17:03:24 -0400 (Wed, 05 May 2021) |
| EllapsedTime: 45.0 seconds |
| RetCode: 0 |
| Status: OK |
##############################################################################
##############################################################################
###
### Running command:
###
### /home/biocbuild/bbs-3.12-bioc/R/bin/R CMD INSTALL GGPA
###
##############################################################################
##############################################################################
* installing to library ‘/home/biocbuild/bbs-3.12-bioc/R/library’
* installing *source* package ‘GGPA’ ...
** using staged installation
** libs
g++ -std=gnu++11 -I"/home/biocbuild/bbs-3.12-bioc/R/include" -DNDEBUG -I'/home/biocbuild/bbs-3.12-bioc/R/library/Rcpp/include' -I'/home/biocbuild/bbs-3.12-bioc/R/library/RcppArmadillo/include' -I/usr/local/include -fpic -g -O2 -Wall -c 1_Main.cpp -o 1_Main.o
g++ -std=gnu++11 -I"/home/biocbuild/bbs-3.12-bioc/R/include" -DNDEBUG -I'/home/biocbuild/bbs-3.12-bioc/R/library/Rcpp/include' -I'/home/biocbuild/bbs-3.12-bioc/R/library/RcppArmadillo/include' -I/usr/local/include -fpic -g -O2 -Wall -c 3_Param.cpp -o 3_Param.o
3_Param.cpp: In member function ‘void CParam::S6_G_beta_ij(CData&)’:
3_Param.cpp:350:47: warning: ‘normC_prop’ may be used uninitialized in this function [-Wmaybe-uninitialized]
Beta = Beta_prop ; G_mat = G_prop ; normC = normC_prop ;
~~~~~~^~~~~~~~~~~~
3_Param.cpp:335:32: warning: ‘logP_denom’ may be used uninitialized in this function [-Wmaybe-uninitialized]
if ( w_cur > 0 ) logP_denom = logP_denom - log(w_cur) ; // f(G) // if w_cur=0, let 1/w_cur = 1, so that log(w_cur) = 0
~~~~~~~~~~~^~~~~~~~~~~~~~~~~~~~~~~~~
3_Param.cpp:334:33: warning: ‘logP_numer’ may be used uninitialized in this function [-Wmaybe-uninitialized]
if ( w_prop > 0 ) logP_numer = logP_numer - log(w_prop) ; // f(G^q) // if w_prop=0, let 1/w_prop = 1, so that log(w_prop) = 0
~~~~~~~~~~~^~~~~~~~~~~~~~~~~~~~~~~~~~
g++ -std=gnu++11 -I"/home/biocbuild/bbs-3.12-bioc/R/include" -DNDEBUG -I'/home/biocbuild/bbs-3.12-bioc/R/library/Rcpp/include' -I'/home/biocbuild/bbs-3.12-bioc/R/library/RcppArmadillo/include' -I/usr/local/include -fpic -g -O2 -Wall -c Gibbs_e_it_no_ann.cpp -o Gibbs_e_it_no_ann.o
g++ -std=gnu++11 -I"/home/biocbuild/bbs-3.12-bioc/R/include" -DNDEBUG -I'/home/biocbuild/bbs-3.12-bioc/R/library/Rcpp/include' -I'/home/biocbuild/bbs-3.12-bioc/R/library/RcppArmadillo/include' -I/usr/local/include -fpic -g -O2 -Wall -c RcppExports.cpp -o RcppExports.o
g++ -std=gnu++11 -shared -L/home/biocbuild/bbs-3.12-bioc/R/lib -L/usr/local/lib -o GGPA.so 1_Main.o 3_Param.o Gibbs_e_it_no_ann.o RcppExports.o -L/home/biocbuild/bbs-3.12-bioc/R/lib -lRlapack -L/home/biocbuild/bbs-3.12-bioc/R/lib -lRblas -lgfortran -lm -lquadmath -L/home/biocbuild/bbs-3.12-bioc/R/lib -lR
installing to /home/biocbuild/bbs-3.12-bioc/R/library/00LOCK-GGPA/00new/GGPA/libs
** R
** data
** byte-compile and prepare package for lazy loading
** help
*** installing help indices
** building package indices
** installing vignettes
** testing if installed package can be loaded from temporary location
** checking absolute paths in shared objects and dynamic libraries
** testing if installed package can be loaded from final location
** testing if installed package keeps a record of temporary installation path
* DONE (GGPA)