| Back to Multiple platform build/check report for BioC 3.12 |
|
This page was generated on 2021-05-06 12:27:19 -0400 (Thu, 06 May 2021).
|
To the developers/maintainers of the DeMixT package: Please make sure to use the following settings in order to reproduce any error or warning you see on this page. |
| Package 455/1974 | Hostname | OS / Arch | INSTALL | BUILD | CHECK | BUILD BIN | ||||||||
| DeMixT 1.6.0 (landing page) Shaolong Cao
| malbec1 | Linux (Ubuntu 18.04.5 LTS) / x86_64 | OK | OK | OK | |||||||||
| tokay1 | Windows Server 2012 R2 Standard / x64 | OK | OK | OK | OK | |||||||||
| merida1 | macOS 10.14.6 Mojave / x86_64 | OK | OK | OK | OK | |||||||||
| Package: DeMixT |
| Version: 1.6.0 |
| Command: /home/biocbuild/bbs-3.12-bioc/R/bin/R CMD INSTALL DeMixT |
| StartedAt: 2021-05-05 16:25:06 -0400 (Wed, 05 May 2021) |
| EndedAt: 2021-05-05 16:25:53 -0400 (Wed, 05 May 2021) |
| EllapsedTime: 46.8 seconds |
| RetCode: 0 |
| Status: OK |
##############################################################################
##############################################################################
###
### Running command:
###
### /home/biocbuild/bbs-3.12-bioc/R/bin/R CMD INSTALL DeMixT
###
##############################################################################
##############################################################################
* installing to library ‘/home/biocbuild/bbs-3.12-bioc/R/library’
* installing *source* package ‘DeMixT’ ...
** using staged installation
** libs
gcc -I"/home/biocbuild/bbs-3.12-bioc/R/include" -DNDEBUG -I'/home/biocbuild/bbs-3.12-bioc/R/library/Rcpp/include' -I/usr/local/include -fopenmp -fpic -g -O2 -Wall -c DeMixT.c -o DeMixT.o
DeMixT.c: In function ‘Tdemix’:
DeMixT.c:268:28: warning: implicit declaration of function ‘Rprintf’; did you mean ‘dprintf’? [-Wimplicit-function-declaration]
if (nHavepi != 1) Rprintf("Iteration %d: updating parameters\n", i+1);
^~~~~~~
dprintf
DeMixT.c:36:45: warning: variable ‘st2_sig_2’ set but not used [-Wunused-but-set-variable]
double *st1_mu_2, *st2_mu_2, *st1_sig_2, *st2_sig_2;
^~~~~~~~~
DeMixT.c:36:33: warning: variable ‘st1_sig_2’ set but not used [-Wunused-but-set-variable]
double *st1_mu_2, *st2_mu_2, *st1_sig_2, *st2_sig_2;
^~~~~~~~~
DeMixT.c:36:22: warning: variable ‘st2_mu_2’ set but not used [-Wunused-but-set-variable]
double *st1_mu_2, *st2_mu_2, *st1_sig_2, *st2_sig_2;
^~~~~~~~
DeMixT.c:36:11: warning: variable ‘st1_mu_2’ set but not used [-Wunused-but-set-variable]
double *st1_mu_2, *st2_mu_2, *st1_sig_2, *st2_sig_2;
^~~~~~~~
DeMixT.c: In function ‘gettumor’:
DeMixT.c:590:21: warning: variable ‘obj_new’ set but not used [-Wunused-but-set-variable]
double obj_old, obj_new;
^~~~~~~
DeMixT.c:590:12: warning: variable ‘obj_old’ set but not used [-Wunused-but-set-variable]
double obj_old, obj_new;
^~~~~~~
DeMixT.c: In function ‘getpi’:
DeMixT.c:1279:21: warning: variable ‘obj_new’ set but not used [-Wunused-but-set-variable]
double obj_old, obj_new;
^~~~~~~
DeMixT.c:1279:12: warning: variable ‘obj_old’ set but not used [-Wunused-but-set-variable]
double obj_old, obj_new;
^~~~~~~
DeMixT.c: In function ‘getspikeinpi’:
DeMixT.c:1306:18: warning: variable ‘obj_new’ set but not used [-Wunused-but-set-variable]
double obj_old, obj_new;
^~~~~~~
DeMixT.c:1306:9: warning: variable ‘obj_old’ set but not used [-Wunused-but-set-variable]
double obj_old, obj_new;
^~~~~~~
DeMixT.c: In function ‘getpiT’:
DeMixT.c:1321:21: warning: variable ‘obj_new’ set but not used [-Wunused-but-set-variable]
double obj_old, obj_new;
^~~~~~~
DeMixT.c:1321:12: warning: variable ‘obj_old’ set but not used [-Wunused-but-set-variable]
double obj_old, obj_new;
^~~~~~~
DeMixT.c: In function ‘Tdemix’:
DeMixT.c:194:11: warning: ‘Tavgtmp’ may be used uninitialized in this function [-Wmaybe-uninitialized]
if(Tavgtmp <= 0) Tavgtmp = exp(10*log(2.0) + p->Tsigma[j]/2.0*pow(log(2.0), 2.0));
^
DeMixT.c:93:8: warning: argument 1 range [18446744071562067968, 18446744073709551615] exceeds maximum object size 9223372036854775807 [-Walloc-size-larger-than=]
FD = calloc(nS ,sizeof(double *));
^~~~~~~~~~~~~~~~~~~~~~~~~~~~
In file included from DeMixT.c:8:0:
/usr/include/stdlib.h:541:14: note: in a call to allocation function ‘calloc’ declared here
extern void *calloc (size_t __nmemb, size_t __size)
^~~~~~
g++ -std=gnu++11 -I"/home/biocbuild/bbs-3.12-bioc/R/include" -DNDEBUG -I'/home/biocbuild/bbs-3.12-bioc/R/library/Rcpp/include' -I/usr/local/include -fpic -g -O2 -Wall -c Profile_2D.cpp -o Profile_2D.o
g++ -std=gnu++11 -I"/home/biocbuild/bbs-3.12-bioc/R/include" -DNDEBUG -I'/home/biocbuild/bbs-3.12-bioc/R/library/Rcpp/include' -I/usr/local/include -fpic -g -O2 -Wall -c RcppExports.cpp -o RcppExports.o
gcc -I"/home/biocbuild/bbs-3.12-bioc/R/include" -DNDEBUG -I'/home/biocbuild/bbs-3.12-bioc/R/library/Rcpp/include' -I/usr/local/include -fopenmp -fpic -g -O2 -Wall -c init.c -o init.o
gcc -I"/home/biocbuild/bbs-3.12-bioc/R/include" -DNDEBUG -I'/home/biocbuild/bbs-3.12-bioc/R/library/Rcpp/include' -I/usr/local/include -fopenmp -fpic -g -O2 -Wall -c registerDynamicSymbol.c -o registerDynamicSymbol.o
g++ -std=gnu++11 -shared -L/home/biocbuild/bbs-3.12-bioc/R/lib -L/usr/local/lib -o DeMixT.so DeMixT.o Profile_2D.o RcppExports.o init.o registerDynamicSymbol.o -fopenmp -L/home/biocbuild/bbs-3.12-bioc/R/lib -lR
installing to /home/biocbuild/bbs-3.12-bioc/R/library/00LOCK-DeMixT/00new/DeMixT/libs
** R
** data
*** moving datasets to lazyload DB
** inst
** byte-compile and prepare package for lazy loading
** help
*** installing help indices
** building package indices
** installing vignettes
** testing if installed package can be loaded from temporary location
** checking absolute paths in shared objects and dynamic libraries
** testing if installed package can be loaded from final location
** testing if installed package keeps a record of temporary installation path
* DONE (DeMixT)