| Back to Multiple platform build/check report for BioC 3.12 |
|
This page was generated on 2021-05-06 12:34:49 -0400 (Thu, 06 May 2021).
|
To the developers/maintainers of the DMRcate package: Please make sure to use the following settings in order to reproduce any error or warning you see on this page. |
| Package 494/1974 | Hostname | OS / Arch | INSTALL | BUILD | CHECK | BUILD BIN | ||||||||
| DMRcate 2.4.1 (landing page) Tim Peters
| malbec1 | Linux (Ubuntu 18.04.5 LTS) / x86_64 | OK | OK | OK | |||||||||
| tokay1 | Windows Server 2012 R2 Standard / x64 | OK | OK | ERROR | OK | |||||||||
| merida1 | macOS 10.14.6 Mojave / x86_64 | OK | OK | OK | OK | |||||||||
| Package: DMRcate |
| Version: 2.4.1 |
| Command: /Library/Frameworks/R.framework/Versions/Current/Resources/bin/R CMD check --install=check:DMRcate.install-out.txt --library=/Library/Frameworks/R.framework/Versions/Current/Resources/library --no-vignettes --timings DMRcate_2.4.1.tar.gz |
| StartedAt: 2021-05-06 01:13:13 -0400 (Thu, 06 May 2021) |
| EndedAt: 2021-05-06 01:42:41 -0400 (Thu, 06 May 2021) |
| EllapsedTime: 1767.5 seconds |
| RetCode: 0 |
| Status: OK |
| CheckDir: DMRcate.Rcheck |
| Warnings: 0 |
##############################################################################
##############################################################################
###
### Running command:
###
### /Library/Frameworks/R.framework/Versions/Current/Resources/bin/R CMD check --install=check:DMRcate.install-out.txt --library=/Library/Frameworks/R.framework/Versions/Current/Resources/library --no-vignettes --timings DMRcate_2.4.1.tar.gz
###
##############################################################################
##############################################################################
* using log directory ‘/Users/biocbuild/bbs-3.12-bioc/meat/DMRcate.Rcheck’
* using R version 4.0.5 (2021-03-31)
* using platform: x86_64-apple-darwin17.0 (64-bit)
* using session charset: UTF-8
* using option ‘--no-vignettes’
* checking for file ‘DMRcate/DESCRIPTION’ ... OK
* this is package ‘DMRcate’ version ‘2.4.1’
* checking package namespace information ... OK
* checking package dependencies ... OK
* checking if this is a source package ... OK
* checking if there is a namespace ... OK
* checking for hidden files and directories ... OK
* checking for portable file names ... OK
* checking for sufficient/correct file permissions ... OK
* checking whether package ‘DMRcate’ can be installed ... OK
* checking installed package size ... OK
* checking package directory ... OK
* checking ‘build’ directory ... OK
* checking DESCRIPTION meta-information ... OK
* checking top-level files ... OK
* checking for left-over files ... OK
* checking index information ... OK
* checking package subdirectories ... OK
* checking R files for non-ASCII characters ... OK
* checking R files for syntax errors ... OK
* checking whether the package can be loaded ... OK
* checking whether the package can be loaded with stated dependencies ... OK
* checking whether the package can be unloaded cleanly ... OK
* checking whether the namespace can be loaded with stated dependencies ... OK
* checking whether the namespace can be unloaded cleanly ... OK
* checking dependencies in R code ... OK
* checking S3 generic/method consistency ... OK
* checking replacement functions ... OK
* checking foreign function calls ... OK
* checking R code for possible problems ... OK
* checking Rd files ... OK
* checking Rd metadata ... OK
* checking Rd cross-references ... OK
* checking for missing documentation entries ... OK
* checking for code/documentation mismatches ... OK
* checking Rd \usage sections ... OK
* checking Rd contents ... OK
* checking for unstated dependencies in examples ... OK
* checking sizes of PDF files under ‘inst/doc’ ... OK
* checking files in ‘vignettes’ ... OK
* checking examples ... OK
Examples with CPU (user + system) or elapsed time > 5s
user system elapsed
DMR.plot 227.352 9.646 251.551
DMRcate-package 193.150 7.756 208.905
cpg.annotate 154.727 10.066 166.224
extractRanges 151.993 8.773 162.323
dmrcate 146.435 7.420 155.025
rmSNPandCH 143.175 5.850 150.068
changeFDR 79.575 6.285 86.545
sequencing.annotate 74.269 5.725 80.455
* checking for unstated dependencies in vignettes ... OK
* checking package vignettes in ‘inst/doc’ ... OK
* checking running R code from vignettes ... SKIPPED
* checking re-building of vignette outputs ... SKIPPED
* checking PDF version of manual ... OK
* DONE
Status: OK
DMRcate.Rcheck/00install.out
############################################################################## ############################################################################## ### ### Running command: ### ### /Library/Frameworks/R.framework/Versions/Current/Resources/bin/R CMD INSTALL DMRcate ### ############################################################################## ############################################################################## * installing to library ‘/Library/Frameworks/R.framework/Versions/4.0/Resources/library’ * installing *source* package ‘DMRcate’ ... ** using staged installation ** R ** inst ** byte-compile and prepare package for lazy loading Warning: replacing previous import 'minfi::getMeth' by 'bsseq::getMeth' when loading 'DMRcate' ** help *** installing help indices ** building package indices ** installing vignettes ** testing if installed package can be loaded from temporary location Warning: replacing previous import 'minfi::getMeth' by 'bsseq::getMeth' when loading 'DMRcate' ** testing if installed package can be loaded from final location Warning: replacing previous import 'minfi::getMeth' by 'bsseq::getMeth' when loading 'DMRcate' ** testing if installed package keeps a record of temporary installation path * DONE (DMRcate)
DMRcate.Rcheck/DMRcate-Ex.timings
| name | user | system | elapsed | |
| DMR.plot | 227.352 | 9.646 | 251.551 | |
| DMRcate-package | 193.150 | 7.756 | 208.905 | |
| changeFDR | 79.575 | 6.285 | 86.545 | |
| cpg.annotate | 154.727 | 10.066 | 166.224 | |
| dmrcate | 146.435 | 7.420 | 155.025 | |
| extractRanges | 151.993 | 8.773 | 162.323 | |
| rmSNPandCH | 143.175 | 5.850 | 150.068 | |
| sequencing.annotate | 74.269 | 5.725 | 80.455 | |