| Back to Multiple platform build/check report for BioC 3.12 |
|
This page was generated on 2021-05-06 12:30:11 -0400 (Thu, 06 May 2021).
|
To the developers/maintainers of the CHARGE package: Please make sure to use the following settings in order to reproduce any error or warning you see on this page. |
| Package 274/1974 | Hostname | OS / Arch | INSTALL | BUILD | CHECK | BUILD BIN | ||||||||
Benjamin Mayne
| malbec1 | Linux (Ubuntu 18.04.5 LTS) / x86_64 | ERROR | ERROR | skipped | |||||||||
| tokay1 | Windows Server 2012 R2 Standard / x64 | ERROR | ERROR | skipped | skipped | |||||||||
| merida1 | macOS 10.14.6 Mojave / x86_64 | ERROR | ERROR | skipped | skipped | |||||||||
| Package: CHARGE |
| Version: 1.10.0 |
| Command: C:\cygwin\bin\curl.exe -O http://172.29.0.3/BBS/3.12/bioc/src/contrib/CHARGE_1.10.0.tar.gz && rm -rf CHARGE.buildbin-libdir && mkdir CHARGE.buildbin-libdir && C:\Users\biocbuild\bbs-3.12-bioc\R\bin\R.exe CMD INSTALL --merge-multiarch --build --library=CHARGE.buildbin-libdir CHARGE_1.10.0.tar.gz && C:\Users\biocbuild\bbs-3.12-bioc\R\bin\R.exe CMD INSTALL CHARGE_1.10.0.zip && rm CHARGE_1.10.0.tar.gz CHARGE_1.10.0.zip |
| StartedAt: 2021-05-05 19:24:16 -0400 (Wed, 05 May 2021) |
| EndedAt: 2021-05-05 19:24:17 -0400 (Wed, 05 May 2021) |
| EllapsedTime: 0.7 seconds |
| RetCode: 1 |
| Status: ERROR |
##############################################################################
##############################################################################
###
### Running command:
###
### C:\cygwin\bin\curl.exe -O http://172.29.0.3/BBS/3.12/bioc/src/contrib/CHARGE_1.10.0.tar.gz && rm -rf CHARGE.buildbin-libdir && mkdir CHARGE.buildbin-libdir && C:\Users\biocbuild\bbs-3.12-bioc\R\bin\R.exe CMD INSTALL --merge-multiarch --build --library=CHARGE.buildbin-libdir CHARGE_1.10.0.tar.gz && C:\Users\biocbuild\bbs-3.12-bioc\R\bin\R.exe CMD INSTALL CHARGE_1.10.0.zip && rm CHARGE_1.10.0.tar.gz CHARGE_1.10.0.zip
###
##############################################################################
##############################################################################
% Total % Received % Xferd Average Speed Time Time Time Current
Dload Upload Total Spent Left Speed
0 0 0 0 0 0 0 0 --:--:-- --:--:-- --:--:-- 0
100 840k 100 840k 0 0 31.0M 0 --:--:-- --:--:-- --:--:-- 32.8M
install for i386
ERROR: dependency 'modes' is not available for package 'CHARGE'
* removing 'C:/Users/biocbuild/bbs-3.12-bioc/meat/CHARGE.buildbin-libdir/CHARGE'