| Back to Multiple platform build/check report for BioC 3.12 |
|
This page was generated on 2021-05-06 12:26:55 -0400 (Thu, 06 May 2021).
|
To the developers/maintainers of the AUCell package: Please make sure to use the following settings in order to reproduce any error or warning you see on this page. |
| Package 102/1974 | Hostname | OS / Arch | INSTALL | BUILD | CHECK | BUILD BIN | ||||||||
| AUCell 1.12.0 (landing page) Sara Aibar
| malbec1 | Linux (Ubuntu 18.04.5 LTS) / x86_64 | OK | OK | OK | |||||||||
| tokay1 | Windows Server 2012 R2 Standard / x64 | OK | OK | OK | OK | |||||||||
| merida1 | macOS 10.14.6 Mojave / x86_64 | OK | OK | OK | OK | |||||||||
| Package: AUCell |
| Version: 1.12.0 |
| Command: /home/biocbuild/bbs-3.12-bioc/R/bin/R CMD check --install=check:AUCell.install-out.txt --library=/home/biocbuild/bbs-3.12-bioc/R/library --no-vignettes --timings AUCell_1.12.0.tar.gz |
| StartedAt: 2021-05-05 23:09:28 -0400 (Wed, 05 May 2021) |
| EndedAt: 2021-05-05 23:13:20 -0400 (Wed, 05 May 2021) |
| EllapsedTime: 232.3 seconds |
| RetCode: 0 |
| Status: OK |
| CheckDir: AUCell.Rcheck |
| Warnings: 0 |
##############################################################################
##############################################################################
###
### Running command:
###
### /home/biocbuild/bbs-3.12-bioc/R/bin/R CMD check --install=check:AUCell.install-out.txt --library=/home/biocbuild/bbs-3.12-bioc/R/library --no-vignettes --timings AUCell_1.12.0.tar.gz
###
##############################################################################
##############################################################################
* using log directory ‘/home/biocbuild/bbs-3.12-bioc/meat/AUCell.Rcheck’
* using R version 4.0.5 (2021-03-31)
* using platform: x86_64-pc-linux-gnu (64-bit)
* using session charset: UTF-8
* using option ‘--no-vignettes’
* checking for file ‘AUCell/DESCRIPTION’ ... OK
* checking extension type ... Package
* this is package ‘AUCell’ version ‘1.12.0’
* checking package namespace information ... OK
* checking package dependencies ... OK
* checking if this is a source package ... OK
* checking if there is a namespace ... OK
* checking for hidden files and directories ... OK
* checking for portable file names ... OK
* checking for sufficient/correct file permissions ... OK
* checking whether package ‘AUCell’ can be installed ... OK
* checking installed package size ... OK
* checking package directory ... OK
* checking ‘build’ directory ... OK
* checking DESCRIPTION meta-information ... OK
* checking top-level files ... OK
* checking for left-over files ... OK
* checking index information ... OK
* checking package subdirectories ... OK
* checking R files for non-ASCII characters ... OK
* checking R files for syntax errors ... OK
* checking whether the package can be loaded ... OK
* checking whether the package can be loaded with stated dependencies ... OK
* checking whether the package can be unloaded cleanly ... OK
* checking whether the namespace can be loaded with stated dependencies ... OK
* checking whether the namespace can be unloaded cleanly ... OK
* checking dependencies in R code ... NOTE
Namespace in Imports field not imported from: ‘S4Vectors’
All declared Imports should be used.
* checking S3 generic/method consistency ... OK
* checking replacement functions ... OK
* checking foreign function calls ... OK
* checking R code for possible problems ... NOTE
AUCell_createViewerApp : <anonymous>: no visible global function
definition for ‘%>%’
AUCell_createViewerApp : <anonymous>: no visible binding for global
variable ‘tsne1’
AUCell_createViewerApp : <anonymous>: no visible binding for global
variable ‘tsne2’
AUCell_createViewerApp : <anonymous>: no visible binding for global
variable ‘cell’
Undefined global functions or variables:
%>% cell tsne1 tsne2
* checking Rd files ... OK
* checking Rd metadata ... OK
* checking Rd cross-references ... OK
* checking for missing documentation entries ... OK
* checking for code/documentation mismatches ... OK
* checking Rd \usage sections ... OK
* checking Rd contents ... OK
* checking for unstated dependencies in examples ... OK
* checking files in ‘vignettes’ ... OK
* checking examples ... OK
Examples with CPU (user + system) or elapsed time > 5s
user system elapsed
AUCell_createViewerApp 4.772 0.152 5.023
* checking for unstated dependencies in ‘tests’ ... OK
* checking tests ...
Running ‘testthat.R’
OK
* checking for unstated dependencies in vignettes ... OK
* checking package vignettes in ‘inst/doc’ ... OK
* checking running R code from vignettes ... SKIPPED
* checking re-building of vignette outputs ... SKIPPED
* checking PDF version of manual ... OK
* DONE
Status: 2 NOTEs
See
‘/home/biocbuild/bbs-3.12-bioc/meat/AUCell.Rcheck/00check.log’
for details.
AUCell.Rcheck/00install.out
############################################################################## ############################################################################## ### ### Running command: ### ### /home/biocbuild/bbs-3.12-bioc/R/bin/R CMD INSTALL AUCell ### ############################################################################## ############################################################################## * installing to library ‘/home/biocbuild/bbs-3.12-bioc/R/library’ * installing *source* package ‘AUCell’ ... ** using staged installation ** R ** inst ** byte-compile and prepare package for lazy loading ** help *** installing help indices ** building package indices ** installing vignettes ** testing if installed package can be loaded from temporary location ** testing if installed package can be loaded from final location ** testing if installed package keeps a record of temporary installation path * DONE (AUCell)
AUCell.Rcheck/tests/testthat.Rout
R version 4.0.5 (2021-03-31) -- "Shake and Throw"
Copyright (C) 2021 The R Foundation for Statistical Computing
Platform: x86_64-pc-linux-gnu (64-bit)
R is free software and comes with ABSOLUTELY NO WARRANTY.
You are welcome to redistribute it under certain conditions.
Type 'license()' or 'licence()' for distribution details.
R is a collaborative project with many contributors.
Type 'contributors()' for more information and
'citation()' on how to cite R or R packages in publications.
Type 'demo()' for some demos, 'help()' for on-line help, or
'help.start()' for an HTML browser interface to help.
Type 'q()' to quit R.
> library(testthat)
> library(AUCell)
>
> test_check("AUCell")
min 1% 5% 10% 50% 100%
3 5 6 7 10 16
min 1% 5% 10% 50% 100%
3 5 6 7 10 16
[ FAIL 0 | WARN 0 | SKIP 0 | PASS 42 ]
>
> proc.time()
user system elapsed
22.060 0.568 22.657
AUCell.Rcheck/AUCell-Ex.timings
| name | user | system | elapsed | |
| AUCell_buildRankings | 0.740 | 0.036 | 0.776 | |
| AUCell_calcAUC | 1.876 | 0.104 | 1.984 | |
| AUCell_createViewerApp | 4.772 | 0.152 | 5.023 | |
| AUCell_exploreThresholds | 3.056 | 0.016 | 3.073 | |
| AUCell_plotHist | 0.98 | 0.00 | 0.98 | |
| AUCell_plotTSNE | 3.212 | 0.012 | 3.226 | |
| GeneSet-methods | 0.264 | 0.008 | 0.274 | |
| aucellResults-class | 1.020 | 0.000 | 1.025 | |
| orderAUC | 0 | 0 | 0 | |
| plotGeneCount | 0.008 | 0.000 | 0.005 | |
| plotTsne_cellProps | 4.264 | 0.012 | 4.291 | |
| updateAucellResults | 0.036 | 0.000 | 0.037 | |