| Back to Multiple platform build/check report for BioC 3.12 |
|
This page was generated on 2021-05-06 12:34:01 -0400 (Thu, 06 May 2021).
|
To the developers/maintainers of the transomics2cytoscape package: Please make sure to use the following settings in order to reproduce any error or warning you see on this page. |
| Package 1890/1974 | Hostname | OS / Arch | INSTALL | BUILD | CHECK | BUILD BIN | ||||||||
| transomics2cytoscape 1.0.0 (landing page) Kozo Nishida
| malbec1 | Linux (Ubuntu 18.04.5 LTS) / x86_64 | OK | OK | OK | |||||||||
| tokay1 | Windows Server 2012 R2 Standard / x64 | OK | OK | OK | OK | |||||||||
| merida1 | macOS 10.14.6 Mojave / x86_64 | OK | OK | OK | OK | |||||||||
| Package: transomics2cytoscape |
| Version: 1.0.0 |
| Command: C:\cygwin\bin\curl.exe -O http://172.29.0.3/BBS/3.12/bioc/src/contrib/transomics2cytoscape_1.0.0.tar.gz && rm -rf transomics2cytoscape.buildbin-libdir && mkdir transomics2cytoscape.buildbin-libdir && C:\Users\biocbuild\bbs-3.12-bioc\R\bin\R.exe CMD INSTALL --merge-multiarch --build --library=transomics2cytoscape.buildbin-libdir transomics2cytoscape_1.0.0.tar.gz && C:\Users\biocbuild\bbs-3.12-bioc\R\bin\R.exe CMD INSTALL transomics2cytoscape_1.0.0.zip && rm transomics2cytoscape_1.0.0.tar.gz transomics2cytoscape_1.0.0.zip |
| StartedAt: 2021-05-05 17:24:26 -0400 (Wed, 05 May 2021) |
| EndedAt: 2021-05-05 17:25:13 -0400 (Wed, 05 May 2021) |
| EllapsedTime: 47.4 seconds |
| RetCode: 0 |
| Status: OK |
##############################################################################
##############################################################################
###
### Running command:
###
### C:\cygwin\bin\curl.exe -O http://172.29.0.3/BBS/3.12/bioc/src/contrib/transomics2cytoscape_1.0.0.tar.gz && rm -rf transomics2cytoscape.buildbin-libdir && mkdir transomics2cytoscape.buildbin-libdir && C:\Users\biocbuild\bbs-3.12-bioc\R\bin\R.exe CMD INSTALL --merge-multiarch --build --library=transomics2cytoscape.buildbin-libdir transomics2cytoscape_1.0.0.tar.gz && C:\Users\biocbuild\bbs-3.12-bioc\R\bin\R.exe CMD INSTALL transomics2cytoscape_1.0.0.zip && rm transomics2cytoscape_1.0.0.tar.gz transomics2cytoscape_1.0.0.zip
###
##############################################################################
##############################################################################
% Total % Received % Xferd Average Speed Time Time Time Current
Dload Upload Total Spent Left Speed
0 0 0 0 0 0 0 0 --:--:-- --:--:-- --:--:-- 0
100 798k 100 798k 0 0 26.9M 0 --:--:-- --:--:-- --:--:-- 27.8M
install for i386
* installing *source* package 'transomics2cytoscape' ...
** using staged installation
** R
** inst
** byte-compile and prepare package for lazy loading
** help
*** installing help indices
converting help for package 'transomics2cytoscape'
finding HTML links ... done
create3Dnetwork html
*** copying figures
** building package indices
** installing vignettes
** testing if installed package can be loaded from temporary location
** testing if installed package can be loaded from final location
** testing if installed package keeps a record of temporary installation path
install for x64
* installing *source* package 'transomics2cytoscape' ...
** testing if installed package can be loaded
* MD5 sums
packaged installation of 'transomics2cytoscape' as transomics2cytoscape_1.0.0.zip
* DONE (transomics2cytoscape)
* installing to library 'C:/Users/biocbuild/bbs-3.12-bioc/R/library'
package 'transomics2cytoscape' successfully unpacked and MD5 sums checked