| Back to Multiple platform build/check report for BioC 3.12 | 
  | 
This page was generated on 2021-05-06 12:33:43 -0400 (Thu, 06 May 2021).
| 
To the developers/maintainers of the sparseDOSSA package: Please make sure to use the following settings in order to reproduce any error or warning you see on this page.  | 
| Package 1754/1974 | Hostname | OS / Arch | INSTALL | BUILD | CHECK | BUILD BIN | ||||||||
| sparseDOSSA 1.14.0  (landing page) Boyu Ren 
  | malbec1 | Linux (Ubuntu 18.04.5 LTS) / x86_64 | OK | OK | OK | |||||||||
| tokay1 | Windows Server 2012 R2 Standard / x64 | OK | OK | OK | OK | |||||||||
| merida1 | macOS 10.14.6 Mojave / x86_64 | OK | OK | OK | OK | |||||||||
| Package: sparseDOSSA | 
| Version: 1.14.0 | 
| Command: rm -rf sparseDOSSA.buildbin-libdir && mkdir sparseDOSSA.buildbin-libdir && C:\Users\biocbuild\bbs-3.12-bioc\R\bin\R.exe CMD INSTALL --merge-multiarch --build --library=sparseDOSSA.buildbin-libdir sparseDOSSA_1.14.0.tar.gz | 
| StartedAt: 2021-05-06 10:10:04 -0400 (Thu, 06 May 2021) | 
| EndedAt: 2021-05-06 10:10:21 -0400 (Thu, 06 May 2021) | 
| EllapsedTime: 17.3 seconds | 
| RetCode: 0 | 
| Status: OK | 
| PackageFile: sparseDOSSA_1.14.0.zip | 
| PackageFileSize: 652.6 KiB | 
##############################################################################
##############################################################################
###
### Running command:
###
###   rm -rf sparseDOSSA.buildbin-libdir && mkdir sparseDOSSA.buildbin-libdir && C:\Users\biocbuild\bbs-3.12-bioc\R\bin\R.exe CMD INSTALL --merge-multiarch --build --library=sparseDOSSA.buildbin-libdir sparseDOSSA_1.14.0.tar.gz
###
##############################################################################
##############################################################################
install for i386
* installing *source* package 'sparseDOSSA' ...
** using staged installation
** R
** inst
** byte-compile and prepare package for lazy loading
Warning in .recacheSubclasses(def@className, def, env) :
  undefined subclass "numericVector" of class "Mnumeric"; definition not updated
** help
*** installing help indices
  converting help for package 'sparseDOSSA'
    finding HTML links ... done
    sparseDOSSA                             html  
** building package indices
** installing vignettes
** testing if installed package can be loaded from temporary location
Warning in .recacheSubclasses(def@className, def, env) :
  undefined subclass "numericVector" of class "Mnumeric"; definition not updated
** testing if installed package can be loaded from final location
Warning in .recacheSubclasses(def@className, def, env) :
  undefined subclass "numericVector" of class "Mnumeric"; definition not updated
** testing if installed package keeps a record of temporary installation path
install for x64
* installing *source* package 'sparseDOSSA' ...
** testing if installed package can be loaded
Warning in .recacheSubclasses(def@className, def, env) :
  undefined subclass "numericVector" of class "Mnumeric"; definition not updated
* MD5 sums
packaged installation of 'sparseDOSSA' as sparseDOSSA_1.14.0.zip
* DONE (sparseDOSSA)