| Back to Multiple platform build/check report for BioC 3.12 |
|
This page was generated on 2021-05-06 12:33:40 -0400 (Thu, 06 May 2021).
|
To the developers/maintainers of the slingshot package: Please make sure to use the following settings in order to reproduce any error or warning you see on this page. |
| Package 1734/1974 | Hostname | OS / Arch | INSTALL | BUILD | CHECK | BUILD BIN | ||||||||
| slingshot 1.8.0 (landing page) Kelly Street
| malbec1 | Linux (Ubuntu 18.04.5 LTS) / x86_64 | OK | OK | OK | |||||||||
| tokay1 | Windows Server 2012 R2 Standard / x64 | OK | OK | OK | OK | |||||||||
| merida1 | macOS 10.14.6 Mojave / x86_64 | OK | OK | ERROR | OK | |||||||||
| Package: slingshot |
| Version: 1.8.0 |
| Command: rm -rf slingshot.buildbin-libdir && mkdir slingshot.buildbin-libdir && C:\Users\biocbuild\bbs-3.12-bioc\R\bin\R.exe CMD INSTALL --merge-multiarch --build --library=slingshot.buildbin-libdir slingshot_1.8.0.tar.gz |
| StartedAt: 2021-05-06 10:09:01 -0400 (Thu, 06 May 2021) |
| EndedAt: 2021-05-06 10:09:43 -0400 (Thu, 06 May 2021) |
| EllapsedTime: 41.8 seconds |
| RetCode: 0 |
| Status: OK |
| PackageFile: slingshot_1.8.0.zip |
| PackageFileSize: 1.591 MiB |
##############################################################################
##############################################################################
###
### Running command:
###
### rm -rf slingshot.buildbin-libdir && mkdir slingshot.buildbin-libdir && C:\Users\biocbuild\bbs-3.12-bioc\R\bin\R.exe CMD INSTALL --merge-multiarch --build --library=slingshot.buildbin-libdir slingshot_1.8.0.tar.gz
###
##############################################################################
##############################################################################
install for i386
* installing *source* package 'slingshot' ...
** using staged installation
** R
** data
** inst
** byte-compile and prepare package for lazy loading
in method for 'slingshot' with signature 'data="ClusterExperiment"': no definition for class "ClusterExperiment"
** help
*** installing help indices
converting help for package 'slingshot'
finding HTML links ... done
SlingshotDataSet-class html
SlingshotDataSet html
embedCurves html
getCurves html
getLineages html
finding level-2 HTML links ... done
newSlingshotDataSet html
pairs-SlingshotDataSet html
plot-SlingshotDataSet html
plot3d-SlingshotDataSet html
plotGenePseudotime html
predict.SlingshotDataSet html
slingAdjacency html
slingBranchGraph html
slingBranchID html
slingClusterLabels html
slingCurves html
slingLineages html
slingParams html
slingPseudotime html
slingshot html
slingshotExample html
** building package indices
** installing vignettes
** testing if installed package can be loaded from temporary location
** testing if installed package can be loaded from final location
** testing if installed package keeps a record of temporary installation path
install for x64
* installing *source* package 'slingshot' ...
** testing if installed package can be loaded
* MD5 sums
packaged installation of 'slingshot' as slingshot_1.8.0.zip
* DONE (slingshot)