| Back to Multiple platform build/check report for BioC 3.12 |
|
This page was generated on 2021-05-06 12:33:34 -0400 (Thu, 06 May 2021).
|
To the developers/maintainers of the seqLogo package: Please make sure to use the following settings in order to reproduce any error or warning you see on this page. |
| Package 1682/1974 | Hostname | OS / Arch | INSTALL | BUILD | CHECK | BUILD BIN | ||||||||
| seqLogo 1.56.0 (landing page) Robert Ivanek
| malbec1 | Linux (Ubuntu 18.04.5 LTS) / x86_64 | OK | OK | OK | |||||||||
| tokay1 | Windows Server 2012 R2 Standard / x64 | OK | OK | OK | OK | |||||||||
| merida1 | macOS 10.14.6 Mojave / x86_64 | OK | OK | OK | OK | |||||||||
| Package: seqLogo |
| Version: 1.56.0 |
| Command: C:\cygwin\bin\curl.exe -O http://172.29.0.3/BBS/3.12/bioc/src/contrib/seqLogo_1.56.0.tar.gz && rm -rf seqLogo.buildbin-libdir && mkdir seqLogo.buildbin-libdir && C:\Users\biocbuild\bbs-3.12-bioc\R\bin\R.exe CMD INSTALL --merge-multiarch --build --library=seqLogo.buildbin-libdir seqLogo_1.56.0.tar.gz && C:\Users\biocbuild\bbs-3.12-bioc\R\bin\R.exe CMD INSTALL seqLogo_1.56.0.zip && rm seqLogo_1.56.0.tar.gz seqLogo_1.56.0.zip |
| StartedAt: 2021-05-05 16:43:22 -0400 (Wed, 05 May 2021) |
| EndedAt: 2021-05-05 16:44:13 -0400 (Wed, 05 May 2021) |
| EllapsedTime: 50.7 seconds |
| RetCode: 0 |
| Status: OK |
##############################################################################
##############################################################################
###
### Running command:
###
### C:\cygwin\bin\curl.exe -O http://172.29.0.3/BBS/3.12/bioc/src/contrib/seqLogo_1.56.0.tar.gz && rm -rf seqLogo.buildbin-libdir && mkdir seqLogo.buildbin-libdir && C:\Users\biocbuild\bbs-3.12-bioc\R\bin\R.exe CMD INSTALL --merge-multiarch --build --library=seqLogo.buildbin-libdir seqLogo_1.56.0.tar.gz && C:\Users\biocbuild\bbs-3.12-bioc\R\bin\R.exe CMD INSTALL seqLogo_1.56.0.zip && rm seqLogo_1.56.0.tar.gz seqLogo_1.56.0.zip
###
##############################################################################
##############################################################################
% Total % Received % Xferd Average Speed Time Time Time Current
Dload Upload Total Spent Left Speed
0 0 0 0 0 0 0 0 --:--:-- --:--:-- --:--:-- 0
100 474k 100 474k 0 0 25.3M 0 --:--:-- --:--:-- --:--:-- 27.2M
install for i386
* installing *source* package 'seqLogo' ...
** using staged installation
** R
** inst
** byte-compile and prepare package for lazy loading
** help
*** installing help indices
converting help for package 'seqLogo'
finding HTML links ... done
makePWM html
pwm-class html
seqLogo html
** building package indices
** installing vignettes
** testing if installed package can be loaded from temporary location
** testing if installed package can be loaded from final location
** testing if installed package keeps a record of temporary installation path
install for x64
* installing *source* package 'seqLogo' ...
** testing if installed package can be loaded
* MD5 sums
packaged installation of 'seqLogo' as seqLogo_1.56.0.zip
* DONE (seqLogo)
* installing to library 'C:/Users/biocbuild/bbs-3.12-bioc/R/library'
package 'seqLogo' successfully unpacked and MD5 sums checked