| Back to Multiple platform build/check report for BioC 3.12 | 
  | 
This page was generated on 2021-05-06 12:33:21 -0400 (Thu, 06 May 2021).
| 
To the developers/maintainers of the rsbml package: Please make sure to use the following settings in order to reproduce any error or warning you see on this page.  | 
| Package 1582/1974 | Hostname | OS / Arch | INSTALL | BUILD | CHECK | BUILD BIN | ||||||||
| rsbml 2.48.0  (landing page) Michael Lawrence 
  | malbec1 | Linux (Ubuntu 18.04.5 LTS) / x86_64 | OK | OK | WARNINGS | |||||||||
| tokay1 | Windows Server 2012 R2 Standard / x64 | OK | OK | WARNINGS | OK | |||||||||
| merida1 | macOS 10.14.6 Mojave / x86_64 | ... NOT SUPPORTED ... | ||||||||||||
| Package: rsbml | 
| Version: 2.48.0 | 
| Command: chmod a+r rsbml -R && C:\Users\biocbuild\bbs-3.12-bioc\R\bin\R.exe CMD build --keep-empty-dirs --no-resave-data rsbml | 
| StartedAt: 2021-05-05 23:15:31 -0400 (Wed, 05 May 2021) | 
| EndedAt: 2021-05-05 23:16:03 -0400 (Wed, 05 May 2021) | 
| EllapsedTime: 32.3 seconds | 
| RetCode: 0 | 
| Status: OK | 
| PackageFile: rsbml_2.48.0.tar.gz | 
| PackageFileSize: 555.1 KiB | 
############################################################################## ############################################################################## ### ### Running command: ### ### chmod a+r rsbml -R && C:\Users\biocbuild\bbs-3.12-bioc\R\bin\R.exe CMD build --keep-empty-dirs --no-resave-data rsbml ### ############################################################################## ############################################################################## * checking for file 'rsbml/DESCRIPTION' ... OK * preparing 'rsbml': * checking DESCRIPTION meta-information ... OK * cleaning src * installing the package to build vignettes * creating vignettes ... OK * cleaning src * checking for LF line-endings in source and make files and shell scripts * checking for empty or unneeded directories * building 'rsbml_2.48.0.tar.gz' Warning: file 'rsbml/configure' did not have execute permissions: corrected Warning: file 'rsbml/inst/SBML_odeSolver-1.7.0beta/configure' did not have execute permissions: corrected