| Back to Multiple platform build/check report for BioC 3.12 |
|
This page was generated on 2021-05-06 12:33:17 -0400 (Thu, 06 May 2021).
|
To the developers/maintainers of the rmelting package: Please make sure to use the following settings in order to reproduce any error or warning you see on this page. |
| Package 1541/1974 | Hostname | OS / Arch | INSTALL | BUILD | CHECK | BUILD BIN | ||||||||
| rmelting 1.6.0 (landing page) J. Aravind
| malbec1 | Linux (Ubuntu 18.04.5 LTS) / x86_64 | OK | OK | OK | |||||||||
| tokay1 | Windows Server 2012 R2 Standard / x64 | OK | OK | OK | OK | |||||||||
| merida1 | macOS 10.14.6 Mojave / x86_64 | OK | OK | OK | OK | |||||||||
| Package: rmelting |
| Version: 1.6.0 |
| Command: C:\Users\biocbuild\bbs-3.12-bioc\R\bin\R.exe --arch x64 CMD INSTALL --no-multiarch rmelting |
| StartedAt: 2021-05-05 16:51:30 -0400 (Wed, 05 May 2021) |
| EndedAt: 2021-05-05 16:53:10 -0400 (Wed, 05 May 2021) |
| EllapsedTime: 99.5 seconds |
| RetCode: 0 |
| Status: OK |
##############################################################################
##############################################################################
###
### Running command:
###
### C:\Users\biocbuild\bbs-3.12-bioc\R\bin\R.exe --arch x64 CMD INSTALL --no-multiarch rmelting
###
##############################################################################
##############################################################################
* installing to library 'C:/Users/biocbuild/bbs-3.12-bioc/R/library'
* installing *source* package 'rmelting' ...
** using staged installation
** R
** inst
** byte-compile and prepare package for lazy loading
** help
Loading required namespace: rmelting
*** installing help indices
converting help for package 'rmelting'
finding HTML links ... done
melting html
meltingBatch html
print.melting html
withWE html
** building package indices
** installing vignettes
** testing if installed package can be loaded from temporary location
** testing if installed package can be loaded from final location
** testing if installed package keeps a record of temporary installation path
* DONE (rmelting)
Making 'packages.html' ... done