| Back to Multiple platform build/check report for BioC 3.12 |
|
This page was generated on 2021-05-06 12:33:12 -0400 (Thu, 06 May 2021).
|
To the developers/maintainers of the rexposome package: Please make sure to use the following settings in order to reproduce any error or warning you see on this page. |
| Package 1508/1974 | Hostname | OS / Arch | INSTALL | BUILD | CHECK | BUILD BIN | ||||||||
| rexposome 1.12.4 (landing page) Xavier EscribĂ Montagut
| malbec1 | Linux (Ubuntu 18.04.5 LTS) / x86_64 | OK | OK | WARNINGS | |||||||||
| tokay1 | Windows Server 2012 R2 Standard / x64 | OK | OK | WARNINGS | OK | |||||||||
| merida1 | macOS 10.14.6 Mojave / x86_64 | OK | OK | WARNINGS | OK | |||||||||
| Package: rexposome |
| Version: 1.12.4 |
| Command: C:\cygwin\bin\curl.exe -O http://172.29.0.3/BBS/3.12/bioc/src/contrib/rexposome_1.12.4.tar.gz && rm -rf rexposome.buildbin-libdir && mkdir rexposome.buildbin-libdir && C:\Users\biocbuild\bbs-3.12-bioc\R\bin\R.exe CMD INSTALL --merge-multiarch --build --library=rexposome.buildbin-libdir rexposome_1.12.4.tar.gz && C:\Users\biocbuild\bbs-3.12-bioc\R\bin\R.exe CMD INSTALL rexposome_1.12.4.zip && rm rexposome_1.12.4.tar.gz rexposome_1.12.4.zip |
| StartedAt: 2021-05-05 18:50:57 -0400 (Wed, 05 May 2021) |
| EndedAt: 2021-05-05 18:52:40 -0400 (Wed, 05 May 2021) |
| EllapsedTime: 103.2 seconds |
| RetCode: 0 |
| Status: OK |
##############################################################################
##############################################################################
###
### Running command:
###
### C:\cygwin\bin\curl.exe -O http://172.29.0.3/BBS/3.12/bioc/src/contrib/rexposome_1.12.4.tar.gz && rm -rf rexposome.buildbin-libdir && mkdir rexposome.buildbin-libdir && C:\Users\biocbuild\bbs-3.12-bioc\R\bin\R.exe CMD INSTALL --merge-multiarch --build --library=rexposome.buildbin-libdir rexposome_1.12.4.tar.gz && C:\Users\biocbuild\bbs-3.12-bioc\R\bin\R.exe CMD INSTALL rexposome_1.12.4.zip && rm rexposome_1.12.4.tar.gz rexposome_1.12.4.zip
###
##############################################################################
##############################################################################
% Total % Received % Xferd Average Speed Time Time Time Current
Dload Upload Total Spent Left Speed
0 0 0 0 0 0 0 0 --:--:-- --:--:-- --:--:-- 0
100 5994k 100 5994k 0 0 72.0M 0 --:--:-- --:--:-- --:--:-- 73.1M
install for i386
* installing *source* package 'rexposome' ...
** using staged installation
** R
** data
*** moving datasets to lazyload DB
** inst
** byte-compile and prepare package for lazy loading
** help
*** installing help indices
converting help for package 'rexposome'
finding HTML links ... done
ExWAS-class html
ExposomeClust-class html
ExposomeCorr-class html
finding level-2 HTML links ... done
ExposomePCA-class html
ExposomeSet-class html
classification-methods html
clustering-methods html
correlation-methods html
ex_imp html
expo html
expo_c html
expos-methods html
exposureNames-methods html
extract-methods html
exwas-methods html
familyNames-methods html
highAndLow-methods html
ilod-methods html
imExposomeSet-class html
imputation-methods html
imputeLOD html
invExWAS-methods html
loadExposome html
loadExposome_plain html
loadImputed html
mExWAS-class html
me html
mexwas-methods html
ndim-methods html
normalityTest-methods html
pca-methods html
phenotypeNames-methods html
plot3PCA-methods html
plotClassification-methods html
plotCorrelation-methods html
plotEXP-methods html
plotEffect-methods html
plotExwas-methods html
plotFamily-methods html
plotHistogram-methods html
plotLOD-methods html
plotMissings-methods html
plotPCA-methods html
plotPHE-methods html
plotVolcano-methods html
readExposome html
rexposome html
standardize-methods html
tableLOD-methods html
tableMissings-methods html
tef-methods html
toES html
trans-methods html
volcano_plot html
** building package indices
** installing vignettes
** testing if installed package can be loaded from temporary location
** testing if installed package can be loaded from final location
** testing if installed package keeps a record of temporary installation path
install for x64
* installing *source* package 'rexposome' ...
** testing if installed package can be loaded
* MD5 sums
packaged installation of 'rexposome' as rexposome_1.12.4.zip
* DONE (rexposome)
* installing to library 'C:/Users/biocbuild/bbs-3.12-bioc/R/library'
package 'rexposome' successfully unpacked and MD5 sums checked