| Back to Multiple platform build/check report for BioC 3.12 |
|
This page was generated on 2021-05-06 12:33:11 -0400 (Thu, 06 May 2021).
|
To the developers/maintainers of the regsplice package: Please make sure to use the following settings in order to reproduce any error or warning you see on this page. |
| Package 1499/1974 | Hostname | OS / Arch | INSTALL | BUILD | CHECK | BUILD BIN | ||||||||
| regsplice 1.16.0 (landing page) Lukas M. Weber
| malbec1 | Linux (Ubuntu 18.04.5 LTS) / x86_64 | OK | OK | OK | |||||||||
| tokay1 | Windows Server 2012 R2 Standard / x64 | OK | OK | WARNINGS | OK | |||||||||
| merida1 | macOS 10.14.6 Mojave / x86_64 | OK | OK | OK | OK | |||||||||
| Package: regsplice |
| Version: 1.16.0 |
| Command: rm -rf regsplice.buildbin-libdir && mkdir regsplice.buildbin-libdir && C:\Users\biocbuild\bbs-3.12-bioc\R\bin\R.exe CMD INSTALL --merge-multiarch --build --library=regsplice.buildbin-libdir regsplice_1.16.0.tar.gz |
| StartedAt: 2021-05-06 09:54:49 -0400 (Thu, 06 May 2021) |
| EndedAt: 2021-05-06 09:55:18 -0400 (Thu, 06 May 2021) |
| EllapsedTime: 29.0 seconds |
| RetCode: 0 |
| Status: OK |
| PackageFile: regsplice_1.16.0.zip |
| PackageFileSize: 441.4 KiB |
##############################################################################
##############################################################################
###
### Running command:
###
### rm -rf regsplice.buildbin-libdir && mkdir regsplice.buildbin-libdir && C:\Users\biocbuild\bbs-3.12-bioc\R\bin\R.exe CMD INSTALL --merge-multiarch --build --library=regsplice.buildbin-libdir regsplice_1.16.0.tar.gz
###
##############################################################################
##############################################################################
install for i386
* installing *source* package 'regsplice' ...
** using staged installation
** R
** inst
** byte-compile and prepare package for lazy loading
** help
*** installing help indices
converting help for package 'regsplice'
finding HTML links ... done
LRTests html
RegspliceData html
Rd warning: C:/Users/biocbuild/bbs-3.12-bioc/tmpdir/RtmpOGTJHq/R.INSTALL4794134f4204/regsplice/man/RegspliceData.Rd:75: file link 'SummarizedExperiment' in package 'SummarizedExperiment' does not exist and so has been treated as a topic
RegspliceResults html
createDesignMatrix html
filterLowCounts html
filterZeros html
fitRegMultiple html
initializeResults html
finding level-2 HTML links ... done
regsplice html
runNormalization html
runVoom html
summaryTable html
** building package indices
** installing vignettes
** testing if installed package can be loaded from temporary location
** testing if installed package can be loaded from final location
** testing if installed package keeps a record of temporary installation path
install for x64
* installing *source* package 'regsplice' ...
** testing if installed package can be loaded
* MD5 sums
packaged installation of 'regsplice' as regsplice_1.16.0.zip
* DONE (regsplice)