| Back to Multiple platform build/check report for BioC 3.12 |
|
This page was generated on 2021-05-06 12:32:49 -0400 (Thu, 06 May 2021).
|
To the developers/maintainers of the prada package: Please make sure to use the following settings in order to reproduce any error or warning you see on this page. |
| Package 1375/1974 | Hostname | OS / Arch | INSTALL | BUILD | CHECK | BUILD BIN | ||||||||
Florian Hahne
| malbec1 | Linux (Ubuntu 18.04.5 LTS) / x86_64 | OK | OK | ERROR | |||||||||
| tokay1 | Windows Server 2012 R2 Standard / x64 | OK | OK | ERROR | OK | |||||||||
| merida1 | macOS 10.14.6 Mojave / x86_64 | OK | OK | ERROR | OK | |||||||||
| Package: prada |
| Version: 1.66.0 |
| Command: C:\cygwin\bin\curl.exe -O http://172.29.0.3/BBS/3.12/bioc/src/contrib/prada_1.66.0.tar.gz && rm -rf prada.buildbin-libdir && mkdir prada.buildbin-libdir && C:\Users\biocbuild\bbs-3.12-bioc\R\bin\R.exe CMD INSTALL --merge-multiarch --build --library=prada.buildbin-libdir prada_1.66.0.tar.gz && C:\Users\biocbuild\bbs-3.12-bioc\R\bin\R.exe CMD INSTALL prada_1.66.0.zip && rm prada_1.66.0.tar.gz prada_1.66.0.zip |
| StartedAt: 2021-05-05 17:00:54 -0400 (Wed, 05 May 2021) |
| EndedAt: 2021-05-05 17:01:41 -0400 (Wed, 05 May 2021) |
| EllapsedTime: 47.2 seconds |
| RetCode: 0 |
| Status: OK |
##############################################################################
##############################################################################
###
### Running command:
###
### C:\cygwin\bin\curl.exe -O http://172.29.0.3/BBS/3.12/bioc/src/contrib/prada_1.66.0.tar.gz && rm -rf prada.buildbin-libdir && mkdir prada.buildbin-libdir && C:\Users\biocbuild\bbs-3.12-bioc\R\bin\R.exe CMD INSTALL --merge-multiarch --build --library=prada.buildbin-libdir prada_1.66.0.tar.gz && C:\Users\biocbuild\bbs-3.12-bioc\R\bin\R.exe CMD INSTALL prada_1.66.0.zip && rm prada_1.66.0.tar.gz prada_1.66.0.zip
###
##############################################################################
##############################################################################
% Total % Received % Xferd Average Speed Time Time Time Current
Dload Upload Total Spent Left Speed
0 0 0 0 0 0 0 0 --:--:-- --:--:-- --:--:-- 0
100 279k 100 279k 0 0 16.0M 0 --:--:-- --:--:-- --:--:-- 17.0M
install for i386
* installing *source* package 'prada' ...
** using staged installation
** libs
"C:/rtools40/mingw32/bin/"gcc -I"C:/Users/BIOCBU~1/BBS-3~1.12-/R/include" -DNDEBUG -I"C:/extsoft/include" -O2 -Wall -std=gnu99 -mfpmath=sse -msse2 -mstackrealign -c inPolygon.c -o inPolygon.o
C:/rtools40/mingw32/bin/gcc -shared -s -static-libgcc -o prada.dll tmp.def inPolygon.o -LC:/extsoft/lib/i386 -LC:/extsoft/lib -LC:/Users/BIOCBU~1/BBS-3~1.12-/R/bin/i386 -lR
installing to C:/Users/biocbuild/bbs-3.12-bioc/meat/prada.buildbin-libdir/00LOCK-prada/00new/prada/libs/i386
** R
** data
** inst
** byte-compile and prepare package for lazy loading
** help
*** installing help indices
converting help for package 'prada'
finding HTML links ... done
analysePlate html
as.all html
barploterrbar html
combineFrames html
csApply html
cytoFrame-class html
cytoSet-class html
finding level-2 HTML links ... done
Rd warning: C:/Users/biocbuild/bbs-3.12-bioc/tmpdir/RtmpcJCuiM/R.INSTALLbcc66d921e3/prada/man/cytoSet-class.Rd:88: file link 'phenoData-class' in package 'Biobase' does not exist and so has been treated as a topic
data-cytoFrame html
data-cytoSet html
devDims html
devRes html
fitNorm2 html
gate-class html
gateSet-class html
getAlphaNumeric html
getPradaPar html
new-internal html
plotNorm2 html
plotPlate html
readCytoSet html
Rd warning: C:/Users/biocbuild/bbs-3.12-bioc/tmpdir/RtmpcJCuiM/R.INSTALLbcc66d921e3/prada/man/readCytoSet.Rd:11: file link 'dir' in package 'base' does not exist and so has been treated as a topic
readFCS html
readFCSaux html
removeCensored html
tcltkProgress html
threePanelPlot html
thresholds html
touchFCS html
vpLocation html
** building package indices
** installing vignettes
** testing if installed package can be loaded from temporary location
Warning: Package 'prada' is deprecated and will be removed from Bioconductor
version 3.13
** testing if installed package can be loaded from final location
Warning: Package 'prada' is deprecated and will be removed from Bioconductor
version 3.13
** testing if installed package keeps a record of temporary installation path
install for x64
* installing *source* package 'prada' ...
** libs
"C:/rtools40/mingw64/bin/"gcc -I"C:/Users/BIOCBU~1/BBS-3~1.12-/R/include" -DNDEBUG -I"C:/extsoft/include" -O2 -Wall -std=gnu99 -mfpmath=sse -msse2 -mstackrealign -c inPolygon.c -o inPolygon.o
C:/rtools40/mingw64/bin/gcc -shared -s -static-libgcc -o prada.dll tmp.def inPolygon.o -LC:/extsoft/lib/x64 -LC:/extsoft/lib -LC:/Users/BIOCBU~1/BBS-3~1.12-/R/bin/x64 -lR
installing to C:/Users/biocbuild/bbs-3.12-bioc/meat/prada.buildbin-libdir/prada/libs/x64
** testing if installed package can be loaded
Warning: Package 'prada' is deprecated and will be removed from Bioconductor
version 3.13
* MD5 sums
packaged installation of 'prada' as prada_1.66.0.zip
* DONE (prada)
* installing to library 'C:/Users/biocbuild/bbs-3.12-bioc/R/library'
package 'prada' successfully unpacked and MD5 sums checked