| Back to Multiple platform build/check report for BioC 3.12 |
|
This page was generated on 2021-05-06 12:32:46 -0400 (Thu, 06 May 2021).
|
To the developers/maintainers of the pkgDepTools package: Please make sure to use the following settings in order to reproduce any error or warning you see on this page. |
| Package 1353/1974 | Hostname | OS / Arch | INSTALL | BUILD | CHECK | BUILD BIN | ||||||||
| pkgDepTools 1.56.0 (landing page) Bioconductor Package Maintainer
| malbec1 | Linux (Ubuntu 18.04.5 LTS) / x86_64 | OK | OK | OK | |||||||||
| tokay1 | Windows Server 2012 R2 Standard / x64 | OK | OK | OK | OK | |||||||||
| merida1 | macOS 10.14.6 Mojave / x86_64 | OK | OK | OK | OK | |||||||||
| Package: pkgDepTools |
| Version: 1.56.0 |
| Command: chmod a+r pkgDepTools -R && C:\Users\biocbuild\bbs-3.12-bioc\R\bin\R.exe CMD build --keep-empty-dirs --no-resave-data pkgDepTools |
| StartedAt: 2021-05-05 22:45:51 -0400 (Wed, 05 May 2021) |
| EndedAt: 2021-05-05 23:09:08 -0400 (Wed, 05 May 2021) |
| EllapsedTime: 1397.4 seconds |
| RetCode: 0 |
| Status: OK |
| PackageFile: pkgDepTools_1.56.0.tar.gz |
| PackageFileSize: 167.6 KiB |
############################################################################## ############################################################################## ### ### Running command: ### ### chmod a+r pkgDepTools -R && C:\Users\biocbuild\bbs-3.12-bioc\R\bin\R.exe CMD build --keep-empty-dirs --no-resave-data pkgDepTools ### ############################################################################## ############################################################################## * checking for file 'pkgDepTools/DESCRIPTION' ... OK * preparing 'pkgDepTools': * checking DESCRIPTION meta-information ... OK * installing the package to build vignettes * creating vignettes ... OK * checking for LF line-endings in source and make files and shell scripts * checking for empty or unneeded directories * building 'pkgDepTools_1.56.0.tar.gz'