| Back to Multiple platform build/check report for BioC 3.12 |
|
This page was generated on 2021-05-06 12:32:45 -0400 (Thu, 06 May 2021).
|
To the developers/maintainers of the philr package: Please make sure to use the following settings in order to reproduce any error or warning you see on this page. |
| Package 1340/1974 | Hostname | OS / Arch | INSTALL | BUILD | CHECK | BUILD BIN | ||||||||
| philr 1.16.0 (landing page) Justin Silverman
| malbec1 | Linux (Ubuntu 18.04.5 LTS) / x86_64 | OK | OK | OK | |||||||||
| tokay1 | Windows Server 2012 R2 Standard / x64 | OK | OK | OK | OK | |||||||||
| merida1 | macOS 10.14.6 Mojave / x86_64 | OK | OK | OK | OK | |||||||||
| Package: philr |
| Version: 1.16.0 |
| Command: rm -rf philr.buildbin-libdir && mkdir philr.buildbin-libdir && C:\Users\biocbuild\bbs-3.12-bioc\R\bin\R.exe CMD INSTALL --merge-multiarch --build --library=philr.buildbin-libdir philr_1.16.0.tar.gz |
| StartedAt: 2021-05-06 09:45:29 -0400 (Thu, 06 May 2021) |
| EndedAt: 2021-05-06 09:46:02 -0400 (Thu, 06 May 2021) |
| EllapsedTime: 32.9 seconds |
| RetCode: 0 |
| Status: OK |
| PackageFile: philr_1.16.0.zip |
| PackageFileSize: 393.5 KiB |
##############################################################################
##############################################################################
###
### Running command:
###
### rm -rf philr.buildbin-libdir && mkdir philr.buildbin-libdir && C:\Users\biocbuild\bbs-3.12-bioc\R\bin\R.exe CMD INSTALL --merge-multiarch --build --library=philr.buildbin-libdir philr_1.16.0.tar.gz
###
##############################################################################
##############################################################################
install for i386
* installing *source* package 'philr' ...
** using staged installation
** R
** inst
** byte-compile and prepare package for lazy loading
** help
*** installing help indices
converting help for package 'philr'
finding HTML links ... done
annotate_balance html
buildilrBasep html
calculate.blw html
convert_to_long html
g.colMeans html
g.rowMeans html
mean_dist_to_tips html
miniclo html
name.balance html
name_nodenumber_conversion html
named_rtree html
philr html
philrInv html
phylo2sbp html
shift html
weighted_clr html
weighted_ilr html
** building package indices
** installing vignettes
** testing if installed package can be loaded from temporary location
** testing if installed package can be loaded from final location
** testing if installed package keeps a record of temporary installation path
install for x64
* installing *source* package 'philr' ...
** testing if installed package can be loaded
* MD5 sums
packaged installation of 'philr' as philr_1.16.0.zip
* DONE (philr)