| Back to Multiple platform build/check report for BioC 3.12 | 
  | 
This page was generated on 2021-05-06 12:32:41 -0400 (Thu, 06 May 2021).
| 
To the developers/maintainers of the pathifier package: Please make sure to use the following settings in order to reproduce any error or warning you see on this page.  | 
| Package 1303/1974 | Hostname | OS / Arch | INSTALL | BUILD | CHECK | BUILD BIN | ||||||||
| pathifier 1.28.0  (landing page) Assif Yitzhaky 
  | malbec1 | Linux (Ubuntu 18.04.5 LTS) / x86_64 | OK | OK | OK | |||||||||
| tokay1 | Windows Server 2012 R2 Standard / x64 | OK | OK | OK | OK | |||||||||
| merida1 | macOS 10.14.6 Mojave / x86_64 | OK | OK | OK | OK | |||||||||
| Package: pathifier | 
| Version: 1.28.0 | 
| Command: C:\Users\biocbuild\bbs-3.12-bioc\R\bin\R.exe CMD check --force-multiarch --install=check:pathifier.install-out.txt --library=C:\Users\biocbuild\bbs-3.12-bioc\R\library --no-vignettes --timings pathifier_1.28.0.tar.gz | 
| StartedAt: 2021-05-06 05:22:58 -0400 (Thu, 06 May 2021) | 
| EndedAt: 2021-05-06 05:24:54 -0400 (Thu, 06 May 2021) | 
| EllapsedTime: 116.3 seconds | 
| RetCode: 0 | 
| Status: OK | 
| CheckDir: pathifier.Rcheck | 
| Warnings: 0 | 
##############################################################################
##############################################################################
###
### Running command:
###
###   C:\Users\biocbuild\bbs-3.12-bioc\R\bin\R.exe CMD check --force-multiarch --install=check:pathifier.install-out.txt --library=C:\Users\biocbuild\bbs-3.12-bioc\R\library --no-vignettes --timings pathifier_1.28.0.tar.gz
###
##############################################################################
##############################################################################
* using log directory 'C:/Users/biocbuild/bbs-3.12-bioc/meat/pathifier.Rcheck'
* using R version 4.0.5 (2021-03-31)
* using platform: x86_64-w64-mingw32 (64-bit)
* using session charset: ISO8859-1
* using option '--no-vignettes'
* checking for file 'pathifier/DESCRIPTION' ... OK
* checking extension type ... Package
* this is package 'pathifier' version '1.28.0'
* checking package namespace information ... OK
* checking package dependencies ... OK
* checking if this is a source package ... OK
* checking if there is a namespace ... OK
* checking for hidden files and directories ... OK
* checking for portable file names ... OK
* checking whether package 'pathifier' can be installed ... OK
* checking installed package size ... OK
* checking package directory ... OK
* checking 'build' directory ... OK
* checking DESCRIPTION meta-information ... OK
* checking top-level files ... OK
* checking for left-over files ... OK
* checking index information ... OK
* checking package subdirectories ... OK
* checking R files for non-ASCII characters ... OK
* checking R files for syntax errors ... OK
* loading checks for arch 'i386'
** checking whether the package can be loaded ... OK
** checking whether the package can be loaded with stated dependencies ... OK
** checking whether the package can be unloaded cleanly ... OK
** checking whether the namespace can be loaded with stated dependencies ... OK
** checking whether the namespace can be unloaded cleanly ... OK
* loading checks for arch 'x64'
** checking whether the package can be loaded ... OK
** checking whether the package can be loaded with stated dependencies ... OK
** checking whether the package can be unloaded cleanly ... OK
** checking whether the namespace can be loaded with stated dependencies ... OK
** checking whether the namespace can be unloaded cleanly ... OK
* checking dependencies in R code ... OK
* checking S3 generic/method consistency ... OK
* checking replacement functions ... OK
* checking foreign function calls ... OK
* checking R code for possible problems ... NOTE
.getpathway: no visible global function definition for 'var'
.samplings_stdev: no visible binding for global variable 'sd'
.score_pathway: no visible binding for global variable 'sd'
.score_pathway: no visible global function definition for 'aggregate'
.score_pathway: no visible global function definition for 'dist'
quantify_pathways_deregulation: no visible binding for global variable
  'sd'
quantify_pathways_deregulation: no visible global function definition
  for 'prcomp'
Undefined global functions or variables:
  aggregate dist prcomp sd var
Consider adding
  importFrom("stats", "aggregate", "dist", "prcomp", "sd", "var")
to your NAMESPACE file.
* checking Rd files ... OK
* checking Rd metadata ... OK
* checking Rd cross-references ... OK
* checking for missing documentation entries ... OK
* checking for code/documentation mismatches ... OK
* checking Rd \usage sections ... OK
* checking Rd contents ... OK
* checking for unstated dependencies in examples ... OK
* checking contents of 'data' directory ... OK
* checking data for non-ASCII characters ... OK
* checking data for ASCII and uncompressed saves ... OK
* checking files in 'vignettes' ... OK
* checking examples ...
** running examples for arch 'i386' ... OK
Examples with CPU (user + system) or elapsed time > 5s
                                user system elapsed
pathifier-package              13.53   0.01   13.55
quantify_pathways_deregulation 13.27   0.02   13.28
** running examples for arch 'x64' ... OK
Examples with CPU (user + system) or elapsed time > 5s
                                user system elapsed
pathifier-package              18.10   0.03   18.31
quantify_pathways_deregulation 17.15   0.03   17.30
* checking for unstated dependencies in vignettes ... OK
* checking package vignettes in 'inst/doc' ... OK
* checking running R code from vignettes ... SKIPPED
* checking re-building of vignette outputs ... SKIPPED
* checking PDF version of manual ... OK
* DONE
Status: 1 NOTE
See
  'C:/Users/biocbuild/bbs-3.12-bioc/meat/pathifier.Rcheck/00check.log'
for details.
pathifier.Rcheck/00install.out
##############################################################################
##############################################################################
###
### Running command:
###
###   C:\cygwin\bin\curl.exe -O http://172.29.0.3/BBS/3.12/bioc/src/contrib/pathifier_1.28.0.tar.gz && rm -rf pathifier.buildbin-libdir && mkdir pathifier.buildbin-libdir && C:\Users\biocbuild\bbs-3.12-bioc\R\bin\R.exe CMD INSTALL --merge-multiarch --build --library=pathifier.buildbin-libdir pathifier_1.28.0.tar.gz && C:\Users\biocbuild\bbs-3.12-bioc\R\bin\R.exe CMD INSTALL pathifier_1.28.0.zip && rm pathifier_1.28.0.tar.gz pathifier_1.28.0.zip
###
##############################################################################
##############################################################################
  % Total    % Received % Xferd  Average Speed   Time    Time     Time  Current
                                 Dload  Upload   Total   Spent    Left  Speed
  0     0    0     0    0     0      0      0 --:--:-- --:--:-- --:--:--     0
100 1865k  100 1865k    0     0  18.2M      0 --:--:-- --:--:-- --:--:-- 18.4M
install for i386
* installing *source* package 'pathifier' ...
** using staged installation
** R
** data
** inst
** byte-compile and prepare package for lazy loading
** help
*** installing help indices
  converting help for package 'pathifier'
    finding HTML links ... done
    KEGG                                    html  
    Sheffer                                 html  
    pathifier-package                       html  
    quantify_pathways_deregulation          html  
** building package indices
** installing vignettes
** testing if installed package can be loaded from temporary location
** testing if installed package can be loaded from final location
** testing if installed package keeps a record of temporary installation path
install for x64
* installing *source* package 'pathifier' ...
** testing if installed package can be loaded
* MD5 sums
packaged installation of 'pathifier' as pathifier_1.28.0.zip
* DONE (pathifier)
* installing to library 'C:/Users/biocbuild/bbs-3.12-bioc/R/library'
package 'pathifier' successfully unpacked and MD5 sums checked
| 
 pathifier.Rcheck/examples_i386/pathifier-Ex.timings 
  | 
 pathifier.Rcheck/examples_x64/pathifier-Ex.timings 
  |