| Back to Multiple platform build/check report for BioC 3.12 |
|
This page was generated on 2021-05-06 12:32:42 -0400 (Thu, 06 May 2021).
|
To the developers/maintainers of the pathVar package: Please make sure to use the following settings in order to reproduce any error or warning you see on this page. |
| Package 1308/1974 | Hostname | OS / Arch | INSTALL | BUILD | CHECK | BUILD BIN | ||||||||
| pathVar 1.20.0 (landing page) Samuel Zimmerman
| malbec1 | Linux (Ubuntu 18.04.5 LTS) / x86_64 | OK | OK | OK | |||||||||
| tokay1 | Windows Server 2012 R2 Standard / x64 | OK | OK | OK | OK | |||||||||
| merida1 | macOS 10.14.6 Mojave / x86_64 | OK | OK | OK | OK | |||||||||
| Package: pathVar |
| Version: 1.20.0 |
| Command: C:\Users\biocbuild\bbs-3.12-bioc\R\bin\R.exe CMD check --force-multiarch --install=check:pathVar.install-out.txt --library=C:\Users\biocbuild\bbs-3.12-bioc\R\library --no-vignettes --timings pathVar_1.20.0.tar.gz |
| StartedAt: 2021-05-06 05:23:44 -0400 (Thu, 06 May 2021) |
| EndedAt: 2021-05-06 05:30:23 -0400 (Thu, 06 May 2021) |
| EllapsedTime: 398.7 seconds |
| RetCode: 0 |
| Status: OK |
| CheckDir: pathVar.Rcheck |
| Warnings: 0 |
##############################################################################
##############################################################################
###
### Running command:
###
### C:\Users\biocbuild\bbs-3.12-bioc\R\bin\R.exe CMD check --force-multiarch --install=check:pathVar.install-out.txt --library=C:\Users\biocbuild\bbs-3.12-bioc\R\library --no-vignettes --timings pathVar_1.20.0.tar.gz
###
##############################################################################
##############################################################################
* using log directory 'C:/Users/biocbuild/bbs-3.12-bioc/meat/pathVar.Rcheck'
* using R version 4.0.5 (2021-03-31)
* using platform: x86_64-w64-mingw32 (64-bit)
* using session charset: ISO8859-1
* using option '--no-vignettes'
* checking for file 'pathVar/DESCRIPTION' ... OK
* checking extension type ... Package
* this is package 'pathVar' version '1.20.0'
* checking package namespace information ... OK
* checking package dependencies ... OK
* checking if this is a source package ... OK
* checking if there is a namespace ... OK
* checking for hidden files and directories ... OK
* checking for portable file names ... OK
* checking whether package 'pathVar' can be installed ... OK
* checking installed package size ... OK
* checking package directory ... OK
* checking 'build' directory ... OK
* checking DESCRIPTION meta-information ... OK
* checking top-level files ... OK
* checking for left-over files ... OK
* checking index information ... OK
* checking package subdirectories ... OK
* checking R files for non-ASCII characters ... OK
* checking R files for syntax errors ... OK
* loading checks for arch 'i386'
** checking whether the package can be loaded ... OK
** checking whether the package can be loaded with stated dependencies ... OK
** checking whether the package can be unloaded cleanly ... OK
** checking whether the namespace can be loaded with stated dependencies ... OK
** checking whether the namespace can be unloaded cleanly ... OK
* loading checks for arch 'x64'
** checking whether the package can be loaded ... OK
** checking whether the package can be loaded with stated dependencies ... OK
** checking whether the package can be unloaded cleanly ... OK
** checking whether the namespace can be loaded with stated dependencies ... OK
** checking whether the namespace can be unloaded cleanly ... OK
* checking dependencies in R code ... OK
* checking S3 generic/method consistency ... OK
* checking replacement functions ... OK
* checking foreign function calls ... OK
* checking R code for possible problems ... NOTE
diagnosticsVarPlots: no visible binding for global variable 'avg'
diagnosticsVarPlots: no visible binding for global variable 'standDev'
diagnosticsVarPlots: no visible binding for global variable 'medAbsDev'
diagnosticsVarPlots: no visible binding for global variable 'cv'
diagnosticsVarPlotsTwoSample: no visible binding for global variable
'avg'
diagnosticsVarPlotsTwoSample: no visible binding for global variable
'standDev'
diagnosticsVarPlotsTwoSample: no visible binding for global variable
'medAbsDev'
diagnosticsVarPlotsTwoSample: no visible binding for global variable
'cv'
pathVarOneSample: no visible binding for global variable 'APval'
pathVarOneSample: no visible binding for global variable
'PercOfGenesInPway'
pathVarTwoSamplesCont: no visible binding for global variable 'APval'
pathVarTwoSamplesCont: no visible binding for global variable
'PercOfGenesInPway'
pathVarTwoSamplesDisc: no visible binding for global variable 'APval'
pathVarTwoSamplesDisc: no visible binding for global variable
'PercOfGenesInPway'
plotAllTwoSampleDistributionCounts: no visible binding for global
variable 'Cluster'
plotAllTwoSampleDistributionCounts: no visible binding for global
variable 'Number_of_genes'
plotOneSample: no visible binding for global variable 'Cluster'
plotOneSample: no visible binding for global variable 'Number_of_genes'
plotTwoSamplesCont: no visible binding for global variable 'PwayName'
plotTwoSamplesCont: no visible binding for global variable
'NumOfGenesFromDataSetInPathway'
plotTwoSamplesCont: no visible binding for global variable 'value'
plotTwoSamplesCont: no visible binding for global variable
'..density..'
plotTwoSamplesCont: no visible binding for global variable 'group'
plotTwoSamplesDisc: no visible binding for global variable 'Cluster'
plotTwoSamplesDisc: no visible binding for global variable
'Number_of_genes'
sigOneSample: no visible binding for global variable 'APval'
sigOneSample: no visible binding for global variable 'PwayName'
sigTwoSamplesCont: no visible binding for global variable 'APval'
sigTwoSamplesCont: no visible binding for global variable 'PwayName'
sigTwoSamplesDisc: no visible binding for global variable 'APval'
sigTwoSamplesDisc: no visible binding for global variable 'PwayName'
Undefined global functions or variables:
..density.. APval Cluster NumOfGenesFromDataSetInPathway
Number_of_genes PercOfGenesInPway PwayName avg cv group medAbsDev
standDev value
* checking Rd files ... OK
* checking Rd metadata ... OK
* checking Rd cross-references ... OK
* checking for missing documentation entries ... OK
* checking for code/documentation mismatches ... OK
* checking Rd \usage sections ... OK
* checking Rd contents ... OK
* checking for unstated dependencies in examples ... OK
* checking contents of 'data' directory ... OK
* checking data for non-ASCII characters ... OK
* checking data for ASCII and uncompressed saves ... OK
* checking files in 'vignettes' ... OK
* checking examples ...
** running examples for arch 'i386' ... OK
Examples with CPU (user + system) or elapsed time > 5s
user system elapsed
sigPway 66.80 0.04 66.84
diagnosticsVarPlotsTwoSample 21.02 3.32 25.91
diagnosticsVarPlots 10.54 1.54 12.33
pathVar-package 6.69 0.02 8.46
plotAllTwoSampleDistributionCounts 5.82 0.03 6.09
plotPway 4.97 0.01 8.66
** running examples for arch 'x64' ... OK
Examples with CPU (user + system) or elapsed time > 5s
user system elapsed
sigPway 91.75 0.02 91.81
diagnosticsVarPlots 36.48 3.80 40.86
diagnosticsVarPlotsTwoSample 21.96 2.33 25.21
pathVar-package 5.17 0.00 5.17
* checking for unstated dependencies in vignettes ... OK
* checking package vignettes in 'inst/doc' ... OK
* checking running R code from vignettes ... SKIPPED
* checking re-building of vignette outputs ... SKIPPED
* checking PDF version of manual ... OK
* DONE
Status: 1 NOTE
See
'C:/Users/biocbuild/bbs-3.12-bioc/meat/pathVar.Rcheck/00check.log'
for details.
pathVar.Rcheck/00install.out
##############################################################################
##############################################################################
###
### Running command:
###
### C:\cygwin\bin\curl.exe -O http://172.29.0.3/BBS/3.12/bioc/src/contrib/pathVar_1.20.0.tar.gz && rm -rf pathVar.buildbin-libdir && mkdir pathVar.buildbin-libdir && C:\Users\biocbuild\bbs-3.12-bioc\R\bin\R.exe CMD INSTALL --merge-multiarch --build --library=pathVar.buildbin-libdir pathVar_1.20.0.tar.gz && C:\Users\biocbuild\bbs-3.12-bioc\R\bin\R.exe CMD INSTALL pathVar_1.20.0.zip && rm pathVar_1.20.0.tar.gz pathVar_1.20.0.zip
###
##############################################################################
##############################################################################
% Total % Received % Xferd Average Speed Time Time Time Current
Dload Upload Total Spent Left Speed
0 0 0 0 0 0 0 0 --:--:-- --:--:-- --:--:-- 0
100 902k 100 902k 0 0 4460k 0 --:--:-- --:--:-- --:--:-- 4489k
install for i386
* installing *source* package 'pathVar' ...
** using staged installation
** R
** data
*** moving datasets to lazyload DB
** inst
** byte-compile and prepare package for lazy loading
** help
*** installing help indices
converting help for package 'pathVar'
finding HTML links ... done
bock html
diagnosticsVarPlots html
diagnosticsVarPlotsTwoSample html
geneDistributionSet-class html
geneDistributionSet2-class html
geneDistributionSet3-class html
geneSet-class html
getGenes html
makeDBList html
pathVar-package html
pathVarOneSample html
pathVarTwoSamplesCont html
pathVarTwoSamplesDisc html
plotAllTwoSampleDistributionCounts html
plotPway html
pways.kegg html
pways.reactome html
saveAsPDF html
sigPway html
significantPathway-class html
significantPathway2-class html
significantPathway3-class html
** building package indices
** installing vignettes
** testing if installed package can be loaded from temporary location
** testing if installed package can be loaded from final location
** testing if installed package keeps a record of temporary installation path
install for x64
* installing *source* package 'pathVar' ...
** testing if installed package can be loaded
* MD5 sums
packaged installation of 'pathVar' as pathVar_1.20.0.zip
* DONE (pathVar)
* installing to library 'C:/Users/biocbuild/bbs-3.12-bioc/R/library'
package 'pathVar' successfully unpacked and MD5 sums checked
|
pathVar.Rcheck/examples_i386/pathVar-Ex.timings
|
pathVar.Rcheck/examples_x64/pathVar-Ex.timings
|