| Back to Multiple platform build/check report for BioC 3.12 |
|
This page was generated on 2021-05-06 12:32:41 -0400 (Thu, 06 May 2021).
|
To the developers/maintainers of the parglms package: Please make sure to use the following settings in order to reproduce any error or warning you see on this page. |
| Package 1299/1974 | Hostname | OS / Arch | INSTALL | BUILD | CHECK | BUILD BIN | ||||||||
| parglms 1.22.0 (landing page) VJ Carey
| malbec1 | Linux (Ubuntu 18.04.5 LTS) / x86_64 | OK | OK | OK | |||||||||
| tokay1 | Windows Server 2012 R2 Standard / x64 | OK | OK | OK | OK | |||||||||
| merida1 | macOS 10.14.6 Mojave / x86_64 | OK | OK | OK | OK | |||||||||
| Package: parglms |
| Version: 1.22.0 |
| Command: C:\cygwin\bin\curl.exe -O http://172.29.0.3/BBS/3.12/bioc/src/contrib/parglms_1.22.0.tar.gz && rm -rf parglms.buildbin-libdir && mkdir parglms.buildbin-libdir && C:\Users\biocbuild\bbs-3.12-bioc\R\bin\R.exe CMD INSTALL --merge-multiarch --build --library=parglms.buildbin-libdir parglms_1.22.0.tar.gz && C:\Users\biocbuild\bbs-3.12-bioc\R\bin\R.exe CMD INSTALL parglms_1.22.0.zip && rm parglms_1.22.0.tar.gz parglms_1.22.0.zip |
| StartedAt: 2021-05-05 17:11:33 -0400 (Wed, 05 May 2021) |
| EndedAt: 2021-05-05 17:12:03 -0400 (Wed, 05 May 2021) |
| EllapsedTime: 29.8 seconds |
| RetCode: 0 |
| Status: OK |
##############################################################################
##############################################################################
###
### Running command:
###
### C:\cygwin\bin\curl.exe -O http://172.29.0.3/BBS/3.12/bioc/src/contrib/parglms_1.22.0.tar.gz && rm -rf parglms.buildbin-libdir && mkdir parglms.buildbin-libdir && C:\Users\biocbuild\bbs-3.12-bioc\R\bin\R.exe CMD INSTALL --merge-multiarch --build --library=parglms.buildbin-libdir parglms_1.22.0.tar.gz && C:\Users\biocbuild\bbs-3.12-bioc\R\bin\R.exe CMD INSTALL parglms_1.22.0.zip && rm parglms_1.22.0.tar.gz parglms_1.22.0.zip
###
##############################################################################
##############################################################################
% Total % Received % Xferd Average Speed Time Time Time Current
Dload Upload Total Spent Left Speed
0 0 0 0 0 0 0 0 --:--:-- --:--:-- --:--:-- 0
100 7949 100 7949 0 0 47927 0 --:--:-- --:--:-- --:--:-- 48175
install for i386
* installing *source* package 'parglms' ...
** using staged installation
** R
** inst
** byte-compile and prepare package for lazy loading
** help
*** installing help indices
converting help for package 'parglms'
finding HTML links ... done
parGLM-methods html
finding level-2 HTML links ... done
parglms-package html
** building package indices
** installing vignettes
** testing if installed package can be loaded from temporary location
** testing if installed package can be loaded from final location
** testing if installed package keeps a record of temporary installation path
install for x64
* installing *source* package 'parglms' ...
** testing if installed package can be loaded
* MD5 sums
packaged installation of 'parglms' as parglms_1.22.0.zip
* DONE (parglms)
* installing to library 'C:/Users/biocbuild/bbs-3.12-bioc/R/library'
package 'parglms' successfully unpacked and MD5 sums checked