| Back to Multiple platform build/check report for BioC 3.12 | 
  | 
This page was generated on 2021-05-06 12:35:56 -0400 (Thu, 06 May 2021).
| 
To the developers/maintainers of the netbenchmark package: Please make sure to use the following settings in order to reproduce any error or warning you see on this page.  | 
| Package 1212/1974 | Hostname | OS / Arch | INSTALL | BUILD | CHECK | BUILD BIN | ||||||||
Pau Bellot 
  | malbec1 | Linux (Ubuntu 18.04.5 LTS) / x86_64 | ERROR | ERROR | skipped | |||||||||
| tokay1 | Windows Server 2012 R2 Standard / x64 | ERROR | ERROR | skipped | skipped | |||||||||
| merida1 | macOS 10.14.6 Mojave / x86_64 | ERROR | ERROR | skipped | skipped | |||||||||
| Package: netbenchmark | 
| Version: 1.22.0 | 
| Command: /Library/Frameworks/R.framework/Versions/Current/Resources/bin/R CMD INSTALL netbenchmark | 
| StartedAt: 2021-05-05 18:01:53 -0400 (Wed, 05 May 2021) | 
| EndedAt: 2021-05-05 18:01:53 -0400 (Wed, 05 May 2021) | 
| EllapsedTime: 0.5 seconds | 
| RetCode: 1 | 
| Status: ERROR | 
############################################################################## ############################################################################## ### ### Running command: ### ### /Library/Frameworks/R.framework/Versions/Current/Resources/bin/R CMD INSTALL netbenchmark ### ############################################################################## ############################################################################## * installing to library ‘/Library/Frameworks/R.framework/Versions/4.0/Resources/library’ ERROR: dependency ‘PCIT’ is not available for package ‘netbenchmark’ * removing ‘/Library/Frameworks/R.framework/Versions/4.0/Resources/library/netbenchmark’