| Back to Multiple platform build/check report for BioC 3.12 | 
  | 
This page was generated on 2021-05-06 12:32:24 -0400 (Thu, 06 May 2021).
| 
To the developers/maintainers of the multiGSEA package: Please make sure to use the following settings in order to reproduce any error or warning you see on this page.  | 
| Package 1179/1974 | Hostname | OS / Arch | INSTALL | BUILD | CHECK | BUILD BIN | ||||||||
| multiGSEA 1.0.2  (landing page) Sebastian Canzler 
  | malbec1 | Linux (Ubuntu 18.04.5 LTS) / x86_64 | OK | OK | OK | |||||||||
| tokay1 | Windows Server 2012 R2 Standard / x64 | OK | OK | OK | OK | |||||||||
| merida1 | macOS 10.14.6 Mojave / x86_64 | OK | OK | OK | OK | |||||||||
| Package: multiGSEA | 
| Version: 1.0.2 | 
| Command: rm -rf multiGSEA.buildbin-libdir && mkdir multiGSEA.buildbin-libdir && C:\Users\biocbuild\bbs-3.12-bioc\R\bin\R.exe CMD INSTALL --merge-multiarch --build --library=multiGSEA.buildbin-libdir multiGSEA_1.0.2.tar.gz | 
| StartedAt: 2021-05-06 09:36:25 -0400 (Thu, 06 May 2021) | 
| EndedAt: 2021-05-06 09:37:01 -0400 (Thu, 06 May 2021) | 
| EllapsedTime: 35.3 seconds | 
| RetCode: 0 | 
| Status: OK | 
| PackageFile: multiGSEA_1.0.2.zip | 
| PackageFileSize: 906.8 KiB | 
##############################################################################
##############################################################################
###
### Running command:
###
###   rm -rf multiGSEA.buildbin-libdir && mkdir multiGSEA.buildbin-libdir && C:\Users\biocbuild\bbs-3.12-bioc\R\bin\R.exe CMD INSTALL --merge-multiarch --build --library=multiGSEA.buildbin-libdir multiGSEA_1.0.2.tar.gz
###
##############################################################################
##############################################################################
install for i386
* installing *source* package 'multiGSEA' ...
** using staged installation
** R
** data
** inst
** byte-compile and prepare package for lazy loading
** help
*** installing help indices
  converting help for package 'multiGSEA'
    finding HTML links ... done
    archiveDir                              html  
    archivePath                             html  
    combinePvalues                          html  
    extractPvalues                          html  
    getFeatures                             html  
    getGeneMapping                          html  
    getIDMappingDatabase                    html  
    getMappedFeatures                       html  
    getMetaboliteMapping                    html  
    getMultiOmicsFeatures                   html  
    getOrganisms                            html  
    initOmicsDataStructure                  html  
    loadLocal                               html  
    mapIDType                               html  
    metabolome                              html  
    multiGSEA                               html  
    proteome                                html  
    rankFeatures                            html  
    rename_duplicates                       html  
    transcriptome                           html  
** building package indices
** installing vignettes
** testing if installed package can be loaded from temporary location
** testing if installed package can be loaded from final location
** testing if installed package keeps a record of temporary installation path
install for x64
* installing *source* package 'multiGSEA' ...
** testing if installed package can be loaded
* MD5 sums
packaged installation of 'multiGSEA' as multiGSEA_1.0.2.zip
* DONE (multiGSEA)