| Back to Multiple platform build/check report for BioC 3.12 |
|
This page was generated on 2021-05-06 12:32:09 -0400 (Thu, 06 May 2021).
|
To the developers/maintainers of the mdgsa package: Please make sure to use the following settings in order to reproduce any error or warning you see on this page. |
| Package 1024/1974 | Hostname | OS / Arch | INSTALL | BUILD | CHECK | BUILD BIN | ||||||||
| mdgsa 1.22.0 (landing page) David Montaner
| malbec1 | Linux (Ubuntu 18.04.5 LTS) / x86_64 | OK | OK | OK | |||||||||
| tokay1 | Windows Server 2012 R2 Standard / x64 | OK | OK | OK | OK | |||||||||
| merida1 | macOS 10.14.6 Mojave / x86_64 | OK | OK | OK | OK | |||||||||
| Package: mdgsa |
| Version: 1.22.0 |
| Command: rm -rf mdgsa.buildbin-libdir && mkdir mdgsa.buildbin-libdir && C:\Users\biocbuild\bbs-3.12-bioc\R\bin\R.exe CMD INSTALL --merge-multiarch --build --library=mdgsa.buildbin-libdir mdgsa_1.22.0.tar.gz |
| StartedAt: 2021-05-06 09:27:47 -0400 (Thu, 06 May 2021) |
| EndedAt: 2021-05-06 09:28:28 -0400 (Thu, 06 May 2021) |
| EllapsedTime: 40.6 seconds |
| RetCode: 0 |
| Status: OK |
| PackageFile: mdgsa_1.22.0.zip |
| PackageFileSize: 1.97 MiB |
##############################################################################
##############################################################################
###
### Running command:
###
### rm -rf mdgsa.buildbin-libdir && mkdir mdgsa.buildbin-libdir && C:\Users\biocbuild\bbs-3.12-bioc\R\bin\R.exe CMD INSTALL --merge-multiarch --build --library=mdgsa.buildbin-libdir mdgsa_1.22.0.tar.gz
###
##############################################################################
##############################################################################
install for i386
* installing *source* package 'mdgsa' ...
** using staged installation
** R
** inst
** byte-compile and prepare package for lazy loading
** help
*** installing help indices
converting help for package 'mdgsa'
finding HTML links ... done
annotFilter html
annotList2mat html
annotMat2list html
getGOnames html
getKEGGnames html
getOntology html
goLeaves html
indexTransform html
mdGsa html
mdPat html
plotMdGsa html
propagateGO html
pval2index html
revList html
splitOntologies html
transferIndex html
uvGsa html
uvPat html
uvSignif html
** building package indices
** installing vignettes
** testing if installed package can be loaded from temporary location
** testing if installed package can be loaded from final location
** testing if installed package keeps a record of temporary installation path
install for x64
* installing *source* package 'mdgsa' ...
** testing if installed package can be loaded
* MD5 sums
packaged installation of 'mdgsa' as mdgsa_1.22.0.zip
* DONE (mdgsa)