| Back to Multiple platform build/check report for BioC 3.12 |
|
This page was generated on 2021-05-06 12:31:56 -0400 (Thu, 06 May 2021).
|
To the developers/maintainers of the les package: Please make sure to use the following settings in order to reproduce any error or warning you see on this page. |
| Package 952/1974 | Hostname | OS / Arch | INSTALL | BUILD | CHECK | BUILD BIN | ||||||||
| les 1.40.0 (landing page) Julian Gehring
| malbec1 | Linux (Ubuntu 18.04.5 LTS) / x86_64 | OK | OK | OK | |||||||||
| tokay1 | Windows Server 2012 R2 Standard / x64 | OK | OK | OK | OK | |||||||||
| merida1 | macOS 10.14.6 Mojave / x86_64 | OK | OK | OK | OK | |||||||||
| Package: les |
| Version: 1.40.0 |
| Command: rm -rf les.buildbin-libdir && mkdir les.buildbin-libdir && C:\Users\biocbuild\bbs-3.12-bioc\R\bin\R.exe CMD INSTALL --merge-multiarch --build --library=les.buildbin-libdir les_1.40.0.tar.gz |
| StartedAt: 2021-05-06 09:23:32 -0400 (Thu, 06 May 2021) |
| EndedAt: 2021-05-06 09:24:15 -0400 (Thu, 06 May 2021) |
| EllapsedTime: 43.2 seconds |
| RetCode: 0 |
| Status: OK |
| PackageFile: les_1.40.0.zip |
| PackageFileSize: 622.3 KiB |
##############################################################################
##############################################################################
###
### Running command:
###
### rm -rf les.buildbin-libdir && mkdir les.buildbin-libdir && C:\Users\biocbuild\bbs-3.12-bioc\R\bin\R.exe CMD INSTALL --merge-multiarch --build --library=les.buildbin-libdir les_1.40.0.tar.gz
###
##############################################################################
##############################################################################
install for i386
* installing *source* package 'les' ...
** using staged installation
** R
** data
** inst
** byte-compile and prepare package for lazy loading
** help
*** installing help indices
converting help for package 'les'
finding HTML links ... done
Les-class html
Les html
chi2 html
ci html
estimate html
export html
les-internal html
les-package html
plot html
regions html
spikeInData html
spikeInStat html
threshold html
weighting html
** building package indices
** installing vignettes
** testing if installed package can be loaded from temporary location
** testing if installed package can be loaded from final location
** testing if installed package keeps a record of temporary installation path
install for x64
* installing *source* package 'les' ...
** testing if installed package can be loaded
* MD5 sums
packaged installation of 'les' as les_1.40.0.zip
* DONE (les)