| Back to Multiple platform build/check report for BioC 3.12 |
|
This page was generated on 2021-05-06 12:27:54 -0400 (Thu, 06 May 2021).
|
To the developers/maintainers of the hypeR package: Please make sure to use the following settings in order to reproduce any error or warning you see on this page. |
| Package 855/1974 | Hostname | OS / Arch | INSTALL | BUILD | CHECK | BUILD BIN | ||||||||
| hypeR 1.6.0 (landing page) Anthony Federico
| malbec1 | Linux (Ubuntu 18.04.5 LTS) / x86_64 | OK | OK | OK | |||||||||
| tokay1 | Windows Server 2012 R2 Standard / x64 | OK | OK | ERROR | OK | |||||||||
| merida1 | macOS 10.14.6 Mojave / x86_64 | OK | OK | OK | OK | |||||||||
| Package: hypeR |
| Version: 1.6.0 |
| Command: /home/biocbuild/bbs-3.12-bioc/R/bin/R CMD check --install=check:hypeR.install-out.txt --library=/home/biocbuild/bbs-3.12-bioc/R/library --no-vignettes --timings hypeR_1.6.0.tar.gz |
| StartedAt: 2021-05-06 02:31:24 -0400 (Thu, 06 May 2021) |
| EndedAt: 2021-05-06 02:34:39 -0400 (Thu, 06 May 2021) |
| EllapsedTime: 195.3 seconds |
| RetCode: 0 |
| Status: OK |
| CheckDir: hypeR.Rcheck |
| Warnings: 0 |
##############################################################################
##############################################################################
###
### Running command:
###
### /home/biocbuild/bbs-3.12-bioc/R/bin/R CMD check --install=check:hypeR.install-out.txt --library=/home/biocbuild/bbs-3.12-bioc/R/library --no-vignettes --timings hypeR_1.6.0.tar.gz
###
##############################################################################
##############################################################################
* using log directory ‘/home/biocbuild/bbs-3.12-bioc/meat/hypeR.Rcheck’
* using R version 4.0.5 (2021-03-31)
* using platform: x86_64-pc-linux-gnu (64-bit)
* using session charset: UTF-8
* using option ‘--no-vignettes’
* checking for file ‘hypeR/DESCRIPTION’ ... OK
* this is package ‘hypeR’ version ‘1.6.0’
* package encoding: UTF-8
* checking package namespace information ... OK
* checking package dependencies ... OK
* checking if this is a source package ... OK
* checking if there is a namespace ... OK
* checking for hidden files and directories ... OK
* checking for portable file names ... OK
* checking for sufficient/correct file permissions ... OK
* checking whether package ‘hypeR’ can be installed ... OK
* checking installed package size ... OK
* checking package directory ... OK
* checking ‘build’ directory ... OK
* checking DESCRIPTION meta-information ... OK
* checking top-level files ... OK
* checking for left-over files ... OK
* checking index information ... OK
* checking package subdirectories ... OK
* checking R files for non-ASCII characters ... OK
* checking R files for syntax errors ... OK
* checking whether the package can be loaded ... OK
* checking whether the package can be loaded with stated dependencies ... OK
* checking whether the package can be unloaded cleanly ... OK
* checking whether the namespace can be loaded with stated dependencies ... OK
* checking whether the namespace can be unloaded cleanly ... OK
* checking dependencies in R code ... OK
* checking S3 generic/method consistency ... OK
* checking replacement functions ... OK
* checking foreign function calls ... OK
* checking R code for possible problems ... NOTE
.dots_multi_plot : <anonymous>: no visible binding for global variable
‘pval’
.dots_multi_plot : <anonymous>: no visible binding for global variable
‘fdr’
.dots_multi_plot : <anonymous>: no visible binding for global variable
‘label’
.dots_multi_plot: no visible global function definition for ‘head’
.dots_multi_plot: no visible binding for global variable ‘significance’
.dots_multi_plot: no visible binding for global variable ‘signature’
.dots_multi_plot: no visible binding for global variable ‘label’
.dots_multi_plot: no visible binding for global variable ‘size’
.dots_plot: no visible binding for global variable ‘pval’
.dots_plot: no visible binding for global variable ‘fdr’
.dots_plot: no visible binding for global variable ‘significance’
.dots_plot: no visible binding for global variable ‘size’
.enrichment_map: no visible binding for global variable ‘pval’
.enrichment_map: no visible binding for global variable ‘fdr’
.find_members: no visible binding for global variable ‘from’
.find_members: no visible binding for global variable ‘to’
.hiearchy_map: no visible binding for global variable ‘pval’
.hiearchy_map: no visible binding for global variable ‘fdr’
.hiearchy_map : <anonymous>: no visible binding for global variable
‘label’
.hyper_enrichment: no visible global function definition for ‘is’
.ks_enrichment: no visible global function definition for ‘is’
enrichr_available: no visible binding for global variable ‘.’
ggvenn: no visible binding for global variable ‘x’
ggvenn: no visible binding for global variable ‘y’
hyp_dots: no visible global function definition for ‘is’
hyp_emap: no visible global function definition for ‘is’
hyp_hmap: no visible global function definition for ‘is’
hyp_show: no visible global function definition for ‘is’
hyp_to_excel: no visible global function definition for ‘is’
hyp_to_rmd: no visible global function definition for ‘is’
hyp_to_rmd : <anonymous>: no visible global function definition for
‘is’
hyp_to_table: no visible global function definition for ‘is’
hyp_to_table: no visible global function definition for ‘write.table’
hypeR: no visible global function definition for ‘is’
hypeR: no visible global function definition for ‘packageVersion’
hypeR: no visible global function definition for ‘head’
msigdb_available: no visible binding for global variable ‘gs_cat’
msigdb_available: no visible binding for global variable ‘gs_subcat’
msigdb_download: no visible binding for global variable ‘gs_name’
msigdb_download: no visible binding for global variable ‘gene_symbol’
msigdb_download: no visible binding for global variable ‘.’
msigdb_version: no visible global function definition for
‘packageVersion’
rctbl_build: no visible global function definition for ‘is’
Undefined global functions or variables:
. fdr from gene_symbol gs_cat gs_name gs_subcat head is label
packageVersion pval signature significance size to write.table x y
Consider adding
importFrom("methods", "is", "signature")
importFrom("utils", "head", "packageVersion", "write.table")
to your NAMESPACE file (and ensure that your DESCRIPTION Imports field
contains 'methods').
* checking Rd files ... OK
* checking Rd metadata ... OK
* checking Rd cross-references ... OK
* checking for missing documentation entries ... OK
* checking for code/documentation mismatches ... OK
* checking Rd \usage sections ... OK
* checking Rd contents ... OK
* checking for unstated dependencies in examples ... OK
* checking files in ‘vignettes’ ... OK
* checking examples ... OK
Examples with CPU (user + system) or elapsed time > 5s
user system elapsed
msigdb_available 25.584 1.132 26.768
hyp_hmap 6.272 0.028 6.932
enrichr_download 0.168 0.004 14.093
* checking for unstated dependencies in ‘tests’ ... OK
* checking tests ...
Running ‘testthat.R’
OK
* checking for unstated dependencies in vignettes ... OK
* checking package vignettes in ‘inst/doc’ ... OK
* checking running R code from vignettes ... SKIPPED
* checking re-building of vignette outputs ... SKIPPED
* checking PDF version of manual ... OK
* DONE
Status: 1 NOTE
See
‘/home/biocbuild/bbs-3.12-bioc/meat/hypeR.Rcheck/00check.log’
for details.
hypeR.Rcheck/00install.out
############################################################################## ############################################################################## ### ### Running command: ### ### /home/biocbuild/bbs-3.12-bioc/R/bin/R CMD INSTALL hypeR ### ############################################################################## ############################################################################## * installing to library ‘/home/biocbuild/bbs-3.12-bioc/R/library’ * installing *source* package ‘hypeR’ ... ** using staged installation ** R ** data ** inst ** byte-compile and prepare package for lazy loading ** help *** installing help indices ** building package indices ** installing vignettes ** testing if installed package can be loaded from temporary location ** testing if installed package can be loaded from final location ** testing if installed package keeps a record of temporary installation path * DONE (hypeR)
hypeR.Rcheck/tests/testthat.Rout
R version 4.0.5 (2021-03-31) -- "Shake and Throw"
Copyright (C) 2021 The R Foundation for Statistical Computing
Platform: x86_64-pc-linux-gnu (64-bit)
R is free software and comes with ABSOLUTELY NO WARRANTY.
You are welcome to redistribute it under certain conditions.
Type 'license()' or 'licence()' for distribution details.
R is a collaborative project with many contributors.
Type 'contributors()' for more information and
'citation()' on how to cite R or R packages in publications.
Type 'demo()' for some demos, 'help()' for on-line help, or
'help.start()' for an HTML browser interface to help.
Type 'q()' to quit R.
> library(testthat)
> library(magrittr)
Attaching package: 'magrittr'
The following objects are masked from 'package:testthat':
equals, is_less_than, not
> library(hypeR)
>
> test_check("hypeR")
Signature 1
Signature 2
Signature 3
Signature 1
Signature 2
Signature 3
Signature 1
Signature 2
Signature 3
Signature 1
Signature 2
Signature 3
Signature 1
Signature 2
Signature 3
Signature 1
Signature 2
Signature 3
Signature 1
Signature 2
Signature 3
Signature 1
Signature 2
Signature 3
Signature 1
Signature 2
Signature 3
Signature 1
Signature 2
Signature 3
Signature 1
Signature 2
Signature 3
inline R code fragments
label: setup (with options)
List of 2
$ echo : logi FALSE
$ message: logi FALSE
ordinary text without R code
label: 1 (with options)
List of 2
$ fig.width: num 8.25
$ fig.align: chr "center"
ordinary text without R code
/usr/local/bin/pandoc +RTS -K512m -RTS hyp.1.utf8.md --to html4 --from markdown+autolink_bare_uris+tex_math_single_backslash --output hyp.1.html --lua-filter /home/biocbuild/bbs-3.12-bioc/R/library/rmarkdown/rmarkdown/lua/pagebreak.lua --lua-filter /home/biocbuild/bbs-3.12-bioc/R/library/rmarkdown/rmarkdown/lua/latex-div.lua --self-contained --variable bs3=TRUE --standalone --section-divs --table-of-contents --toc-depth 1 --variable toc_float=1 --variable toc_selectors=h1 --variable toc_collapsed=1 --variable toc_smooth_scroll=1 --variable toc_print=1 --template /home/biocbuild/bbs-3.12-bioc/R/library/rmarkdown/rmd/h/default.html --no-highlight --variable highlightjs=1 --variable theme=united --include-in-header /tmp/RtmpLZh1yd/rmarkdown-str45f41216ebbe.html --mathjax --variable 'mathjax-url:https://mathjax.rstudio.com/latest/MathJax.js?config=TeX-AMS-MML_HTMLorMML' --variable code_folding=hide --variable code_menu=1
Signature 1
Signature 2
Signature 3
inline R code fragments
label: setup (with options)
List of 2
$ echo : logi FALSE
$ message: logi FALSE
ordinary text without R code
label: 1 (with options)
List of 2
$ fig.width: num 8.25
$ fig.align: chr "center"
ordinary text without R code
label: 2 (with options)
List of 2
$ fig.width: num 8.25
$ fig.align: chr "center"
ordinary text without R code
label: 3 (with options)
List of 2
$ fig.width: num 8.25
$ fig.align: chr "center"
ordinary text without R code
/usr/local/bin/pandoc +RTS -K512m -RTS multihyp.1.utf8.md --to html4 --from markdown+autolink_bare_uris+tex_math_single_backslash --output multihyp.1.html --lua-filter /home/biocbuild/bbs-3.12-bioc/R/library/rmarkdown/rmarkdown/lua/pagebreak.lua --lua-filter /home/biocbuild/bbs-3.12-bioc/R/library/rmarkdown/rmarkdown/lua/latex-div.lua --self-contained --variable bs3=TRUE --standalone --section-divs --table-of-contents --toc-depth 1 --variable toc_float=1 --variable toc_selectors=h1 --variable toc_collapsed=1 --variable toc_smooth_scroll=1 --variable toc_print=1 --template /home/biocbuild/bbs-3.12-bioc/R/library/rmarkdown/rmd/h/default.html --no-highlight --variable highlightjs=1 --variable theme=united --include-in-header /tmp/RtmpLZh1yd/rmarkdown-str45f41ab00933.html --mathjax --variable 'mathjax-url:https://mathjax.rstudio.com/latest/MathJax.js?config=TeX-AMS-MML_HTMLorMML' --variable code_folding=hide --variable code_menu=1
Signature 1
Signature 2
Signature 3
Signature 1
Signature 2
Signature 3
Signature 1
Signature 2
Signature 3
inline R code fragments
label: setup (with options)
List of 2
$ echo : logi FALSE
$ message: logi FALSE
ordinary text without R code
label: 1 (with options)
List of 2
$ fig.width: num 8.25
$ fig.align: chr "center"
ordinary text without R code
label: 2 (with options)
List of 2
$ fig.width: num 8.25
$ fig.align: chr "center"
ordinary text without R code
label: 3 (with options)
List of 2
$ fig.width: num 8.25
$ fig.align: chr "center"
ordinary text without R code
label: 4 (with options)
List of 2
$ fig.width: num 8.25
$ fig.align: chr "center"
ordinary text without R code
label: 5 (with options)
List of 2
$ fig.width: num 8.25
$ fig.align: chr "center"
ordinary text without R code
label: 6 (with options)
List of 2
$ fig.width: num 8.25
$ fig.align: chr "center"
ordinary text without R code
label: 7 (with options)
List of 2
$ fig.width: num 8.25
$ fig.align: chr "center"
ordinary text without R code
label: 8 (with options)
List of 2
$ fig.width: num 8.25
$ fig.align: chr "center"
ordinary text without R code
label: 9 (with options)
List of 2
$ fig.width: num 8.25
$ fig.align: chr "center"
ordinary text without R code
/usr/local/bin/pandoc +RTS -K512m -RTS lmultihyp.1.utf8.md --to html4 --from markdown+autolink_bare_uris+tex_math_single_backslash --output lmultihyp.1.html --lua-filter /home/biocbuild/bbs-3.12-bioc/R/library/rmarkdown/rmarkdown/lua/pagebreak.lua --lua-filter /home/biocbuild/bbs-3.12-bioc/R/library/rmarkdown/rmarkdown/lua/latex-div.lua --self-contained --variable bs3=TRUE --standalone --section-divs --table-of-contents --toc-depth 1 --variable toc_float=1 --variable toc_selectors=h1 --variable toc_collapsed=1 --variable toc_smooth_scroll=1 --variable toc_print=1 --template /home/biocbuild/bbs-3.12-bioc/R/library/rmarkdown/rmd/h/default.html --no-highlight --variable highlightjs=1 --variable theme=united --include-in-header /tmp/RtmpLZh1yd/rmarkdown-str45f461d4984.html --mathjax --variable 'mathjax-url:https://mathjax.rstudio.com/latest/MathJax.js?config=TeX-AMS-MML_HTMLorMML' --variable code_folding=hide --variable code_menu=1
inline R code fragments
label: setup (with options)
List of 2
$ echo : logi FALSE
$ message: logi FALSE
ordinary text without R code
label: 1 (with options)
List of 2
$ fig.width: num 8.25
$ fig.align: chr "center"
ordinary text without R code
/usr/local/bin/pandoc +RTS -K512m -RTS hyp.2.utf8.md --to html4 --from markdown+autolink_bare_uris+tex_math_single_backslash --output hyp.2.html --lua-filter /home/biocbuild/bbs-3.12-bioc/R/library/rmarkdown/rmarkdown/lua/pagebreak.lua --lua-filter /home/biocbuild/bbs-3.12-bioc/R/library/rmarkdown/rmarkdown/lua/latex-div.lua --self-contained --variable bs3=TRUE --standalone --section-divs --table-of-contents --toc-depth 1 --variable toc_float=1 --variable toc_selectors=h1 --variable toc_collapsed=1 --variable toc_smooth_scroll=1 --variable toc_print=1 --template /home/biocbuild/bbs-3.12-bioc/R/library/rmarkdown/rmd/h/default.html --no-highlight --variable highlightjs=1 --variable theme=united --include-in-header /tmp/RtmpLZh1yd/rmarkdown-str45f464bb37cd.html --mathjax --variable 'mathjax-url:https://mathjax.rstudio.com/latest/MathJax.js?config=TeX-AMS-MML_HTMLorMML' --variable code_folding=hide --variable code_menu=1
Signature 1
Signature 2
Signature 3
inline R code fragments
label: setup (with options)
List of 2
$ echo : logi FALSE
$ message: logi FALSE
ordinary text without R code
label: 1 (with options)
List of 2
$ fig.width: num 8.25
$ fig.align: chr "center"
ordinary text without R code
label: 2 (with options)
List of 2
$ fig.width: num 8.25
$ fig.align: chr "center"
ordinary text without R code
label: 3 (with options)
List of 2
$ fig.width: num 8.25
$ fig.align: chr "center"
ordinary text without R code
/usr/local/bin/pandoc +RTS -K512m -RTS multihyp.2.utf8.md --to html4 --from markdown+autolink_bare_uris+tex_math_single_backslash --output multihyp.2.html --lua-filter /home/biocbuild/bbs-3.12-bioc/R/library/rmarkdown/rmarkdown/lua/pagebreak.lua --lua-filter /home/biocbuild/bbs-3.12-bioc/R/library/rmarkdown/rmarkdown/lua/latex-div.lua --self-contained --variable bs3=TRUE --standalone --section-divs --table-of-contents --toc-depth 1 --variable toc_float=1 --variable toc_selectors=h1 --variable toc_collapsed=1 --variable toc_smooth_scroll=1 --variable toc_print=1 --template /home/biocbuild/bbs-3.12-bioc/R/library/rmarkdown/rmd/h/default.html --no-highlight --variable highlightjs=1 --variable theme=united --include-in-header /tmp/RtmpLZh1yd/rmarkdown-str45f412142013.html --mathjax --variable 'mathjax-url:https://mathjax.rstudio.com/latest/MathJax.js?config=TeX-AMS-MML_HTMLorMML' --variable code_folding=hide --variable code_menu=1
Signature 1
Signature 2
Signature 3
Signature 1
Signature 2
Signature 3
Signature 1
Signature 2
Signature 3
inline R code fragments
label: setup (with options)
List of 2
$ echo : logi FALSE
$ message: logi FALSE
ordinary text without R code
label: 1 (with options)
List of 2
$ fig.width: num 8.25
$ fig.align: chr "center"
ordinary text without R code
label: 2 (with options)
List of 2
$ fig.width: num 8.25
$ fig.align: chr "center"
ordinary text without R code
label: 3 (with options)
List of 2
$ fig.width: num 8.25
$ fig.align: chr "center"
ordinary text without R code
label: 4 (with options)
List of 2
$ fig.width: num 8.25
$ fig.align: chr "center"
ordinary text without R code
label: 5 (with options)
List of 2
$ fig.width: num 8.25
$ fig.align: chr "center"
ordinary text without R code
label: 6 (with options)
List of 2
$ fig.width: num 8.25
$ fig.align: chr "center"
ordinary text without R code
label: 7 (with options)
List of 2
$ fig.width: num 8.25
$ fig.align: chr "center"
ordinary text without R code
label: 8 (with options)
List of 2
$ fig.width: num 8.25
$ fig.align: chr "center"
ordinary text without R code
label: 9 (with options)
List of 2
$ fig.width: num 8.25
$ fig.align: chr "center"
ordinary text without R code
/usr/local/bin/pandoc +RTS -K512m -RTS lmultihyp.2.utf8.md --to html4 --from markdown+autolink_bare_uris+tex_math_single_backslash --output lmultihyp.2.html --lua-filter /home/biocbuild/bbs-3.12-bioc/R/library/rmarkdown/rmarkdown/lua/pagebreak.lua --lua-filter /home/biocbuild/bbs-3.12-bioc/R/library/rmarkdown/rmarkdown/lua/latex-div.lua --self-contained --variable bs3=TRUE --standalone --section-divs --table-of-contents --toc-depth 1 --variable toc_float=1 --variable toc_selectors=h1 --variable toc_collapsed=1 --variable toc_smooth_scroll=1 --variable toc_print=1 --template /home/biocbuild/bbs-3.12-bioc/R/library/rmarkdown/rmd/h/default.html --no-highlight --variable highlightjs=1 --variable theme=united --include-in-header /tmp/RtmpLZh1yd/rmarkdown-str45f47ba71d91.html --mathjax --variable 'mathjax-url:https://mathjax.rstudio.com/latest/MathJax.js?config=TeX-AMS-MML_HTMLorMML' --variable code_folding=hide --variable code_menu=1
Signature 1
Signature 2
Signature 3
Signature 1
Signature 2
Signature 3
Signature 1
Signature 2
Signature 3
inline R code fragments
label: setup (with options)
List of 2
$ echo : logi FALSE
$ message: logi FALSE
ordinary text without R code
label: 1 (with options)
List of 2
$ fig.width: num 8.25
$ fig.align: chr "center"
ordinary text without R code
label: 2 (with options)
List of 2
$ fig.width: num 8.25
$ fig.align: chr "center"
ordinary text without R code
label: 3 (with options)
List of 2
$ fig.width: num 8.25
$ fig.align: chr "center"
ordinary text without R code
label: 4 (with options)
List of 2
$ fig.width: num 8.25
$ fig.align: chr "center"
ordinary text without R code
label: 5 (with options)
List of 2
$ fig.width: num 8.25
$ fig.align: chr "center"
ordinary text without R code
label: 6 (with options)
List of 2
$ fig.width: num 8.25
$ fig.align: chr "center"
ordinary text without R code
label: 7 (with options)
List of 2
$ fig.width: num 8.25
$ fig.align: chr "center"
ordinary text without R code
label: 8 (with options)
List of 2
$ fig.width: num 8.25
$ fig.align: chr "center"
ordinary text without R code
label: 9 (with options)
List of 2
$ fig.width: num 8.25
$ fig.align: chr "center"
ordinary text without R code
/usr/local/bin/pandoc +RTS -K512m -RTS lmultihyp.3.utf8.md --to html4 --from markdown+autolink_bare_uris+tex_math_single_backslash --output lmultihyp.3.html --lua-filter /home/biocbuild/bbs-3.12-bioc/R/library/rmarkdown/rmarkdown/lua/pagebreak.lua --lua-filter /home/biocbuild/bbs-3.12-bioc/R/library/rmarkdown/rmarkdown/lua/latex-div.lua --self-contained --variable bs3=TRUE --standalone --section-divs --table-of-contents --toc-depth 1 --variable toc_float=1 --variable toc_selectors=h1 --variable toc_collapsed=1 --variable toc_smooth_scroll=1 --variable toc_print=1 --template /home/biocbuild/bbs-3.12-bioc/R/library/rmarkdown/rmd/h/default.html --no-highlight --variable highlightjs=1 --variable theme=united --include-in-header /tmp/RtmpLZh1yd/rmarkdown-str45f43c3e318b.html --mathjax --variable 'mathjax-url:https://mathjax.rstudio.com/latest/MathJax.js?config=TeX-AMS-MML_HTMLorMML' --variable code_folding=hide --variable code_menu=1
inline R code fragments
label: setup (with options)
List of 2
$ echo : logi FALSE
$ message: logi FALSE
ordinary text without R code
label: 1 (with options)
List of 2
$ fig.width: num 8.25
$ fig.align: chr "center"
ordinary text without R code
/usr/local/bin/pandoc +RTS -K512m -RTS hyp.4.utf8.md --to html4 --from markdown+autolink_bare_uris+tex_math_single_backslash --output hyp.4.html --lua-filter /home/biocbuild/bbs-3.12-bioc/R/library/rmarkdown/rmarkdown/lua/pagebreak.lua --lua-filter /home/biocbuild/bbs-3.12-bioc/R/library/rmarkdown/rmarkdown/lua/latex-div.lua --self-contained --variable bs3=TRUE --standalone --section-divs --table-of-contents --toc-depth 1 --variable toc_float=1 --variable toc_selectors=h1 --variable toc_collapsed=1 --variable toc_smooth_scroll=1 --variable toc_print=1 --template /home/biocbuild/bbs-3.12-bioc/R/library/rmarkdown/rmd/h/default.html --no-highlight --variable highlightjs=1 --variable theme=united --include-in-header /tmp/RtmpLZh1yd/rmarkdown-str45f4685df3d9.html --mathjax --variable 'mathjax-url:https://mathjax.rstudio.com/latest/MathJax.js?config=TeX-AMS-MML_HTMLorMML' --variable code_folding=hide --variable code_menu=1
Signature 1
Signature 2
Signature 3
inline R code fragments
label: setup (with options)
List of 2
$ echo : logi FALSE
$ message: logi FALSE
ordinary text without R code
label: 1 (with options)
List of 2
$ fig.width: num 8.25
$ fig.align: chr "center"
ordinary text without R code
label: 2 (with options)
List of 2
$ fig.width: num 8.25
$ fig.align: chr "center"
ordinary text without R code
label: 3 (with options)
List of 2
$ fig.width: num 8.25
$ fig.align: chr "center"
ordinary text without R code
/usr/local/bin/pandoc +RTS -K512m -RTS multihyp.4.utf8.md --to html4 --from markdown+autolink_bare_uris+tex_math_single_backslash --output multihyp.4.html --lua-filter /home/biocbuild/bbs-3.12-bioc/R/library/rmarkdown/rmarkdown/lua/pagebreak.lua --lua-filter /home/biocbuild/bbs-3.12-bioc/R/library/rmarkdown/rmarkdown/lua/latex-div.lua --self-contained --variable bs3=TRUE --standalone --section-divs --table-of-contents --toc-depth 1 --variable toc_float=1 --variable toc_selectors=h1 --variable toc_collapsed=1 --variable toc_smooth_scroll=1 --variable toc_print=1 --template /home/biocbuild/bbs-3.12-bioc/R/library/rmarkdown/rmd/h/default.html --no-highlight --variable highlightjs=1 --variable theme=united --include-in-header /tmp/RtmpLZh1yd/rmarkdown-str45f4756f9542.html --mathjax --variable 'mathjax-url:https://mathjax.rstudio.com/latest/MathJax.js?config=TeX-AMS-MML_HTMLorMML' --variable code_folding=hide --variable code_menu=1
Signature 1
Signature 2
Signature 3
inline R code fragments
label: setup (with options)
List of 2
$ echo : logi FALSE
$ message: logi FALSE
ordinary text without R code
label: 1 (with options)
List of 2
$ fig.width: num 8.25
$ fig.align: chr "center"
ordinary text without R code
label: 2 (with options)
List of 2
$ fig.width: num 8.25
$ fig.align: chr "center"
ordinary text without R code
label: 3 (with options)
List of 2
$ fig.width: num 8.25
$ fig.align: chr "center"
ordinary text without R code
label: 4 (with options)
List of 2
$ fig.width: num 8.25
$ fig.align: chr "center"
ordinary text without R code
/usr/local/bin/pandoc +RTS -K512m -RTS combo.1.utf8.md --to html4 --from markdown+autolink_bare_uris+tex_math_single_backslash --output combo.1.html --lua-filter /home/biocbuild/bbs-3.12-bioc/R/library/rmarkdown/rmarkdown/lua/pagebreak.lua --lua-filter /home/biocbuild/bbs-3.12-bioc/R/library/rmarkdown/rmarkdown/lua/latex-div.lua --self-contained --variable bs3=TRUE --standalone --section-divs --table-of-contents --toc-depth 1 --variable toc_float=1 --variable toc_selectors=h1 --variable toc_collapsed=1 --variable toc_smooth_scroll=1 --variable toc_print=1 --template /home/biocbuild/bbs-3.12-bioc/R/library/rmarkdown/rmd/h/default.html --no-highlight --variable highlightjs=1 --variable theme=united --include-in-header /tmp/RtmpLZh1yd/rmarkdown-str45f437b84234.html --mathjax --variable 'mathjax-url:https://mathjax.rstudio.com/latest/MathJax.js?config=TeX-AMS-MML_HTMLorMML' --variable code_folding=hide --variable code_menu=1
inline R code fragments
label: setup (with options)
List of 2
$ echo : logi FALSE
$ message: logi FALSE
ordinary text without R code
label: 1 (with options)
List of 2
$ fig.width: num 8.25
$ fig.align: chr "center"
ordinary text without R code
label: 2 (with options)
List of 2
$ fig.width: num 8.25
$ fig.align: chr "center"
ordinary text without R code
label: 3 (with options)
List of 2
$ fig.width: num 8.25
$ fig.align: chr "center"
ordinary text without R code
label: 4 (with options)
List of 2
$ fig.width: num 8.25
$ fig.align: chr "center"
ordinary text without R code
/usr/local/bin/pandoc +RTS -K512m -RTS combo.2.utf8.md --to html4 --from markdown+autolink_bare_uris+tex_math_single_backslash --output combo.2.html --lua-filter /home/biocbuild/bbs-3.12-bioc/R/library/rmarkdown/rmarkdown/lua/pagebreak.lua --lua-filter /home/biocbuild/bbs-3.12-bioc/R/library/rmarkdown/rmarkdown/lua/latex-div.lua --self-contained --variable bs3=TRUE --standalone --section-divs --table-of-contents --toc-depth 1 --variable toc_float=1 --variable toc_selectors=h1 --variable toc_collapsed=1 --variable toc_smooth_scroll=1 --variable toc_print=1 --template /home/biocbuild/bbs-3.12-bioc/R/library/rmarkdown/rmd/h/default.html --no-highlight --variable highlightjs=1 --variable theme=united --include-in-header /tmp/RtmpLZh1yd/rmarkdown-str45f45b48df3d.html --mathjax --variable 'mathjax-url:https://mathjax.rstudio.com/latest/MathJax.js?config=TeX-AMS-MML_HTMLorMML' --variable code_folding=hide --variable code_menu=1
inline R code fragments
label: setup (with options)
List of 2
$ echo : logi FALSE
$ message: logi FALSE
ordinary text without R code
label: 1 (with options)
List of 2
$ fig.width: num 8.25
$ fig.align: chr "center"
ordinary text without R code
label: 2 (with options)
List of 2
$ fig.width: num 8.25
$ fig.align: chr "center"
ordinary text without R code
label: 3 (with options)
List of 2
$ fig.width: num 8.25
$ fig.align: chr "center"
ordinary text without R code
label: 4 (with options)
List of 2
$ fig.width: num 8.25
$ fig.align: chr "center"
ordinary text without R code
label: unnamed-chunk-1
ordinary text without R code
/usr/local/bin/pandoc +RTS -K512m -RTS combo.3.utf8.md --to html4 --from markdown+autolink_bare_uris+tex_math_single_backslash --output combo.3.html --lua-filter /home/biocbuild/bbs-3.12-bioc/R/library/rmarkdown/rmarkdown/lua/pagebreak.lua --lua-filter /home/biocbuild/bbs-3.12-bioc/R/library/rmarkdown/rmarkdown/lua/latex-div.lua --self-contained --variable bs3=TRUE --standalone --section-divs --table-of-contents --toc-depth 1 --variable toc_float=1 --variable toc_selectors=h1 --variable toc_collapsed=1 --variable toc_smooth_scroll=1 --variable toc_print=1 --template /home/biocbuild/bbs-3.12-bioc/R/library/rmarkdown/rmd/h/default.html --no-highlight --variable highlightjs=1 --variable theme=united --include-in-header /tmp/RtmpLZh1yd/rmarkdown-str45f420a58c19.html --mathjax --variable 'mathjax-url:https://mathjax.rstudio.com/latest/MathJax.js?config=TeX-AMS-MML_HTMLorMML' --variable code_folding=hide --variable code_menu=1
Signature 1
Signature 2
Signature 3
Signature 1
Signature 2
Signature 3
Signature 1
Signature 2
Signature 3
Signature 1
Signature 2
Signature 3
Signature 1
Signature 2
Signature 3
Signature 1
Signature 2
Signature 3
Signature 1
Signature 2
Signature 3
Signature 1
Signature 2
Signature 3
Signature 1
Signature 2
Signature 3
Signature 1
Signature 2
Signature 3
[ FAIL 0 | WARN 0 | SKIP 0 | PASS 409 ]
>
> proc.time()
user system elapsed
59.544 1.244 61.277
hypeR.Rcheck/hypeR-Ex.timings
| name | user | system | elapsed | |
| clean_genesets | 3.200 | 0.212 | 3.465 | |
| dot-format_str | 0 | 0 | 0 | |
| dot-string_args | 0.000 | 0.000 | 0.001 | |
| enrichr_available | 0.420 | 0.036 | 0.626 | |
| enrichr_download | 0.168 | 0.004 | 14.093 | |
| enrichr_gsets | 0.176 | 0.000 | 0.783 | |
| gsets | 0.000 | 0.000 | 0.001 | |
| hyp | 0.012 | 0.000 | 0.010 | |
| hyp_dots | 1.436 | 0.048 | 1.486 | |
| hyp_emap | 0.948 | 0.036 | 1.078 | |
| hyp_hmap | 6.272 | 0.028 | 6.932 | |
| hyp_show | 0.864 | 0.064 | 1.026 | |
| hyp_to_excel | 1.872 | 0.044 | 1.915 | |
| hyp_to_table | 1.048 | 0.036 | 1.086 | |
| hypeR | 1.232 | 0.032 | 1.265 | |
| hyperdb_info | 0 | 0 | 0 | |
| hyperdb_rgsets | 0.056 | 0.004 | 0.154 | |
| msigdb_available | 25.584 | 1.132 | 26.768 | |
| msigdb_check_species | 0 | 0 | 0 | |
| msigdb_download | 0.504 | 0.060 | 0.567 | |
| msigdb_gsets | 0.476 | 0.064 | 0.543 | |
| msigdb_info | 0.000 | 0.000 | 0.002 | |
| msigdb_species | 0.028 | 0.000 | 0.027 | |
| msigdb_version | 0.000 | 0.000 | 0.001 | |
| multihyp | 0.000 | 0.000 | 0.001 | |
| rctbl_build | 0.508 | 0.016 | 0.525 | |
| rctbl_hyp | 0.360 | 0.028 | 0.391 | |
| rctbl_mhyp | 0.576 | 0.040 | 0.621 | |
| rgsets | 0.008 | 0.000 | 0.042 | |