| Back to Multiple platform build/check report for BioC 3.12 | 
  | 
This page was generated on 2021-05-06 12:35:12 -0400 (Thu, 06 May 2021).
| 
To the developers/maintainers of the gsean package: Please make sure to use the following settings in order to reproduce any error or warning you see on this page.  | 
| Package 798/1974 | Hostname | OS / Arch | INSTALL | BUILD | CHECK | BUILD BIN | ||||||||
| gsean 1.10.1  (landing page) Dongmin Jung 
  | malbec1 | Linux (Ubuntu 18.04.5 LTS) / x86_64 | OK | OK | OK | |||||||||
| tokay1 | Windows Server 2012 R2 Standard / x64 | OK | OK | OK | OK | |||||||||
| merida1 | macOS 10.14.6 Mojave / x86_64 | OK | OK | OK | OK | |||||||||
| Package: gsean | 
| Version: 1.10.1 | 
| Command: rm -rf gsean.buildbin-libdir && mkdir gsean.buildbin-libdir && /Users/biocbuild/BBS/utils/build-universal.sh gsean_1.10.1.tar.gz /Library/Frameworks/R.framework/Versions/Current/Resources/bin/R gsean.buildbin-libdir | 
| StartedAt: 2021-05-06 08:51:21 -0400 (Thu, 06 May 2021) | 
| EndedAt: 2021-05-06 08:52:21 -0400 (Thu, 06 May 2021) | 
| EllapsedTime: 60.4 seconds | 
| RetCode: 0 | 
| Status: OK | 
| PackageFile: gsean_1.10.1.tgz | 
| PackageFileSize: 1.497 MiB | 
############################################################################## ############################################################################## ### ### Running command: ### ### rm -rf gsean.buildbin-libdir && mkdir gsean.buildbin-libdir && /Users/biocbuild/BBS/utils/build-universal.sh gsean_1.10.1.tar.gz /Library/Frameworks/R.framework/Versions/Current/Resources/bin/R gsean.buildbin-libdir ### ############################################################################## ############################################################################## >>>>>>> >>>>>>> INSTALLATION WITH 'R CMD INSTALL --preclean --no-multiarch --library=gsean.buildbin-libdir gsean_1.10.1.tar.gz' >>>>>>> * installing *source* package ‘gsean’ ... ** using staged installation ** R ** data ** inst ** byte-compile and prepare package for lazy loading ** help *** installing help indices ** building package indices ** installing vignettes ** testing if installed package can be loaded from temporary location ** testing if installed package can be loaded from final location ** testing if installed package keeps a record of temporary installation path * DONE (gsean)