| Back to Multiple platform build/check report for BioC 3.12 | 
  | 
This page was generated on 2021-05-06 12:31:42 -0400 (Thu, 06 May 2021).
| 
To the developers/maintainers of the gscreend package: Please make sure to use the following settings in order to reproduce any error or warning you see on this page.  | 
| Package 793/1974 | Hostname | OS / Arch | INSTALL | BUILD | CHECK | BUILD BIN | ||||||||
| gscreend 1.4.0  (landing page) Katharina Imkeller 
  | malbec1 | Linux (Ubuntu 18.04.5 LTS) / x86_64 | OK | OK | OK | |||||||||
| tokay1 | Windows Server 2012 R2 Standard / x64 | OK | OK | OK | OK | |||||||||
| merida1 | macOS 10.14.6 Mojave / x86_64 | OK | OK | OK | OK | |||||||||
| Package: gscreend | 
| Version: 1.4.0 | 
| Command: rm -rf gscreend.buildbin-libdir && mkdir gscreend.buildbin-libdir && C:\Users\biocbuild\bbs-3.12-bioc\R\bin\R.exe CMD INSTALL --merge-multiarch --build --library=gscreend.buildbin-libdir gscreend_1.4.0.tar.gz | 
| StartedAt: 2021-05-06 09:14:47 -0400 (Thu, 06 May 2021) | 
| EndedAt: 2021-05-06 09:15:26 -0400 (Thu, 06 May 2021) | 
| EllapsedTime: 38.4 seconds | 
| RetCode: 0 | 
| Status: OK | 
| PackageFile: gscreend_1.4.0.zip | 
| PackageFileSize: 3.149 MiB | 
##############################################################################
##############################################################################
###
### Running command:
###
###   rm -rf gscreend.buildbin-libdir && mkdir gscreend.buildbin-libdir && C:\Users\biocbuild\bbs-3.12-bioc\R\bin\R.exe CMD INSTALL --merge-multiarch --build --library=gscreend.buildbin-libdir gscreend_1.4.0.tar.gz
###
##############################################################################
##############################################################################
install for i386
* installing *source* package 'gscreend' ...
** using staged installation
** R
** inst
** byte-compile and prepare package for lazy loading
** help
*** installing help indices
  converting help for package 'gscreend'
    finding HTML links ... done
    GeneData-PoolScreenExp-method           html  
    GeneData                                html  
    PoolScreenExp-class                     html  
    ResultsTable                            html  
    RunGscreend                             html  
    assignGeneData                          html  
    calculateIntervalFits                   html  
    calculateLFC                            html  
    calculatePValues                        html  
    createPoolScreenExp                     html  
    createPoolScreenExpFromSE               html  
    defineFittingIntervals                  html  
    fit_least_quantile                      html  
    normalizePoolScreenExp                  html  
    plotModelParameters                     html  
    plotReplicateCorrelation                html  
    sgRNAData-PoolScreenExp-method          html  
    sgRNAData                               html  
** building package indices
** installing vignettes
** testing if installed package can be loaded from temporary location
** testing if installed package can be loaded from final location
** testing if installed package keeps a record of temporary installation path
install for x64
* installing *source* package 'gscreend' ...
** testing if installed package can be loaded
* MD5 sums
packaged installation of 'gscreend' as gscreend_1.4.0.zip
* DONE (gscreend)