| Back to Multiple platform build/check report for BioC 3.12 |
|
This page was generated on 2021-05-06 12:27:49 -0400 (Thu, 06 May 2021).
|
To the developers/maintainers of the graphite package: Please make sure to use the following settings in order to reproduce any error or warning you see on this page. |
| Package 783/1974 | Hostname | OS / Arch | INSTALL | BUILD | CHECK | BUILD BIN | ||||||||
| graphite 1.36.0 (landing page) Gabriele Sales
| malbec1 | Linux (Ubuntu 18.04.5 LTS) / x86_64 | OK | OK | OK | |||||||||
| tokay1 | Windows Server 2012 R2 Standard / x64 | OK | OK | OK | OK | |||||||||
| merida1 | macOS 10.14.6 Mojave / x86_64 | OK | OK | OK | OK | |||||||||
| Package: graphite |
| Version: 1.36.0 |
| Command: /home/biocbuild/bbs-3.12-bioc/R/bin/R CMD check --install=check:graphite.install-out.txt --library=/home/biocbuild/bbs-3.12-bioc/R/library --no-vignettes --timings graphite_1.36.0.tar.gz |
| StartedAt: 2021-05-06 02:13:24 -0400 (Thu, 06 May 2021) |
| EndedAt: 2021-05-06 02:17:49 -0400 (Thu, 06 May 2021) |
| EllapsedTime: 264.2 seconds |
| RetCode: 0 |
| Status: OK |
| CheckDir: graphite.Rcheck |
| Warnings: 0 |
##############################################################################
##############################################################################
###
### Running command:
###
### /home/biocbuild/bbs-3.12-bioc/R/bin/R CMD check --install=check:graphite.install-out.txt --library=/home/biocbuild/bbs-3.12-bioc/R/library --no-vignettes --timings graphite_1.36.0.tar.gz
###
##############################################################################
##############################################################################
* using log directory ‘/home/biocbuild/bbs-3.12-bioc/meat/graphite.Rcheck’
* using R version 4.0.5 (2021-03-31)
* using platform: x86_64-pc-linux-gnu (64-bit)
* using session charset: UTF-8
* using option ‘--no-vignettes’
* checking for file ‘graphite/DESCRIPTION’ ... OK
* this is package ‘graphite’ version ‘1.36.0’
* checking package namespace information ... OK
* checking package dependencies ... OK
* checking if this is a source package ... OK
* checking if there is a namespace ... OK
* checking for hidden files and directories ... OK
* checking for portable file names ... OK
* checking for sufficient/correct file permissions ... OK
* checking whether package ‘graphite’ can be installed ... OK
* checking installed package size ... OK
* checking package directory ... OK
* checking ‘build’ directory ... OK
* checking DESCRIPTION meta-information ... OK
* checking top-level files ... OK
* checking for left-over files ... OK
* checking index information ... OK
* checking package subdirectories ... OK
* checking R files for non-ASCII characters ... OK
* checking R files for syntax errors ... OK
* checking whether the package can be loaded ... OK
* checking whether the package can be loaded with stated dependencies ... OK
* checking whether the package can be unloaded cleanly ... OK
* checking whether the namespace can be loaded with stated dependencies ... OK
* checking whether the namespace can be unloaded cleanly ... OK
* checking dependencies in R code ... OK
* checking S3 generic/method consistency ... OK
* checking replacement functions ... OK
* checking foreign function calls ... OK
* checking R code for possible problems ... OK
* checking Rd files ... OK
* checking Rd metadata ... OK
* checking Rd cross-references ... OK
* checking for missing documentation entries ... OK
* checking for code/documentation mismatches ... OK
* checking Rd \usage sections ... OK
* checking Rd contents ... OK
* checking for unstated dependencies in examples ... OK
* checking files in ‘vignettes’ ... OK
* checking examples ... OK
Examples with CPU (user + system) or elapsed time > 5s
user system elapsed
runClipper 16.248 0.260 18.080
runSPIA 6.664 0.180 6.965
convertIdentifiers 5.532 0.032 5.624
* checking for unstated dependencies in ‘tests’ ... OK
* checking tests ...
Running ‘testthat.R’
OK
* checking for unstated dependencies in vignettes ... OK
* checking package vignettes in ‘inst/doc’ ... OK
* checking running R code from vignettes ... SKIPPED
* checking re-building of vignette outputs ... SKIPPED
* checking PDF version of manual ... OK
* DONE
Status: OK
graphite.Rcheck/00install.out
############################################################################## ############################################################################## ### ### Running command: ### ### /home/biocbuild/bbs-3.12-bioc/R/bin/R CMD INSTALL graphite ### ############################################################################## ############################################################################## * installing to library ‘/home/biocbuild/bbs-3.12-bioc/R/library’ * installing *source* package ‘graphite’ ... ** using staged installation ** R ** inst ** byte-compile and prepare package for lazy loading ** help *** installing help indices ** building package indices ** installing vignettes ** testing if installed package can be loaded from temporary location ** testing if installed package can be loaded from final location ** testing if installed package keeps a record of temporary installation path * DONE (graphite)
graphite.Rcheck/tests/testthat.Rout
R version 4.0.5 (2021-03-31) -- "Shake and Throw"
Copyright (C) 2021 The R Foundation for Statistical Computing
Platform: x86_64-pc-linux-gnu (64-bit)
R is free software and comes with ABSOLUTELY NO WARRANTY.
You are welcome to redistribute it under certain conditions.
Type 'license()' or 'licence()' for distribution details.
R is a collaborative project with many contributors.
Type 'contributors()' for more information and
'citation()' on how to cite R or R packages in publications.
Type 'demo()' for some demos, 'help()' for on-line help, or
'help.start()' for an HTML browser interface to help.
Type 'q()' to quit R.
> library(testthat)
> library(graphite)
>
> test_check("graphite")
══ Skipped tests ═══════════════════════════════════════════════════════════════
• On Bioconductor (1)
[ FAIL 0 | WARN 0 | SKIP 1 | PASS 95 ]
>
> proc.time()
user system elapsed
51.208 1.316 114.837
graphite.Rcheck/graphite-Ex.timings
| name | user | system | elapsed | |
| as.list.PathwayList | 1.060 | 0.044 | 1.124 | |
| buildPathway | 0.008 | 0.000 | 0.009 | |
| convertIdentifiers | 5.532 | 0.032 | 5.624 | |
| cytoscapePlot | 0 | 0 | 0 | |
| pathwayDatabases | 0.008 | 0.000 | 0.007 | |
| pathwayGraph | 3.824 | 0.012 | 3.843 | |
| pathways | 4.248 | 0.012 | 4.265 | |
| runClipper | 16.248 | 0.260 | 18.080 | |
| runSPIA | 6.664 | 0.180 | 6.965 | |
| runTopologyGSA | 2.252 | 0.032 | 2.353 | |