| Back to Multiple platform build/check report for BioC 3.12 | 
  | 
This page was generated on 2021-05-06 12:31:37 -0400 (Thu, 06 May 2021).
| 
To the developers/maintainers of the gpls package: Please make sure to use the following settings in order to reproduce any error or warning you see on this page.  | 
| Package 773/1974 | Hostname | OS / Arch | INSTALL | BUILD | CHECK | BUILD BIN | ||||||||
| gpls 1.62.0  (landing page) Bioconductor Package Maintainer 
  | malbec1 | Linux (Ubuntu 18.04.5 LTS) / x86_64 | OK | OK | WARNINGS | |||||||||
| tokay1 | Windows Server 2012 R2 Standard / x64 | OK | OK | WARNINGS | OK | |||||||||
| merida1 | macOS 10.14.6 Mojave / x86_64 | OK | OK | WARNINGS | OK | |||||||||
| Package: gpls | 
| Version: 1.62.0 | 
| Command: C:\cygwin\bin\curl.exe -O http://172.29.0.3/BBS/3.12/bioc/src/contrib/gpls_1.62.0.tar.gz && rm -rf gpls.buildbin-libdir && mkdir gpls.buildbin-libdir && C:\Users\biocbuild\bbs-3.12-bioc\R\bin\R.exe CMD INSTALL --merge-multiarch --build --library=gpls.buildbin-libdir gpls_1.62.0.tar.gz && C:\Users\biocbuild\bbs-3.12-bioc\R\bin\R.exe CMD INSTALL gpls_1.62.0.zip && rm gpls_1.62.0.tar.gz gpls_1.62.0.zip | 
| StartedAt: 2021-05-05 16:39:25 -0400 (Wed, 05 May 2021) | 
| EndedAt: 2021-05-05 16:39:58 -0400 (Wed, 05 May 2021) | 
| EllapsedTime: 32.8 seconds | 
| RetCode: 0 | 
| Status: OK | 
##############################################################################
##############################################################################
###
### Running command:
###
###   C:\cygwin\bin\curl.exe -O http://172.29.0.3/BBS/3.12/bioc/src/contrib/gpls_1.62.0.tar.gz && rm -rf gpls.buildbin-libdir && mkdir gpls.buildbin-libdir && C:\Users\biocbuild\bbs-3.12-bioc\R\bin\R.exe CMD INSTALL --merge-multiarch --build --library=gpls.buildbin-libdir gpls_1.62.0.tar.gz && C:\Users\biocbuild\bbs-3.12-bioc\R\bin\R.exe CMD INSTALL gpls_1.62.0.zip && rm gpls_1.62.0.tar.gz gpls_1.62.0.zip
###
##############################################################################
##############################################################################
  % Total    % Received % Xferd  Average Speed   Time    Time     Time  Current
                                 Dload  Upload   Total   Spent    Left  Speed
  0     0    0     0    0     0      0      0 --:--:-- --:--:-- --:--:--     0
100 12691  100 12691    0     0   644k      0 --:--:-- --:--:-- --:--:--  688k
install for i386
* installing *source* package 'gpls' ...
** using staged installation
** R
** byte-compile and prepare package for lazy loading
Note: break used in wrong context: no loop is visible 
Note: break used in wrong context: no loop is visible 
** help
*** installing help indices
  converting help for package 'gpls'
    finding HTML links ... done
    glpls1a                                 html  
    glpls1a.cv.error                        html  
    glpls1a.logit.all                       html  
    glpls1a.mlogit                          html  
    glpls1a.mlogit.cv.error                 html  
    glpls1a.train.test.error                html  
    gpls                                    html  
    predict.gpls                            html  
** building package indices
** installing vignettes
** testing if installed package can be loaded from temporary location
** testing if installed package can be loaded from final location
** testing if installed package keeps a record of temporary installation path
install for x64
* installing *source* package 'gpls' ...
** testing if installed package can be loaded
* MD5 sums
packaged installation of 'gpls' as gpls_1.62.0.zip
* DONE (gpls)
* installing to library 'C:/Users/biocbuild/bbs-3.12-bioc/R/library'
package 'gpls' successfully unpacked and MD5 sums checked