| Back to Multiple platform build/check report for BioC 3.12 | 
  | 
This page was generated on 2021-05-06 12:35:00 -0400 (Thu, 06 May 2021).
| 
To the developers/maintainers of the flowMap package: Please make sure to use the following settings in order to reproduce any error or warning you see on this page.  | 
| Package 623/1974 | Hostname | OS / Arch | INSTALL | BUILD | CHECK | BUILD BIN | ||||||||
| flowMap 1.28.0  (landing page) Chiaowen Joyce Hsiao 
  | malbec1 | Linux (Ubuntu 18.04.5 LTS) / x86_64 | OK | OK | WARNINGS | |||||||||
| tokay1 | Windows Server 2012 R2 Standard / x64 | OK | OK | WARNINGS | OK | |||||||||
| merida1 | macOS 10.14.6 Mojave / x86_64 | OK | OK | WARNINGS | OK | |||||||||
| Package: flowMap | 
| Version: 1.28.0 | 
| Command: /Library/Frameworks/R.framework/Versions/Current/Resources/bin/R CMD build --keep-empty-dirs --no-resave-data flowMap | 
| StartedAt: 2021-05-05 19:29:31 -0400 (Wed, 05 May 2021) | 
| EndedAt: 2021-05-05 19:31:19 -0400 (Wed, 05 May 2021) | 
| EllapsedTime: 108.3 seconds | 
| RetCode: 0 | 
| Status: OK | 
| PackageFile: flowMap_1.28.0.tar.gz | 
| PackageFileSize: 866.1 KiB | 
############################################################################## ############################################################################## ### ### Running command: ### ### /Library/Frameworks/R.framework/Versions/Current/Resources/bin/R CMD build --keep-empty-dirs --no-resave-data flowMap ### ############################################################################## ############################################################################## * checking for file ‘flowMap/DESCRIPTION’ ... OK * preparing ‘flowMap’: * checking DESCRIPTION meta-information ... OK * installing the package to build vignettes * creating vignettes ... OK * checking for LF line-endings in source and make files and shell scripts * checking for empty or unneeded directories * building ‘flowMap_1.28.0.tar.gz’