| Back to Multiple platform build/check report for BioC 3.12 |
|
This page was generated on 2021-05-06 12:31:05 -0400 (Thu, 06 May 2021).
|
To the developers/maintainers of the fabia package: Please make sure to use the following settings in order to reproduce any error or warning you see on this page. |
| Package 585/1974 | Hostname | OS / Arch | INSTALL | BUILD | CHECK | BUILD BIN | ||||||||
| fabia 2.36.0 (landing page) Andreas Mitterecker
| malbec1 | Linux (Ubuntu 18.04.5 LTS) / x86_64 | OK | OK | OK | |||||||||
| tokay1 | Windows Server 2012 R2 Standard / x64 | OK | OK | OK | OK | |||||||||
| merida1 | macOS 10.14.6 Mojave / x86_64 | OK | OK | OK | OK | |||||||||
| Package: fabia |
| Version: 2.36.0 |
| Command: C:\cygwin\bin\curl.exe -O http://172.29.0.3/BBS/3.12/bioc/src/contrib/fabia_2.36.0.tar.gz && rm -rf fabia.buildbin-libdir && mkdir fabia.buildbin-libdir && C:\Users\biocbuild\bbs-3.12-bioc\R\bin\R.exe CMD INSTALL --merge-multiarch --build --library=fabia.buildbin-libdir fabia_2.36.0.tar.gz && C:\Users\biocbuild\bbs-3.12-bioc\R\bin\R.exe CMD INSTALL fabia_2.36.0.zip && rm fabia_2.36.0.tar.gz fabia_2.36.0.zip |
| StartedAt: 2021-05-05 17:01:28 -0400 (Wed, 05 May 2021) |
| EndedAt: 2021-05-05 17:02:22 -0400 (Wed, 05 May 2021) |
| EllapsedTime: 54.1 seconds |
| RetCode: 0 |
| Status: OK |
##############################################################################
##############################################################################
###
### Running command:
###
### C:\cygwin\bin\curl.exe -O http://172.29.0.3/BBS/3.12/bioc/src/contrib/fabia_2.36.0.tar.gz && rm -rf fabia.buildbin-libdir && mkdir fabia.buildbin-libdir && C:\Users\biocbuild\bbs-3.12-bioc\R\bin\R.exe CMD INSTALL --merge-multiarch --build --library=fabia.buildbin-libdir fabia_2.36.0.tar.gz && C:\Users\biocbuild\bbs-3.12-bioc\R\bin\R.exe CMD INSTALL fabia_2.36.0.zip && rm fabia_2.36.0.tar.gz fabia_2.36.0.zip
###
##############################################################################
##############################################################################
% Total % Received % Xferd Average Speed Time Time Time Current
Dload Upload Total Spent Left Speed
0 0 0 0 0 0 0 0 --:--:-- --:--:-- --:--:-- 0
100 205k 100 205k 0 0 3938k 0 --:--:-- --:--:-- --:--:-- 4026k
install for i386
* installing *source* package 'fabia' ...
** using staged installation
** libs
running 'src/Makefile.win' ...
rm -f fabia.o fabia.dll *.a *.o *.so *.dll
"C:/rtools40/mingw32/bin/"gcc -c fabiac.c -o fabia.o -I"C:/Users/BIOCBU~1/BBS-3~1.12-/R/include" -Wall -O3
"C:/rtools40/mingw32/bin/"gcc -shared -s -static-libgcc fabia.o -L"C:/Users/BIOCBU~1/BBS-3~1.12-/R/bin/i386" -lR -o fabia.dll
rm -f fabia.o *.a *.o *.so
installing to C:/Users/biocbuild/bbs-3.12-bioc/meat/fabia.buildbin-libdir/00LOCK-fabia/00new/fabia/libs/i386
** R
** demo
** inst
** byte-compile and prepare package for lazy loading
** help
*** installing help indices
converting help for package 'fabia'
finding HTML links ... done
Factorization-class html
estimateMode html
extractBic html
extractPlot html
fabi html
fabia html
fabiaDemo html
fabiaVersion html
fabiap html
fabias html
fabiasp html
makeFabiaData html
makeFabiaDataBlocks html
makeFabiaDataBlocksPos html
makeFabiaDataPos html
matrixImagePlot html
mfsc html
nmfdiv html
nmfeu html
nmfsc html
plotBicluster html
projFunc html
projFuncPos html
readSamplesSpfabia html
readSpfabiaResult html
samplesPerFeature html
spfabia html
** building package indices
** installing vignettes
** testing if installed package can be loaded from temporary location
** testing if installed package can be loaded from final location
** testing if installed package keeps a record of temporary installation path
install for x64
* installing *source* package 'fabia' ...
** libs
running 'src/Makefile.win' ...
rm -f fabia.o fabia.dll *.a *.o *.so *.dll
"C:/rtools40/mingw64/bin/"gcc -c fabiac.c -o fabia.o -I"C:/Users/BIOCBU~1/BBS-3~1.12-/R/include" -Wall -O3
"C:/rtools40/mingw64/bin/"gcc -shared -s -static-libgcc fabia.o -L"C:/Users/BIOCBU~1/BBS-3~1.12-/R/bin/x64" -lR -o fabia.dll
rm -f fabia.o *.a *.o *.so
installing to C:/Users/biocbuild/bbs-3.12-bioc/meat/fabia.buildbin-libdir/fabia/libs/x64
** testing if installed package can be loaded
* MD5 sums
packaged installation of 'fabia' as fabia_2.36.0.zip
* DONE (fabia)
* installing to library 'C:/Users/biocbuild/bbs-3.12-bioc/R/library'
package 'fabia' successfully unpacked and MD5 sums checked