| Back to Multiple platform build/check report for BioC 3.12 | 
  | 
This page was generated on 2021-05-06 12:31:00 -0400 (Thu, 06 May 2021).
| 
To the developers/maintainers of the easyreporting package: Please make sure to use the following settings in order to reproduce any error or warning you see on this page.  | 
| Package 521/1974 | Hostname | OS / Arch | INSTALL | BUILD | CHECK | BUILD BIN | ||||||||
| easyreporting 1.2.0  (landing page) Dario Righelli 
  | malbec1 | Linux (Ubuntu 18.04.5 LTS) / x86_64 | OK | OK | OK | |||||||||
| tokay1 | Windows Server 2012 R2 Standard / x64 | OK | OK | OK | OK | |||||||||
| merida1 | macOS 10.14.6 Mojave / x86_64 | OK | OK | OK | OK | |||||||||
| Package: easyreporting | 
| Version: 1.2.0 | 
| Command: C:\Users\biocbuild\bbs-3.12-bioc\R\bin\R.exe CMD check --force-multiarch --install=check:easyreporting.install-out.txt --library=C:\Users\biocbuild\bbs-3.12-bioc\R\library --no-vignettes --timings easyreporting_1.2.0.tar.gz | 
| StartedAt: 2021-05-06 02:26:18 -0400 (Thu, 06 May 2021) | 
| EndedAt: 2021-05-06 02:26:56 -0400 (Thu, 06 May 2021) | 
| EllapsedTime: 38.4 seconds | 
| RetCode: 0 | 
| Status: OK | 
| CheckDir: easyreporting.Rcheck | 
| Warnings: 0 | 
############################################################################## ############################################################################## ### ### Running command: ### ### C:\Users\biocbuild\bbs-3.12-bioc\R\bin\R.exe CMD check --force-multiarch --install=check:easyreporting.install-out.txt --library=C:\Users\biocbuild\bbs-3.12-bioc\R\library --no-vignettes --timings easyreporting_1.2.0.tar.gz ### ############################################################################## ############################################################################## * using log directory 'C:/Users/biocbuild/bbs-3.12-bioc/meat/easyreporting.Rcheck' * using R version 4.0.5 (2021-03-31) * using platform: x86_64-w64-mingw32 (64-bit) * using session charset: ISO8859-1 * using option '--no-vignettes' * checking for file 'easyreporting/DESCRIPTION' ... OK * checking extension type ... Package * this is package 'easyreporting' version '1.2.0' * package encoding: UTF-8 * checking package namespace information ... OK * checking package dependencies ... OK * checking if this is a source package ... OK * checking if there is a namespace ... OK * checking for hidden files and directories ... OK * checking for portable file names ... OK * checking whether package 'easyreporting' can be installed ... OK * checking installed package size ... OK * checking package directory ... OK * checking 'build' directory ... OK * checking DESCRIPTION meta-information ... OK * checking top-level files ... OK * checking for left-over files ... OK * checking index information ... OK * checking package subdirectories ... OK * checking R files for non-ASCII characters ... OK * checking R files for syntax errors ... OK * loading checks for arch 'i386' ** checking whether the package can be loaded ... OK ** checking whether the package can be loaded with stated dependencies ... OK ** checking whether the package can be unloaded cleanly ... OK ** checking whether the namespace can be loaded with stated dependencies ... OK ** checking whether the namespace can be unloaded cleanly ... OK * loading checks for arch 'x64' ** checking whether the package can be loaded ... OK ** checking whether the package can be loaded with stated dependencies ... OK ** checking whether the package can be unloaded cleanly ... OK ** checking whether the namespace can be loaded with stated dependencies ... OK ** checking whether the namespace can be unloaded cleanly ... OK * checking dependencies in R code ... OK * checking S3 generic/method consistency ... OK * checking replacement functions ... OK * checking foreign function calls ... OK * checking R code for possible problems ... OK * checking Rd files ... OK * checking Rd metadata ... OK * checking Rd cross-references ... OK * checking for missing documentation entries ... OK * checking for code/documentation mismatches ... OK * checking Rd \usage sections ... OK * checking Rd contents ... OK * checking for unstated dependencies in examples ... OK * checking files in 'vignettes' ... OK * checking examples ... ** running examples for arch 'i386' ... OK ** running examples for arch 'x64' ... OK * checking for unstated dependencies in vignettes ... OK * checking package vignettes in 'inst/doc' ... OK * checking running R code from vignettes ... SKIPPED * checking re-building of vignette outputs ... SKIPPED * checking PDF version of manual ... OK * DONE Status: OK
easyreporting.Rcheck/00install.out
##############################################################################
##############################################################################
###
### Running command:
###
###   C:\cygwin\bin\curl.exe -O http://172.29.0.3/BBS/3.12/bioc/src/contrib/easyreporting_1.2.0.tar.gz && rm -rf easyreporting.buildbin-libdir && mkdir easyreporting.buildbin-libdir && C:\Users\biocbuild\bbs-3.12-bioc\R\bin\R.exe CMD INSTALL --merge-multiarch --build --library=easyreporting.buildbin-libdir easyreporting_1.2.0.tar.gz && C:\Users\biocbuild\bbs-3.12-bioc\R\bin\R.exe CMD INSTALL easyreporting_1.2.0.zip && rm easyreporting_1.2.0.tar.gz easyreporting_1.2.0.zip
###
##############################################################################
##############################################################################
  % Total    % Received % Xferd  Average Speed   Time    Time     Time  Current
                                 Dload  Upload   Total   Spent    Left  Speed
  0     0    0     0    0     0      0      0 --:--:-- --:--:-- --:--:--     0
100 1655k  100 1655k    0     0  16.1M      0 --:--:-- --:--:-- --:--:-- 16.3M
install for i386
* installing *source* package 'easyreporting' ...
** using staged installation
** R
** inst
** byte-compile and prepare package for lazy loading
** help
*** installing help indices
  converting help for package 'easyreporting'
    finding HTML links ... done
    compile-easyreporting-method            html  
    compile                                 html  
    easyreporting-class                     html  
    getOptionsList-easyreporting-method     html  
    getOptionsList                          html  
    getReportFilename-easyreporting-method
                                            html  
    getReportFilename                       html  
    initReportFilename-easyreporting-method
                                            html  
    initReportFilename                      html  
    makeOptionsList                         html  
    mkdCodeChunkCommented-easyreporting-method
                                            html  
    mkdCodeChunkCommented                   html  
    mkdCodeChunkComplete-easyreporting-method
                                            html  
    mkdCodeChunkComplete                    html  
    mkdCodeChunkEnd-easyreporting-method    html  
    mkdCodeChunkEnd                         html  
    mkdCodeChunkSt-easyreporting-method     html  
    mkdCodeChunkSt                          html  
    mkdCodeChunkTitledCommented-easyreporting-method
                                            html  
    mkdCodeChunkTitledCommented             html  
    mkdGeneralMsg-easyreporting-method      html  
    mkdGeneralMsg                           html  
    mkdGeneralTitledMsg-easyreporting-method
                                            html  
    mkdGeneralTitledMsg                     html  
    mkdSetGlobalOpts-easyreporting-method   html  
    mkdSetGlobalOpts                        html  
    mkdSourceFiles-easyreporting-method     html  
    mkdSourceFiles                          html  
    mkdTitle-easyreporting-method           html  
    mkdTitle                                html  
    mkdVariableAssignment-easyreporting-method
                                            html  
    mkdVariableAssignment                   html  
    setOptionsList-easyreporting-method     html  
    setOptionsList                          html  
** building package indices
** installing vignettes
** testing if installed package can be loaded from temporary location
** testing if installed package can be loaded from final location
** testing if installed package keeps a record of temporary installation path
install for x64
* installing *source* package 'easyreporting' ...
** testing if installed package can be loaded
* MD5 sums
packaged installation of 'easyreporting' as easyreporting_1.2.0.zip
* DONE (easyreporting)
* installing to library 'C:/Users/biocbuild/bbs-3.12-bioc/R/library'
package 'easyreporting' successfully unpacked and MD5 sums checked
| 
 easyreporting.Rcheck/examples_i386/easyreporting-Ex.timings 
  | 
 easyreporting.Rcheck/examples_x64/easyreporting-Ex.timings 
  |