| Back to Multiple platform build/check report for BioC 3.12 |
|
This page was generated on 2021-05-06 12:31:00 -0400 (Thu, 06 May 2021).
|
To the developers/maintainers of the dyebias package: Please make sure to use the following settings in order to reproduce any error or warning you see on this page. |
| Package 518/1974 | Hostname | OS / Arch | INSTALL | BUILD | CHECK | BUILD BIN | ||||||||
| dyebias 1.50.0 (landing page) Philip Lijnzaad
| malbec1 | Linux (Ubuntu 18.04.5 LTS) / x86_64 | OK | OK | OK | |||||||||
| tokay1 | Windows Server 2012 R2 Standard / x64 | OK | OK | OK | OK | |||||||||
| merida1 | macOS 10.14.6 Mojave / x86_64 | OK | OK | OK | OK | |||||||||
| Package: dyebias |
| Version: 1.50.0 |
| Command: rm -rf dyebias.buildbin-libdir && mkdir dyebias.buildbin-libdir && C:\Users\biocbuild\bbs-3.12-bioc\R\bin\R.exe CMD INSTALL --merge-multiarch --build --library=dyebias.buildbin-libdir dyebias_1.50.0.tar.gz |
| StartedAt: 2021-05-06 08:58:02 -0400 (Thu, 06 May 2021) |
| EndedAt: 2021-05-06 08:58:30 -0400 (Thu, 06 May 2021) |
| EllapsedTime: 28.0 seconds |
| RetCode: 0 |
| Status: OK |
| PackageFile: dyebias_1.50.0.zip |
| PackageFileSize: 2.129 MiB |
##############################################################################
##############################################################################
###
### Running command:
###
### rm -rf dyebias.buildbin-libdir && mkdir dyebias.buildbin-libdir && C:\Users\biocbuild\bbs-3.12-bioc\R\bin\R.exe CMD INSTALL --merge-multiarch --build --library=dyebias.buildbin-libdir dyebias_1.50.0.tar.gz
###
##############################################################################
##############################################################################
install for i386
* installing *source* package 'dyebias' ...
** using staged installation
** R
** inst
** byte-compile and prepare package for lazy loading
** help
*** installing help indices
converting help for package 'dyebias'
finding HTML links ... done
dyebias-package html
dyebias.application.subset html
dyebias.apply.correction html
dyebias.boxplot html
dyebias.estimate.iGSDBs html
dyebias.monotonicity html
dyebias.monotonicityplot html
dyebias.rgplot html
dyebias.trendplot html
** building package indices
** installing vignettes
** testing if installed package can be loaded from temporary location
** testing if installed package can be loaded from final location
** testing if installed package keeps a record of temporary installation path
install for x64
* installing *source* package 'dyebias' ...
** testing if installed package can be loaded
* MD5 sums
packaged installation of 'dyebias' as dyebias_1.50.0.zip
* DONE (dyebias)