| Back to Multiple platform build/check report for BioC 3.12 |
|
This page was generated on 2021-05-06 12:34:48 -0400 (Thu, 06 May 2021).
|
To the developers/maintainers of the divergence package: Please make sure to use the following settings in order to reproduce any error or warning you see on this page. |
| Package 489/1974 | Hostname | OS / Arch | INSTALL | BUILD | CHECK | BUILD BIN | ||||||||
| divergence 1.6.0 (landing page) Wikum Dinalankara
| malbec1 | Linux (Ubuntu 18.04.5 LTS) / x86_64 | OK | OK | OK | |||||||||
| tokay1 | Windows Server 2012 R2 Standard / x64 | OK | OK | OK | OK | |||||||||
| merida1 | macOS 10.14.6 Mojave / x86_64 | OK | OK | OK | OK | |||||||||
| Package: divergence |
| Version: 1.6.0 |
| Command: /Library/Frameworks/R.framework/Versions/Current/Resources/bin/R CMD check --install=check:divergence.install-out.txt --library=/Library/Frameworks/R.framework/Versions/Current/Resources/library --no-vignettes --timings divergence_1.6.0.tar.gz |
| StartedAt: 2021-05-06 01:11:55 -0400 (Thu, 06 May 2021) |
| EndedAt: 2021-05-06 01:15:01 -0400 (Thu, 06 May 2021) |
| EllapsedTime: 185.6 seconds |
| RetCode: 0 |
| Status: OK |
| CheckDir: divergence.Rcheck |
| Warnings: 0 |
##############################################################################
##############################################################################
###
### Running command:
###
### /Library/Frameworks/R.framework/Versions/Current/Resources/bin/R CMD check --install=check:divergence.install-out.txt --library=/Library/Frameworks/R.framework/Versions/Current/Resources/library --no-vignettes --timings divergence_1.6.0.tar.gz
###
##############################################################################
##############################################################################
* using log directory ‘/Users/biocbuild/bbs-3.12-bioc/meat/divergence.Rcheck’
* using R version 4.0.5 (2021-03-31)
* using platform: x86_64-apple-darwin17.0 (64-bit)
* using session charset: UTF-8
* using option ‘--no-vignettes’
* checking for file ‘divergence/DESCRIPTION’ ... OK
* this is package ‘divergence’ version ‘1.6.0’
* package encoding: UTF-8
* checking package namespace information ... OK
* checking package dependencies ... OK
* checking if this is a source package ... OK
* checking if there is a namespace ... OK
* checking for hidden files and directories ... OK
* checking for portable file names ... OK
* checking for sufficient/correct file permissions ... OK
* checking whether package ‘divergence’ can be installed ... OK
* checking installed package size ... OK
* checking package directory ... OK
* checking ‘build’ directory ... OK
* checking DESCRIPTION meta-information ... OK
* checking top-level files ... NOTE
File
LICENSE
is not mentioned in the DESCRIPTION file.
* checking for left-over files ... OK
* checking index information ... OK
* checking package subdirectories ... OK
* checking R files for non-ASCII characters ... OK
* checking R files for syntax errors ... OK
* checking whether the package can be loaded ... OK
* checking whether the package can be loaded with stated dependencies ... OK
* checking whether the package can be unloaded cleanly ... OK
* checking whether the namespace can be loaded with stated dependencies ... OK
* checking whether the namespace can be unloaded cleanly ... OK
* checking dependencies in R code ... OK
* checking S3 generic/method consistency ... OK
* checking replacement functions ... OK
* checking foreign function calls ... OK
* checking R code for possible problems ... NOTE
check_SE: no visible binding for global variable ‘data’
computeSingleFeaturesetBinaryVector: no visible global function
definition for ‘dist’
computeSingleFeaturesetSupport: no visible global function definition
for ‘dist’
computeSingleFeaturesetSupport: no visible global function definition
for ‘quantile’
computeSingleRange: no visible global function definition for
‘quantile’
getRangesBySections: no visible global function definition for
‘detectCores’
rowChiSq: no visible global function definition for ‘chisq.test’
rowChiSq: no visible global function definition for ‘xtabs’
Undefined global functions or variables:
chisq.test data detectCores dist quantile xtabs
Consider adding
importFrom("stats", "chisq.test", "dist", "quantile", "xtabs")
importFrom("utils", "data")
to your NAMESPACE file.
* checking Rd files ... OK
* checking Rd metadata ... OK
* checking Rd cross-references ... OK
* checking for missing documentation entries ... OK
* checking for code/documentation mismatches ... OK
* checking Rd \usage sections ... OK
* checking Rd contents ... OK
* checking for unstated dependencies in examples ... OK
* checking contents of ‘data’ directory ... OK
* checking data for non-ASCII characters ... OK
* checking data for ASCII and uncompressed saves ... OK
* checking files in ‘vignettes’ ... OK
* checking examples ... OK
Examples with CPU (user + system) or elapsed time > 5s
user system elapsed
findUnivariateGammaWithSupport 41.272 29.546 5.650
computeChiSquaredTest 43.271 26.719 6.453
computeUnivariateDigitization 41.105 25.936 5.636
computeMultivariateDigitization 5.608 0.304 5.916
computeUnivariateSupport 3.724 2.095 0.523
computeUnivariateTernaryMatrix 3.762 1.931 0.820
* checking for unstated dependencies in vignettes ... OK
* checking package vignettes in ‘inst/doc’ ... OK
* checking running R code from vignettes ... SKIPPED
* checking re-building of vignette outputs ... SKIPPED
* checking PDF version of manual ... OK
* DONE
Status: 2 NOTEs
See
‘/Users/biocbuild/bbs-3.12-bioc/meat/divergence.Rcheck/00check.log’
for details.
divergence.Rcheck/00install.out
############################################################################## ############################################################################## ### ### Running command: ### ### /Library/Frameworks/R.framework/Versions/Current/Resources/bin/R CMD INSTALL divergence ### ############################################################################## ############################################################################## * installing to library ‘/Library/Frameworks/R.framework/Versions/4.0/Resources/library’ * installing *source* package ‘divergence’ ... ** using staged installation ** R ** data *** moving datasets to lazyload DB ** byte-compile and prepare package for lazy loading ** help *** installing help indices ** building package indices ** installing vignettes ** testing if installed package can be loaded from temporary location ** testing if installed package can be loaded from final location ** testing if installed package keeps a record of temporary installation path * DONE (divergence)
divergence.Rcheck/divergence-Ex.timings
| name | user | system | elapsed | |
| computeChiSquaredTest | 43.271 | 26.719 | 6.453 | |
| computeMultivariateBinaryMatrix | 2.147 | 0.191 | 2.339 | |
| computeMultivariateDigitization | 5.608 | 0.304 | 5.916 | |
| computeMultivariateSupport | 0.479 | 0.021 | 0.501 | |
| computeQuantileMatrix | 0.072 | 0.000 | 0.074 | |
| computeUnivariateDigitization | 41.105 | 25.936 | 5.636 | |
| computeUnivariateSupport | 3.724 | 2.095 | 0.523 | |
| computeUnivariateTernaryMatrix | 3.762 | 1.931 | 0.820 | |
| findMultivariateGammaWithSupport | 0.798 | 0.074 | 0.873 | |
| findUnivariateGammaWithSupport | 41.272 | 29.546 | 5.650 | |