| Back to Multiple platform build/check report for BioC 3.12 |
|
This page was generated on 2021-05-06 12:27:13 -0400 (Thu, 06 May 2021).
|
To the developers/maintainers of the cola package: Please make sure to use the following settings in order to reproduce any error or warning you see on this page. |
| Package 354/1974 | Hostname | OS / Arch | INSTALL | BUILD | CHECK | BUILD BIN | ||||||||
| cola 1.6.0 (landing page) Zuguang Gu
| malbec1 | Linux (Ubuntu 18.04.5 LTS) / x86_64 | OK | OK | OK | |||||||||
| tokay1 | Windows Server 2012 R2 Standard / x64 | OK | OK | OK | OK | |||||||||
| merida1 | macOS 10.14.6 Mojave / x86_64 | OK | OK | OK | OK | |||||||||
| Package: cola |
| Version: 1.6.0 |
| Command: /home/biocbuild/bbs-3.12-bioc/R/bin/R CMD check --install=check:cola.install-out.txt --library=/home/biocbuild/bbs-3.12-bioc/R/library --no-vignettes --timings cola_1.6.0.tar.gz |
| StartedAt: 2021-05-06 00:19:30 -0400 (Thu, 06 May 2021) |
| EndedAt: 2021-05-06 00:22:43 -0400 (Thu, 06 May 2021) |
| EllapsedTime: 192.9 seconds |
| RetCode: 0 |
| Status: OK |
| CheckDir: cola.Rcheck |
| Warnings: 0 |
##############################################################################
##############################################################################
###
### Running command:
###
### /home/biocbuild/bbs-3.12-bioc/R/bin/R CMD check --install=check:cola.install-out.txt --library=/home/biocbuild/bbs-3.12-bioc/R/library --no-vignettes --timings cola_1.6.0.tar.gz
###
##############################################################################
##############################################################################
* using log directory ‘/home/biocbuild/bbs-3.12-bioc/meat/cola.Rcheck’
* using R version 4.0.5 (2021-03-31)
* using platform: x86_64-pc-linux-gnu (64-bit)
* using session charset: UTF-8
* using option ‘--no-vignettes’
* checking for file ‘cola/DESCRIPTION’ ... OK
* checking extension type ... Package
* this is package ‘cola’ version ‘1.6.0’
* checking package namespace information ... OK
* checking package dependencies ... OK
* checking if this is a source package ... OK
* checking if there is a namespace ... OK
* checking for hidden files and directories ... OK
* checking for portable file names ... OK
* checking for sufficient/correct file permissions ... OK
* checking whether package ‘cola’ can be installed ... OK
* checking installed package size ... NOTE
installed size is 7.4Mb
sub-directories of 1Mb or more:
data 3.8Mb
extdata 1.0Mb
libs 1.4Mb
* checking package directory ... OK
* checking ‘build’ directory ... OK
* checking DESCRIPTION meta-information ... OK
* checking top-level files ... OK
* checking for left-over files ... OK
* checking index information ... OK
* checking package subdirectories ... OK
* checking R files for non-ASCII characters ... OK
* checking R files for syntax errors ... OK
* checking whether the package can be loaded ... OK
* checking whether the package can be loaded with stated dependencies ... OK
* checking whether the package can be unloaded cleanly ... OK
* checking whether the namespace can be loaded with stated dependencies ... OK
* checking whether the namespace can be unloaded cleanly ... OK
* checking dependencies in R code ... OK
* checking S3 generic/method consistency ... OK
* checking replacement functions ... OK
* checking foreign function calls ... OK
* checking R code for possible problems ... OK
* checking Rd files ... OK
* checking Rd metadata ... OK
* checking Rd cross-references ... OK
* checking for missing documentation entries ... OK
* checking for code/documentation mismatches ... OK
* checking Rd \usage sections ... OK
* checking Rd contents ... OK
* checking for unstated dependencies in examples ... OK
* checking contents of ‘data’ directory ... OK
* checking data for non-ASCII characters ... OK
* checking data for ASCII and uncompressed saves ... OK
* checking line endings in C/C++/Fortran sources/headers ... OK
* checking compiled code ... NOTE
Note: information on .o files is not available
File ‘/home/biocbuild/bbs-3.12-bioc/R/library/cola/libs/cola.so’:
Found ‘rand’, possibly from ‘rand’ (C)
Compiled code should not call entry points which might terminate R nor
write to stdout/stderr instead of to the console, nor use Fortran I/O
nor system RNGs. The detected symbols are linked into the code but
might come from libraries and not actually be called.
See ‘Writing portable packages’ in the ‘Writing R Extensions’ manual.
* checking files in ‘vignettes’ ... OK
* checking examples ... OK
Examples with CPU (user + system) or elapsed time > 5s
user system elapsed
consensus_partition 34.048 0.140 34.267
get_signatures-ConsensusPartition-method 7.588 0.064 7.574
compare_signatures-HierarchicalPartition-method 5.760 0.108 5.895
collect_classes-ConsensusPartitionList-method 5.432 0.040 5.496
* checking for unstated dependencies in ‘tests’ ... OK
* checking tests ...
Running ‘test-all.R’
OK
* checking for unstated dependencies in vignettes ... OK
* checking package vignettes in ‘inst/doc’ ... OK
* checking running R code from vignettes ... SKIPPED
* checking re-building of vignette outputs ... SKIPPED
* checking PDF version of manual ... OK
* DONE
Status: 2 NOTEs
See
‘/home/biocbuild/bbs-3.12-bioc/meat/cola.Rcheck/00check.log’
for details.
cola.Rcheck/00install.out
############################################################################## ############################################################################## ### ### Running command: ### ### /home/biocbuild/bbs-3.12-bioc/R/bin/R CMD INSTALL cola ### ############################################################################## ############################################################################## * installing to library ‘/home/biocbuild/bbs-3.12-bioc/R/library’ * installing *source* package ‘cola’ ... ** using staged installation ** libs g++ -std=gnu++11 -I"/home/biocbuild/bbs-3.12-bioc/R/include" -DNDEBUG -I'/home/biocbuild/bbs-3.12-bioc/R/library/Rcpp/include' -I/usr/local/include -fpic -g -O2 -Wall -c RcppExports.cpp -o RcppExports.o g++ -std=gnu++11 -I"/home/biocbuild/bbs-3.12-bioc/R/include" -DNDEBUG -I'/home/biocbuild/bbs-3.12-bioc/R/library/Rcpp/include' -I/usr/local/include -fpic -g -O2 -Wall -c cal_consensus_mat.cpp -o cal_consensus_mat.o g++ -std=gnu++11 -I"/home/biocbuild/bbs-3.12-bioc/R/include" -DNDEBUG -I'/home/biocbuild/bbs-3.12-bioc/R/library/Rcpp/include' -I/usr/local/include -fpic -g -O2 -Wall -c pdist.cpp -o pdist.o g++ -std=gnu++11 -shared -L/home/biocbuild/bbs-3.12-bioc/R/lib -L/usr/local/lib -o cola.so RcppExports.o cal_consensus_mat.o pdist.o -L/home/biocbuild/bbs-3.12-bioc/R/lib -lR installing to /home/biocbuild/bbs-3.12-bioc/R/library/00LOCK-cola/00new/cola/libs ** R ** data ** inst ** byte-compile and prepare package for lazy loading ** help *** installing help indices ** building package indices ** installing vignettes ** testing if installed package can be loaded from temporary location ** checking absolute paths in shared objects and dynamic libraries ** testing if installed package can be loaded from final location ** testing if installed package keeps a record of temporary installation path * DONE (cola)
cola.Rcheck/tests/test-all.Rout
R version 4.0.5 (2021-03-31) -- "Shake and Throw"
Copyright (C) 2021 The R Foundation for Statistical Computing
Platform: x86_64-pc-linux-gnu (64-bit)
R is free software and comes with ABSOLUTELY NO WARRANTY.
You are welcome to redistribute it under certain conditions.
Type 'license()' or 'licence()' for distribution details.
R is a collaborative project with many contributors.
Type 'contributors()' for more information and
'citation()' on how to cite R or R packages in publications.
Type 'demo()' for some demos, 'help()' for on-line help, or
'help.start()' for an HTML browser interface to help.
Type 'q()' to quit R.
> library(testthat)
> suppressWarnings(suppressPackageStartupMessages(library(cola)))
>
> test_check("cola")
[ FAIL 0 | WARN 0 | SKIP 0 | PASS 12 ]
>
>
> proc.time()
user system elapsed
4.272 0.140 4.428
cola.Rcheck/cola-Ex.timings
| name | user | system | elapsed | |
| ATC | 0.132 | 0.020 | 0.152 | |
| ConsensusPartition-class | 0 | 0 | 0 | |
| ConsensusPartitionList-class | 0 | 0 | 0 | |
| DownSamplingConsensusPartition-class | 0 | 0 | 0 | |
| Extract.ConsensusPartitionList | 0.712 | 0.044 | 0.759 | |
| Extract.HierarchicalPartition | 0.216 | 0.000 | 0.217 | |
| ExtractExtract.ConsensusPartitionList | 0.380 | 0.008 | 0.386 | |
| ExtractExtract.HierarchicalPartition | 0 | 0 | 0 | |
| FCC | 0.372 | 0.012 | 0.387 | |
| HierarchicalPartition-class | 0 | 0 | 0 | |
| PAC | 0.560 | 0.016 | 0.576 | |
| aPAC | 0.276 | 0.008 | 0.285 | |
| adjust_matrix | 0.012 | 0.000 | 0.011 | |
| adjust_outlier | 0.000 | 0.004 | 0.000 | |
| all_leaves-HierarchicalPartition-method | 0.164 | 0.012 | 0.178 | |
| all_nodes-HierarchicalPartition-method | 0.180 | 0.000 | 0.178 | |
| all_partition_methods | 0.004 | 0.000 | 0.002 | |
| all_top_value_methods | 0 | 0 | 0 | |
| cola | 0.088 | 0.004 | 0.090 | |
| cola_opt | 0.048 | 0.000 | 0.049 | |
| cola_report-ConsensusPartition-method | 0 | 0 | 0 | |
| cola_report-ConsensusPartitionList-method | 0 | 0 | 0 | |
| cola_report-HierarchicalPartition-method | 0 | 0 | 0 | |
| cola_report-dispatch | 0 | 0 | 0 | |
| cola_rl | 0.200 | 0.000 | 0.198 | |
| collect_classes-ConsensusPartition-method | 2.272 | 0.024 | 2.298 | |
| collect_classes-ConsensusPartitionList-method | 5.432 | 0.040 | 5.496 | |
| collect_classes-HierarchicalPartition-method | 1.824 | 0.012 | 1.840 | |
| collect_classes-dispatch | 0 | 0 | 0 | |
| collect_plots-ConsensusPartition-method | 0 | 0 | 0 | |
| collect_plots-ConsensusPartitionList-method | 0 | 0 | 0 | |
| collect_plots-dispatch | 0 | 0 | 0 | |
| collect_stats-ConsensusPartition-method | 0 | 0 | 0 | |
| collect_stats-ConsensusPartitionList-method | 0.552 | 0.004 | 0.556 | |
| collect_stats-dispatch | 0 | 0 | 0 | |
| colnames-ConsensusPartition-method | 0 | 0 | 0 | |
| colnames-ConsensusPartitionList-method | 0 | 0 | 0 | |
| colnames-DownSamplingConsensusPartition-method | 0.000 | 0.000 | 0.001 | |
| colnames-HierarchicalPartition-method | 0.000 | 0.000 | 0.001 | |
| colnames-dispatch | 0.000 | 0.000 | 0.001 | |
| compare_signatures-ConsensusPartition-method | 0 | 0 | 0 | |
| compare_signatures-HierarchicalPartition-method | 5.760 | 0.108 | 5.895 | |
| compare_signatures-dispatch | 0 | 0 | 0 | |
| concordance | 0.328 | 0.008 | 0.334 | |
| consensus_heatmap-ConsensusPartition-method | 0.796 | 0.016 | 0.812 | |
| consensus_partition | 34.048 | 0.140 | 34.267 | |
| consensus_partition_by_down_sampling | 0 | 0 | 0 | |
| correspond_between_rankings | 0.08 | 0.00 | 0.08 | |
| correspond_between_two_rankings | 0.044 | 0.000 | 0.043 | |
| david_enrichment | 0 | 0 | 0 | |
| dim.ConsensusPartition | 0 | 0 | 0 | |
| dim.ConsensusPartitionList | 0.000 | 0.000 | 0.001 | |
| dim.DownSamplingConsensusPartition | 0.000 | 0.000 | 0.001 | |
| dim.HierarchicalPartition | 0.000 | 0.000 | 0.001 | |
| dimension_reduction-ConsensusPartition-method | 1.160 | 0.012 | 1.172 | |
| dimension_reduction-DownSamplingConsensusPartition-method | 1.488 | 0.012 | 1.502 | |
| dimension_reduction-HierarchicalPartition-method | 0 | 0 | 0 | |
| dimension_reduction-dispatch | 0 | 0 | 0 | |
| dimension_reduction-matrix-method | 0 | 0 | 0 | |
| find_best_km | 0 | 0 | 0 | |
| functional_enrichment-ANY-method | 0 | 0 | 0 | |
| functional_enrichment-ConsensusPartition-method | 0 | 0 | 0 | |
| functional_enrichment-ConsensusPartitionList-method | 0.004 | 0.000 | 0.001 | |
| functional_enrichment-dispatch | 0 | 0 | 0 | |
| get_anno-ConsensusPartition-method | 0 | 0 | 0 | |
| get_anno-ConsensusPartitionList-method | 0 | 0 | 0 | |
| get_anno-DownSamplingConsensusPartition-method | 0.084 | 0.004 | 0.089 | |
| get_anno-HierarchicalPartition-method | 0.000 | 0.004 | 0.001 | |
| get_anno-dispatch | 0 | 0 | 0 | |
| get_anno_col-ConsensusPartition-method | 0 | 0 | 0 | |
| get_anno_col-ConsensusPartitionList-method | 0 | 0 | 0 | |
| get_anno_col-HierarchicalPartition-method | 0 | 0 | 0 | |
| get_anno_col-dispatch | 0.000 | 0.000 | 0.001 | |
| get_classes-ConsensusPartition-method | 0.204 | 0.012 | 0.215 | |
| get_classes-ConsensusPartitionList-method | 0.228 | 0.008 | 0.235 | |
| get_classes-DownSamplingConsensusPartition-method | 0.148 | 0.004 | 0.154 | |
| get_classes-HierarchicalPartition-method | 0 | 0 | 0 | |
| get_classes-dispatch | 0.000 | 0.000 | 0.001 | |
| get_consensus-ConsensusPartition-method | 0.368 | 0.032 | 0.400 | |
| get_matrix-ConsensusPartition-method | 0.624 | 0.228 | 0.852 | |
| get_matrix-ConsensusPartitionList-method | 0.720 | 0.212 | 0.932 | |
| get_matrix-HierarchicalPartition-method | 0.000 | 0.000 | 0.001 | |
| get_matrix-dispatch | 0 | 0 | 0 | |
| get_membership-ConsensusPartition-method | 0.364 | 0.040 | 0.403 | |
| get_membership-ConsensusPartitionList-method | 0.324 | 0.012 | 0.338 | |
| get_membership-dispatch | 0.004 | 0.000 | 0.000 | |
| get_param-ConsensusPartition-method | 0.372 | 0.012 | 0.386 | |
| get_signatures-ConsensusPartition-method | 7.588 | 0.064 | 7.574 | |
| get_signatures-DownSamplingConsensusPartition-method | 0 | 0 | 0 | |
| get_signatures-HierarchicalPartition-method | 0 | 0 | 0 | |
| get_signatures-dispatch | 0 | 0 | 0 | |
| get_stats-ConsensusPartition-method | 0.328 | 0.008 | 0.334 | |
| get_stats-ConsensusPartitionList-method | 0.348 | 0.004 | 0.351 | |
| get_stats-dispatch | 0.000 | 0.000 | 0.001 | |
| golub_cola | 0.380 | 0.012 | 0.395 | |
| golub_cola_ds | 0.176 | 0.008 | 0.184 | |
| golub_cola_rh | 0.224 | 0.012 | 0.236 | |
| hierarchical_partition | 0 | 0 | 0 | |
| is_best_k-ConsensusPartition-method | 0.332 | 0.016 | 0.347 | |
| is_best_k-ConsensusPartitionList-method | 0.312 | 0.016 | 0.327 | |
| is_best_k-dispatch | 0 | 0 | 0 | |
| is_stable_k-ConsensusPartition-method | 0.316 | 0.016 | 0.330 | |
| is_stable_k-ConsensusPartitionList-method | 0.348 | 0.004 | 0.353 | |
| is_stable_k-dispatch | 0 | 0 | 0 | |
| knitr_add_tab_item | 0 | 0 | 0 | |
| knitr_insert_tabs | 0 | 0 | 0 | |
| map_to_entrez_id | 0 | 0 | 0 | |
| max_depth-HierarchicalPartition-method | 0.116 | 0.000 | 0.117 | |
| membership_heatmap-ConsensusPartition-method | 0.800 | 0.028 | 0.828 | |
| ncol-ConsensusPartition-method | 0 | 0 | 0 | |
| ncol-ConsensusPartitionList-method | 0 | 0 | 0 | |
| ncol-DownSamplingConsensusPartition-method | 0 | 0 | 0 | |
| ncol-HierarchicalPartition-method | 0 | 0 | 0 | |
| ncol-dispatch | 0 | 0 | 0 | |
| nrow-ConsensusPartition-method | 0 | 0 | 0 | |
| nrow-ConsensusPartitionList-method | 0.000 | 0.000 | 0.001 | |
| nrow-HierarchicalPartition-method | 0 | 0 | 0 | |
| nrow-dispatch | 0 | 0 | 0 | |
| plot_ecdf-ConsensusPartition-method | 0.296 | 0.004 | 0.301 | |
| predict_classes-ConsensusPartition-method | 0 | 0 | 0 | |
| predict_classes-dispatch | 0 | 0 | 0 | |
| predict_classes-matrix-method | 0 | 0 | 0 | |
| recalc_stats | 0 | 0 | 0 | |
| register_NMF | 0 | 0 | 0 | |
| register_SOM | 0 | 0 | 0 | |
| register_partition_methods | 0.516 | 0.156 | 0.675 | |
| register_top_value_methods | 0.032 | 0.000 | 0.030 | |
| relabel_class | 0.012 | 0.004 | 0.013 | |
| remove_partition_methods | 0 | 0 | 0 | |
| remove_top_value_methods | 0 | 0 | 0 | |
| rownames-ConsensusPartition-method | 0 | 0 | 0 | |
| rownames-ConsensusPartitionList-method | 0 | 0 | 0 | |
| rownames-HierarchicalPartition-method | 0 | 0 | 0 | |
| rownames-dispatch | 0 | 0 | 0 | |
| run_all_consensus_partition_methods | 0.004 | 0.000 | 0.000 | |
| select_partition_number-ConsensusPartition-method | 0.352 | 0.012 | 0.366 | |
| show-ConsensusPartition-method | 0.000 | 0.000 | 0.001 | |
| show-ConsensusPartitionList-method | 0.000 | 0.000 | 0.001 | |
| show-DownSamplingConsensusPartition-method | 0.164 | 0.008 | 0.176 | |
| show-HierarchicalPartition-method | 0.000 | 0.000 | 0.001 | |
| show-dispatch | 0.000 | 0.000 | 0.001 | |
| suggest_best_k-ConsensusPartition-method | 0.272 | 0.012 | 0.285 | |
| suggest_best_k-ConsensusPartitionList-method | 0.208 | 0.008 | 0.215 | |
| suggest_best_k-HierarchicalPartition-method | 0.116 | 0.000 | 0.118 | |
| suggest_best_k-dispatch | 0 | 0 | 0 | |
| test_between_factors | 0.008 | 0.000 | 0.009 | |
| test_to_known_factors-ConsensusPartition-method | 0.216 | 0.012 | 0.228 | |
| test_to_known_factors-ConsensusPartitionList-method | 0.372 | 0.008 | 0.381 | |
| test_to_known_factors-DownSamplingConsensusPartition-method | 0.108 | 0.008 | 0.114 | |
| test_to_known_factors-HierarchicalPartition-method | 0.124 | 0.000 | 0.124 | |
| test_to_known_factors-dispatch | 0 | 0 | 0 | |
| top_elements_overlap | 0.348 | 0.000 | 0.347 | |
| top_rows_heatmap-ConsensusPartitionList-method | 0 | 0 | 0 | |
| top_rows_heatmap-dispatch | 0 | 0 | 0 | |
| top_rows_heatmap-matrix-method | 1.280 | 0.004 | 1.279 | |
| top_rows_overlap-ConsensusPartitionList-method | 1.216 | 0.016 | 1.231 | |
| top_rows_overlap-dispatch | 0 | 0 | 0 | |
| top_rows_overlap-matrix-method | 0.536 | 0.000 | 0.535 | |