| Back to Multiple platform build/check report for BioC 3.12 |
|
This page was generated on 2021-05-06 12:30:11 -0400 (Thu, 06 May 2021).
|
To the developers/maintainers of the cfDNAPro package: Please make sure to use the following settings in order to reproduce any error or warning you see on this page. |
| Package 266/1974 | Hostname | OS / Arch | INSTALL | BUILD | CHECK | BUILD BIN | ||||||||
| cfDNAPro 1.0.0 (landing page) Haichao Wang
| malbec1 | Linux (Ubuntu 18.04.5 LTS) / x86_64 | OK | OK | OK | |||||||||
| tokay1 | Windows Server 2012 R2 Standard / x64 | OK | OK | OK | OK | |||||||||
| merida1 | macOS 10.14.6 Mojave / x86_64 | OK | OK | OK | OK | |||||||||
| Package: cfDNAPro |
| Version: 1.0.0 |
| Command: C:\cygwin\bin\curl.exe -O http://172.29.0.3/BBS/3.12/bioc/src/contrib/cfDNAPro_1.0.0.tar.gz && rm -rf cfDNAPro.buildbin-libdir && mkdir cfDNAPro.buildbin-libdir && C:\Users\biocbuild\bbs-3.12-bioc\R\bin\R.exe CMD INSTALL --merge-multiarch --build --library=cfDNAPro.buildbin-libdir cfDNAPro_1.0.0.tar.gz && C:\Users\biocbuild\bbs-3.12-bioc\R\bin\R.exe CMD INSTALL cfDNAPro_1.0.0.zip && rm cfDNAPro_1.0.0.tar.gz cfDNAPro_1.0.0.zip |
| StartedAt: 2021-05-05 17:37:51 -0400 (Wed, 05 May 2021) |
| EndedAt: 2021-05-05 17:39:10 -0400 (Wed, 05 May 2021) |
| EllapsedTime: 78.9 seconds |
| RetCode: 0 |
| Status: OK |
##############################################################################
##############################################################################
###
### Running command:
###
### C:\cygwin\bin\curl.exe -O http://172.29.0.3/BBS/3.12/bioc/src/contrib/cfDNAPro_1.0.0.tar.gz && rm -rf cfDNAPro.buildbin-libdir && mkdir cfDNAPro.buildbin-libdir && C:\Users\biocbuild\bbs-3.12-bioc\R\bin\R.exe CMD INSTALL --merge-multiarch --build --library=cfDNAPro.buildbin-libdir cfDNAPro_1.0.0.tar.gz && C:\Users\biocbuild\bbs-3.12-bioc\R\bin\R.exe CMD INSTALL cfDNAPro_1.0.0.zip && rm cfDNAPro_1.0.0.tar.gz cfDNAPro_1.0.0.zip
###
##############################################################################
##############################################################################
% Total % Received % Xferd Average Speed Time Time Time Current
Dload Upload Total Spent Left Speed
0 0 0 0 0 0 0 0 --:--:-- --:--:-- --:--:-- 0
1 666k 1 9977 0 0 25905 0 0:00:26 --:--:-- 0:00:26 25914
100 666k 100 666k 0 0 1706k 0 --:--:-- --:--:-- --:--:-- 1709k
install for i386
* installing *source* package 'cfDNAPro' ...
** using staged installation
** R
** inst
** byte-compile and prepare package for lazy loading
** help
*** installing help indices
converting help for package 'cfDNAPro'
finding HTML links ... done
callMetrics html
callMode html
callPeakDistance html
callSize html
callValleyDistance html
examplePath html
plotAllToOne html
plotMetrics html
plotMode html
plotModesummary html
plotPeakDistance html
plotSinglegroup html
plotValleyDistance html
** building package indices
** installing vignettes
** testing if installed package can be loaded from temporary location
** testing if installed package can be loaded from final location
** testing if installed package keeps a record of temporary installation path
install for x64
* installing *source* package 'cfDNAPro' ...
** testing if installed package can be loaded
* MD5 sums
packaged installation of 'cfDNAPro' as cfDNAPro_1.0.0.zip
* DONE (cfDNAPro)
* installing to library 'C:/Users/biocbuild/bbs-3.12-bioc/R/library'
package 'cfDNAPro' successfully unpacked and MD5 sums checked